BEGIN:VCALENDAR
VERSION:2.0
PRODID:-//Sea to Sky Hospice Society - ECPv6.15.12.2//NONSGML v1.0//EN
CALSCALE:GREGORIAN
METHOD:PUBLISH
X-WR-CALNAME:Sea to Sky Hospice Society
X-ORIGINAL-URL:https://seatoskyhospicesociety.ca
X-WR-CALDESC:Events for Sea to Sky Hospice Society
REFRESH-INTERVAL;VALUE=DURATION:PT1H
X-Robots-Tag:noindex
X-PUBLISHED-TTL:PT1H
BEGIN:VTIMEZONE
TZID:America/Los_Angeles
BEGIN:DAYLIGHT
TZOFFSETFROM:-0800
TZOFFSETTO:-0700
TZNAME:PDT
DTSTART:20220313T100000
END:DAYLIGHT
BEGIN:STANDARD
TZOFFSETFROM:-0700
TZOFFSETTO:-0800
TZNAME:PST
DTSTART:20221106T090000
END:STANDARD
BEGIN:DAYLIGHT
TZOFFSETFROM:-0800
TZOFFSETTO:-0700
TZNAME:PDT
DTSTART:20230312T100000
END:DAYLIGHT
BEGIN:STANDARD
TZOFFSETFROM:-0700
TZOFFSETTO:-0800
TZNAME:PST
DTSTART:20231105T090000
END:STANDARD
BEGIN:DAYLIGHT
TZOFFSETFROM:-0800
TZOFFSETTO:-0700
TZNAME:PDT
DTSTART:20240310T100000
END:DAYLIGHT
BEGIN:STANDARD
TZOFFSETFROM:-0700
TZOFFSETTO:-0800
TZNAME:PST
DTSTART:20241103T090000
END:STANDARD
END:VTIMEZONE
BEGIN:VEVENT
DTSTART;TZID=America/Los_Angeles:20230406T100000
DTEND;TZID=America/Los_Angeles:20230406T110000
DTSTAMP:20260423T181542
CREATED:20230307T175448Z
LAST-MODIFIED:20230309T045816Z
UID:10000238-1680775200-1680778800@seatoskyhospicesociety.ca
SUMMARY:Squamish Drop In Bereavement Walk
DESCRIPTION:Don’t forget\, our Bereavement Walks begin this Thursday\, March 9th at 10am at the Squamish Valley Golf Club. There is lots of parking and the weather forecast is for sun. We welcome anyone with the need for a supportive walk on beautiful trails. \nAre you Grieving the Loss of a Loved One? \nJoin us for a Volunteer led Bereavement Walk \nWeekly on Thursdays at 10:00AM \nMarch 9th – April 6th \nAt the Squamish Valley Golf Club \n  \nThis group will now park & meet outside the front doors of the Squamish Valley Golf Club \n(while Squamish Adventure Centre is closed for renovations) \n  \nLook for the Sea to Sky Hospice Society Volunteers with their green backpacks!
URL:https://seatoskyhospicesociety.ca/event/squamish-drop-in-bereavement-walk-2/2023-04-06/
LOCATION:Squamish Valley Golf Club\, 2458 Mamquam Road\, Squamish\, BC\, V8B 0H8\, Canada
CATEGORIES:Bereavement
ATTACH;FMTTYPE=image/jpeg:https://seatoskyhospicesociety.ca/wp-content/uploads/2023/02/smaller-crocus.jpg
ORGANIZER;CN="Sea to Sky Hospice Society":MAILTO:info@seatoskyhospicesociety.ca
END:VEVENT
BEGIN:VEVENT
DTSTART;TZID=America/Los_Angeles:20230330T100000
DTEND;TZID=America/Los_Angeles:20230330T110000
DTSTAMP:20260423T181542
CREATED:20230307T175448Z
LAST-MODIFIED:20230309T045816Z
UID:10000237-1680170400-1680174000@seatoskyhospicesociety.ca
SUMMARY:Squamish Drop In Bereavement Walk
DESCRIPTION:Don’t forget\, our Bereavement Walks begin this Thursday\, March 9th at 10am at the Squamish Valley Golf Club. There is lots of parking and the weather forecast is for sun. We welcome anyone with the need for a supportive walk on beautiful trails. \nAre you Grieving the Loss of a Loved One? \nJoin us for a Volunteer led Bereavement Walk \nWeekly on Thursdays at 10:00AM \nMarch 9th – April 6th \nAt the Squamish Valley Golf Club \n  \nThis group will now park & meet outside the front doors of the Squamish Valley Golf Club \n(while Squamish Adventure Centre is closed for renovations) \n  \nLook for the Sea to Sky Hospice Society Volunteers with their green backpacks!
URL:https://seatoskyhospicesociety.ca/event/squamish-drop-in-bereavement-walk-2/2023-03-30/
LOCATION:Squamish Valley Golf Club\, 2458 Mamquam Road\, Squamish\, BC\, V8B 0H8\, Canada
CATEGORIES:Bereavement
ATTACH;FMTTYPE=image/jpeg:https://seatoskyhospicesociety.ca/wp-content/uploads/2023/02/smaller-crocus.jpg
ORGANIZER;CN="Sea to Sky Hospice Society":MAILTO:info@seatoskyhospicesociety.ca
END:VEVENT
BEGIN:VEVENT
DTSTART;TZID=America/Los_Angeles:20230323T100000
DTEND;TZID=America/Los_Angeles:20230323T110000
DTSTAMP:20260423T181542
CREATED:20230307T175448Z
LAST-MODIFIED:20230309T045816Z
UID:10000236-1679565600-1679569200@seatoskyhospicesociety.ca
SUMMARY:Squamish Drop In Bereavement Walk
DESCRIPTION:Don’t forget\, our Bereavement Walks begin this Thursday\, March 9th at 10am at the Squamish Valley Golf Club. There is lots of parking and the weather forecast is for sun. We welcome anyone with the need for a supportive walk on beautiful trails. \nAre you Grieving the Loss of a Loved One? \nJoin us for a Volunteer led Bereavement Walk \nWeekly on Thursdays at 10:00AM \nMarch 9th – April 6th \nAt the Squamish Valley Golf Club \n  \nThis group will now park & meet outside the front doors of the Squamish Valley Golf Club \n(while Squamish Adventure Centre is closed for renovations) \n  \nLook for the Sea to Sky Hospice Society Volunteers with their green backpacks!
URL:https://seatoskyhospicesociety.ca/event/squamish-drop-in-bereavement-walk-2/2023-03-23/
LOCATION:Squamish Valley Golf Club\, 2458 Mamquam Road\, Squamish\, BC\, V8B 0H8\, Canada
CATEGORIES:Bereavement
ATTACH;FMTTYPE=image/jpeg:https://seatoskyhospicesociety.ca/wp-content/uploads/2023/02/smaller-crocus.jpg
ORGANIZER;CN="Sea to Sky Hospice Society":MAILTO:info@seatoskyhospicesociety.ca
END:VEVENT
BEGIN:VEVENT
DTSTART;TZID=America/Los_Angeles:20230316T100000
DTEND;TZID=America/Los_Angeles:20230316T110000
DTSTAMP:20260423T181542
CREATED:20230307T175448Z
LAST-MODIFIED:20230309T045816Z
UID:10000235-1678960800-1678964400@seatoskyhospicesociety.ca
SUMMARY:Squamish Drop In Bereavement Walk
DESCRIPTION:Don’t forget\, our Bereavement Walks begin this Thursday\, March 9th at 10am at the Squamish Valley Golf Club. There is lots of parking and the weather forecast is for sun. We welcome anyone with the need for a supportive walk on beautiful trails. \nAre you Grieving the Loss of a Loved One? \nJoin us for a Volunteer led Bereavement Walk \nWeekly on Thursdays at 10:00AM \nMarch 9th – April 6th \nAt the Squamish Valley Golf Club \n  \nThis group will now park & meet outside the front doors of the Squamish Valley Golf Club \n(while Squamish Adventure Centre is closed for renovations) \n  \nLook for the Sea to Sky Hospice Society Volunteers with their green backpacks!
URL:https://seatoskyhospicesociety.ca/event/squamish-drop-in-bereavement-walk-2/2023-03-16/
LOCATION:Squamish Valley Golf Club\, 2458 Mamquam Road\, Squamish\, BC\, V8B 0H8\, Canada
CATEGORIES:Bereavement
ATTACH;FMTTYPE=image/jpeg:https://seatoskyhospicesociety.ca/wp-content/uploads/2023/02/smaller-crocus.jpg
ORGANIZER;CN="Sea to Sky Hospice Society":MAILTO:info@seatoskyhospicesociety.ca
END:VEVENT
BEGIN:VEVENT
DTSTART;TZID=America/Los_Angeles:20230309T100000
DTEND;TZID=America/Los_Angeles:20230309T110000
DTSTAMP:20260423T181542
CREATED:20230307T175448Z
LAST-MODIFIED:20230309T045816Z
UID:10000234-1678356000-1678359600@seatoskyhospicesociety.ca
SUMMARY:Squamish Drop In Bereavement Walk
DESCRIPTION:Don’t forget\, our Bereavement Walks begin this Thursday\, March 9th at 10am at the Squamish Valley Golf Club. There is lots of parking and the weather forecast is for sun. We welcome anyone with the need for a supportive walk on beautiful trails. \nAre you Grieving the Loss of a Loved One? \nJoin us for a Volunteer led Bereavement Walk \nWeekly on Thursdays at 10:00AM \nMarch 9th – April 6th \nAt the Squamish Valley Golf Club \n  \nThis group will now park & meet outside the front doors of the Squamish Valley Golf Club \n(while Squamish Adventure Centre is closed for renovations) \n  \nLook for the Sea to Sky Hospice Society Volunteers with their green backpacks!
URL:https://seatoskyhospicesociety.ca/event/squamish-drop-in-bereavement-walk-2/2023-03-09/
LOCATION:Squamish Valley Golf Club\, 2458 Mamquam Road\, Squamish\, BC\, V8B 0H8\, Canada
CATEGORIES:Bereavement
ATTACH;FMTTYPE=image/jpeg:https://seatoskyhospicesociety.ca/wp-content/uploads/2023/02/smaller-crocus.jpg
ORGANIZER;CN="Sea to Sky Hospice Society":MAILTO:info@seatoskyhospicesociety.ca
END:VEVENT
END:VCALENDAR