BEGIN:VCALENDAR
VERSION:2.0
PRODID:-//Sea to Sky Hospice Society - ECPv6.15.12.2//NONSGML v1.0//EN
CALSCALE:GREGORIAN
METHOD:PUBLISH
X-ORIGINAL-URL:https://seatoskyhospicesociety.ca
X-WR-CALDESC:Events for Sea to Sky Hospice Society
REFRESH-INTERVAL;VALUE=DURATION:PT1H
X-Robots-Tag:noindex
X-PUBLISHED-TTL:PT1H
BEGIN:VTIMEZONE
TZID:America/Los_Angeles
BEGIN:DAYLIGHT
TZOFFSETFROM:-0800
TZOFFSETTO:-0700
TZNAME:PDT
DTSTART:20250309T100000
END:DAYLIGHT
BEGIN:STANDARD
TZOFFSETFROM:-0700
TZOFFSETTO:-0800
TZNAME:PST
DTSTART:20251102T090000
END:STANDARD
BEGIN:DAYLIGHT
TZOFFSETFROM:-0800
TZOFFSETTO:-0700
TZNAME:PDT
DTSTART:20260308T100000
END:DAYLIGHT
BEGIN:STANDARD
TZOFFSETFROM:-0700
TZOFFSETTO:-0800
TZNAME:PST
DTSTART:20261101T090000
END:STANDARD
BEGIN:DAYLIGHT
TZOFFSETFROM:-0800
TZOFFSETTO:-0700
TZNAME:PDT
DTSTART:20270314T100000
END:DAYLIGHT
BEGIN:STANDARD
TZOFFSETFROM:-0700
TZOFFSETTO:-0800
TZNAME:PST
DTSTART:20271107T090000
END:STANDARD
END:VTIMEZONE
BEGIN:VEVENT
DTSTART;TZID=America/Los_Angeles:20261008T100000
DTEND;TZID=America/Los_Angeles:20261008T113000
DTSTAMP:20260423T090618
CREATED:20250806T192157Z
LAST-MODIFIED:20250815T170710Z
UID:10002303-1791453600-1791459000@seatoskyhospicesociety.ca
SUMMARY:Thursday morning Walking Group
DESCRIPTION:Every Thursday morning\, we meet at 10am in front of the Squamish Adventure Centre for a 45-minute gentle forest walk\, followed by a casual coffee shop chat at Cafe Garibaldi. Whether your loss is recent or several anniversaries have passed\, our Hospice Volunteers will welcome you to this peer-support group. Volunteer leaders carry Hospice-branded backpacks.
URL:https://seatoskyhospicesociety.ca/event/thursday-morning-walking-group/2026-10-08/
LOCATION:Squamish Adventure Centre\, 38551 Loggers Lane\, Squamish\, BC\, V8B 0H2\, Canada
ATTACH;FMTTYPE=image/png:https://seatoskyhospicesociety.ca/wp-content/uploads/2025/08/Screenshot-2025-08-15-at-10.01.26-AM.png
ORGANIZER;CN="Sea to Sky Hospice Society":MAILTO:info@seatoskyhospicesociety.ca
END:VEVENT
BEGIN:VEVENT
DTSTART;TZID=America/Los_Angeles:20261015T100000
DTEND;TZID=America/Los_Angeles:20261015T113000
DTSTAMP:20260423T090618
CREATED:20250806T192157Z
LAST-MODIFIED:20250815T170710Z
UID:10002304-1792058400-1792063800@seatoskyhospicesociety.ca
SUMMARY:Thursday morning Walking Group
DESCRIPTION:Every Thursday morning\, we meet at 10am in front of the Squamish Adventure Centre for a 45-minute gentle forest walk\, followed by a casual coffee shop chat at Cafe Garibaldi. Whether your loss is recent or several anniversaries have passed\, our Hospice Volunteers will welcome you to this peer-support group. Volunteer leaders carry Hospice-branded backpacks.
URL:https://seatoskyhospicesociety.ca/event/thursday-morning-walking-group/2026-10-15/
LOCATION:Squamish Adventure Centre\, 38551 Loggers Lane\, Squamish\, BC\, V8B 0H2\, Canada
ATTACH;FMTTYPE=image/png:https://seatoskyhospicesociety.ca/wp-content/uploads/2025/08/Screenshot-2025-08-15-at-10.01.26-AM.png
ORGANIZER;CN="Sea to Sky Hospice Society":MAILTO:info@seatoskyhospicesociety.ca
END:VEVENT
BEGIN:VEVENT
DTSTART;TZID=America/Los_Angeles:20261022T100000
DTEND;TZID=America/Los_Angeles:20261022T113000
DTSTAMP:20260423T090618
CREATED:20250806T192157Z
LAST-MODIFIED:20250815T170710Z
UID:10002305-1792663200-1792668600@seatoskyhospicesociety.ca
SUMMARY:Thursday morning Walking Group
DESCRIPTION:Every Thursday morning\, we meet at 10am in front of the Squamish Adventure Centre for a 45-minute gentle forest walk\, followed by a casual coffee shop chat at Cafe Garibaldi. Whether your loss is recent or several anniversaries have passed\, our Hospice Volunteers will welcome you to this peer-support group. Volunteer leaders carry Hospice-branded backpacks.
URL:https://seatoskyhospicesociety.ca/event/thursday-morning-walking-group/2026-10-22/
LOCATION:Squamish Adventure Centre\, 38551 Loggers Lane\, Squamish\, BC\, V8B 0H2\, Canada
ATTACH;FMTTYPE=image/png:https://seatoskyhospicesociety.ca/wp-content/uploads/2025/08/Screenshot-2025-08-15-at-10.01.26-AM.png
ORGANIZER;CN="Sea to Sky Hospice Society":MAILTO:info@seatoskyhospicesociety.ca
END:VEVENT
BEGIN:VEVENT
DTSTART;TZID=America/Los_Angeles:20261029T100000
DTEND;TZID=America/Los_Angeles:20261029T113000
DTSTAMP:20260423T090618
CREATED:20250806T192157Z
LAST-MODIFIED:20250815T170710Z
UID:10002306-1793268000-1793273400@seatoskyhospicesociety.ca
SUMMARY:Thursday morning Walking Group
DESCRIPTION:Every Thursday morning\, we meet at 10am in front of the Squamish Adventure Centre for a 45-minute gentle forest walk\, followed by a casual coffee shop chat at Cafe Garibaldi. Whether your loss is recent or several anniversaries have passed\, our Hospice Volunteers will welcome you to this peer-support group. Volunteer leaders carry Hospice-branded backpacks.
URL:https://seatoskyhospicesociety.ca/event/thursday-morning-walking-group/2026-10-29/
LOCATION:Squamish Adventure Centre\, 38551 Loggers Lane\, Squamish\, BC\, V8B 0H2\, Canada
ATTACH;FMTTYPE=image/png:https://seatoskyhospicesociety.ca/wp-content/uploads/2025/08/Screenshot-2025-08-15-at-10.01.26-AM.png
ORGANIZER;CN="Sea to Sky Hospice Society":MAILTO:info@seatoskyhospicesociety.ca
END:VEVENT
BEGIN:VEVENT
DTSTART;TZID=America/Los_Angeles:20261105T100000
DTEND;TZID=America/Los_Angeles:20261105T113000
DTSTAMP:20260423T090618
CREATED:20250806T192157Z
LAST-MODIFIED:20250815T170710Z
UID:10002307-1793872800-1793878200@seatoskyhospicesociety.ca
SUMMARY:Thursday morning Walking Group
DESCRIPTION:Every Thursday morning\, we meet at 10am in front of the Squamish Adventure Centre for a 45-minute gentle forest walk\, followed by a casual coffee shop chat at Cafe Garibaldi. Whether your loss is recent or several anniversaries have passed\, our Hospice Volunteers will welcome you to this peer-support group. Volunteer leaders carry Hospice-branded backpacks.
URL:https://seatoskyhospicesociety.ca/event/thursday-morning-walking-group/2026-11-05/
LOCATION:Squamish Adventure Centre\, 38551 Loggers Lane\, Squamish\, BC\, V8B 0H2\, Canada
ATTACH;FMTTYPE=image/png:https://seatoskyhospicesociety.ca/wp-content/uploads/2025/08/Screenshot-2025-08-15-at-10.01.26-AM.png
ORGANIZER;CN="Sea to Sky Hospice Society":MAILTO:info@seatoskyhospicesociety.ca
END:VEVENT
BEGIN:VEVENT
DTSTART;TZID=America/Los_Angeles:20261112T100000
DTEND;TZID=America/Los_Angeles:20261112T113000
DTSTAMP:20260423T090618
CREATED:20250806T192157Z
LAST-MODIFIED:20250815T170710Z
UID:10002308-1794477600-1794483000@seatoskyhospicesociety.ca
SUMMARY:Thursday morning Walking Group
DESCRIPTION:Every Thursday morning\, we meet at 10am in front of the Squamish Adventure Centre for a 45-minute gentle forest walk\, followed by a casual coffee shop chat at Cafe Garibaldi. Whether your loss is recent or several anniversaries have passed\, our Hospice Volunteers will welcome you to this peer-support group. Volunteer leaders carry Hospice-branded backpacks.
URL:https://seatoskyhospicesociety.ca/event/thursday-morning-walking-group/2026-11-12/
LOCATION:Squamish Adventure Centre\, 38551 Loggers Lane\, Squamish\, BC\, V8B 0H2\, Canada
ATTACH;FMTTYPE=image/png:https://seatoskyhospicesociety.ca/wp-content/uploads/2025/08/Screenshot-2025-08-15-at-10.01.26-AM.png
ORGANIZER;CN="Sea to Sky Hospice Society":MAILTO:info@seatoskyhospicesociety.ca
END:VEVENT
BEGIN:VEVENT
DTSTART;TZID=America/Los_Angeles:20261119T100000
DTEND;TZID=America/Los_Angeles:20261119T113000
DTSTAMP:20260423T090618
CREATED:20250806T192157Z
LAST-MODIFIED:20250815T170710Z
UID:10002309-1795082400-1795087800@seatoskyhospicesociety.ca
SUMMARY:Thursday morning Walking Group
DESCRIPTION:Every Thursday morning\, we meet at 10am in front of the Squamish Adventure Centre for a 45-minute gentle forest walk\, followed by a casual coffee shop chat at Cafe Garibaldi. Whether your loss is recent or several anniversaries have passed\, our Hospice Volunteers will welcome you to this peer-support group. Volunteer leaders carry Hospice-branded backpacks.
URL:https://seatoskyhospicesociety.ca/event/thursday-morning-walking-group/2026-11-19/
LOCATION:Squamish Adventure Centre\, 38551 Loggers Lane\, Squamish\, BC\, V8B 0H2\, Canada
ATTACH;FMTTYPE=image/png:https://seatoskyhospicesociety.ca/wp-content/uploads/2025/08/Screenshot-2025-08-15-at-10.01.26-AM.png
ORGANIZER;CN="Sea to Sky Hospice Society":MAILTO:info@seatoskyhospicesociety.ca
END:VEVENT
BEGIN:VEVENT
DTSTART;TZID=America/Los_Angeles:20261126T100000
DTEND;TZID=America/Los_Angeles:20261126T113000
DTSTAMP:20260423T090618
CREATED:20250806T192157Z
LAST-MODIFIED:20250815T170710Z
UID:10002310-1795687200-1795692600@seatoskyhospicesociety.ca
SUMMARY:Thursday morning Walking Group
DESCRIPTION:Every Thursday morning\, we meet at 10am in front of the Squamish Adventure Centre for a 45-minute gentle forest walk\, followed by a casual coffee shop chat at Cafe Garibaldi. Whether your loss is recent or several anniversaries have passed\, our Hospice Volunteers will welcome you to this peer-support group. Volunteer leaders carry Hospice-branded backpacks.
URL:https://seatoskyhospicesociety.ca/event/thursday-morning-walking-group/2026-11-26/
LOCATION:Squamish Adventure Centre\, 38551 Loggers Lane\, Squamish\, BC\, V8B 0H2\, Canada
ATTACH;FMTTYPE=image/png:https://seatoskyhospicesociety.ca/wp-content/uploads/2025/08/Screenshot-2025-08-15-at-10.01.26-AM.png
ORGANIZER;CN="Sea to Sky Hospice Society":MAILTO:info@seatoskyhospicesociety.ca
END:VEVENT
END:VCALENDAR