BEGIN:VCALENDAR
VERSION:2.0
PRODID:-//Sea to Sky Hospice Society - ECPv6.15.12.2//NONSGML v1.0//EN
CALSCALE:GREGORIAN
METHOD:PUBLISH
X-ORIGINAL-URL:https://seatoskyhospicesociety.ca
X-WR-CALDESC:Events for Sea to Sky Hospice Society
REFRESH-INTERVAL;VALUE=DURATION:PT1H
X-Robots-Tag:noindex
X-PUBLISHED-TTL:PT1H
BEGIN:VTIMEZONE
TZID:America/Los_Angeles
BEGIN:DAYLIGHT
TZOFFSETFROM:-0800
TZOFFSETTO:-0700
TZNAME:PDT
DTSTART:20250309T100000
END:DAYLIGHT
BEGIN:STANDARD
TZOFFSETFROM:-0700
TZOFFSETTO:-0800
TZNAME:PST
DTSTART:20251102T090000
END:STANDARD
BEGIN:DAYLIGHT
TZOFFSETFROM:-0800
TZOFFSETTO:-0700
TZNAME:PDT
DTSTART:20260308T100000
END:DAYLIGHT
BEGIN:STANDARD
TZOFFSETFROM:-0700
TZOFFSETTO:-0800
TZNAME:PST
DTSTART:20261101T090000
END:STANDARD
BEGIN:DAYLIGHT
TZOFFSETFROM:-0800
TZOFFSETTO:-0700
TZNAME:PDT
DTSTART:20270314T100000
END:DAYLIGHT
BEGIN:STANDARD
TZOFFSETFROM:-0700
TZOFFSETTO:-0800
TZNAME:PST
DTSTART:20271107T090000
END:STANDARD
END:VTIMEZONE
BEGIN:VEVENT
DTSTART;TZID=America/Los_Angeles:20260716T100000
DTEND;TZID=America/Los_Angeles:20260716T113000
DTSTAMP:20260423T084402
CREATED:20250806T192157Z
LAST-MODIFIED:20250815T170710Z
UID:10002291-1784196000-1784201400@seatoskyhospicesociety.ca
SUMMARY:Thursday morning Walking Group
DESCRIPTION:Every Thursday morning\, we meet at 10am in front of the Squamish Adventure Centre for a 45-minute gentle forest walk\, followed by a casual coffee shop chat at Cafe Garibaldi. Whether your loss is recent or several anniversaries have passed\, our Hospice Volunteers will welcome you to this peer-support group. Volunteer leaders carry Hospice-branded backpacks.
URL:https://seatoskyhospicesociety.ca/event/thursday-morning-walking-group/2026-07-16/
LOCATION:Squamish Adventure Centre\, 38551 Loggers Lane\, Squamish\, BC\, V8B 0H2\, Canada
ATTACH;FMTTYPE=image/png:https://seatoskyhospicesociety.ca/wp-content/uploads/2025/08/Screenshot-2025-08-15-at-10.01.26-AM.png
ORGANIZER;CN="Sea to Sky Hospice Society":MAILTO:info@seatoskyhospicesociety.ca
END:VEVENT
BEGIN:VEVENT
DTSTART;TZID=America/Los_Angeles:20260723T100000
DTEND;TZID=America/Los_Angeles:20260723T113000
DTSTAMP:20260423T084403
CREATED:20250806T192157Z
LAST-MODIFIED:20250815T170710Z
UID:10002292-1784800800-1784806200@seatoskyhospicesociety.ca
SUMMARY:Thursday morning Walking Group
DESCRIPTION:Every Thursday morning\, we meet at 10am in front of the Squamish Adventure Centre for a 45-minute gentle forest walk\, followed by a casual coffee shop chat at Cafe Garibaldi. Whether your loss is recent or several anniversaries have passed\, our Hospice Volunteers will welcome you to this peer-support group. Volunteer leaders carry Hospice-branded backpacks.
URL:https://seatoskyhospicesociety.ca/event/thursday-morning-walking-group/2026-07-23/
LOCATION:Squamish Adventure Centre\, 38551 Loggers Lane\, Squamish\, BC\, V8B 0H2\, Canada
ATTACH;FMTTYPE=image/png:https://seatoskyhospicesociety.ca/wp-content/uploads/2025/08/Screenshot-2025-08-15-at-10.01.26-AM.png
ORGANIZER;CN="Sea to Sky Hospice Society":MAILTO:info@seatoskyhospicesociety.ca
END:VEVENT
BEGIN:VEVENT
DTSTART;TZID=America/Los_Angeles:20260730T100000
DTEND;TZID=America/Los_Angeles:20260730T113000
DTSTAMP:20260423T084403
CREATED:20250806T192157Z
LAST-MODIFIED:20250815T170710Z
UID:10002293-1785405600-1785411000@seatoskyhospicesociety.ca
SUMMARY:Thursday morning Walking Group
DESCRIPTION:Every Thursday morning\, we meet at 10am in front of the Squamish Adventure Centre for a 45-minute gentle forest walk\, followed by a casual coffee shop chat at Cafe Garibaldi. Whether your loss is recent or several anniversaries have passed\, our Hospice Volunteers will welcome you to this peer-support group. Volunteer leaders carry Hospice-branded backpacks.
URL:https://seatoskyhospicesociety.ca/event/thursday-morning-walking-group/2026-07-30/
LOCATION:Squamish Adventure Centre\, 38551 Loggers Lane\, Squamish\, BC\, V8B 0H2\, Canada
ATTACH;FMTTYPE=image/png:https://seatoskyhospicesociety.ca/wp-content/uploads/2025/08/Screenshot-2025-08-15-at-10.01.26-AM.png
ORGANIZER;CN="Sea to Sky Hospice Society":MAILTO:info@seatoskyhospicesociety.ca
END:VEVENT
BEGIN:VEVENT
DTSTART;TZID=America/Los_Angeles:20260806T100000
DTEND;TZID=America/Los_Angeles:20260806T113000
DTSTAMP:20260423T084403
CREATED:20250806T192157Z
LAST-MODIFIED:20250815T170710Z
UID:10002294-1786010400-1786015800@seatoskyhospicesociety.ca
SUMMARY:Thursday morning Walking Group
DESCRIPTION:Every Thursday morning\, we meet at 10am in front of the Squamish Adventure Centre for a 45-minute gentle forest walk\, followed by a casual coffee shop chat at Cafe Garibaldi. Whether your loss is recent or several anniversaries have passed\, our Hospice Volunteers will welcome you to this peer-support group. Volunteer leaders carry Hospice-branded backpacks.
URL:https://seatoskyhospicesociety.ca/event/thursday-morning-walking-group/2026-08-06/
LOCATION:Squamish Adventure Centre\, 38551 Loggers Lane\, Squamish\, BC\, V8B 0H2\, Canada
ATTACH;FMTTYPE=image/png:https://seatoskyhospicesociety.ca/wp-content/uploads/2025/08/Screenshot-2025-08-15-at-10.01.26-AM.png
ORGANIZER;CN="Sea to Sky Hospice Society":MAILTO:info@seatoskyhospicesociety.ca
END:VEVENT
BEGIN:VEVENT
DTSTART;TZID=America/Los_Angeles:20260813T100000
DTEND;TZID=America/Los_Angeles:20260813T113000
DTSTAMP:20260423T084403
CREATED:20250806T192157Z
LAST-MODIFIED:20250815T170710Z
UID:10002295-1786615200-1786620600@seatoskyhospicesociety.ca
SUMMARY:Thursday morning Walking Group
DESCRIPTION:Every Thursday morning\, we meet at 10am in front of the Squamish Adventure Centre for a 45-minute gentle forest walk\, followed by a casual coffee shop chat at Cafe Garibaldi. Whether your loss is recent or several anniversaries have passed\, our Hospice Volunteers will welcome you to this peer-support group. Volunteer leaders carry Hospice-branded backpacks.
URL:https://seatoskyhospicesociety.ca/event/thursday-morning-walking-group/2026-08-13/
LOCATION:Squamish Adventure Centre\, 38551 Loggers Lane\, Squamish\, BC\, V8B 0H2\, Canada
ATTACH;FMTTYPE=image/png:https://seatoskyhospicesociety.ca/wp-content/uploads/2025/08/Screenshot-2025-08-15-at-10.01.26-AM.png
ORGANIZER;CN="Sea to Sky Hospice Society":MAILTO:info@seatoskyhospicesociety.ca
END:VEVENT
BEGIN:VEVENT
DTSTART;TZID=America/Los_Angeles:20260820T100000
DTEND;TZID=America/Los_Angeles:20260820T113000
DTSTAMP:20260423T084403
CREATED:20250806T192157Z
LAST-MODIFIED:20250815T170710Z
UID:10002296-1787220000-1787225400@seatoskyhospicesociety.ca
SUMMARY:Thursday morning Walking Group
DESCRIPTION:Every Thursday morning\, we meet at 10am in front of the Squamish Adventure Centre for a 45-minute gentle forest walk\, followed by a casual coffee shop chat at Cafe Garibaldi. Whether your loss is recent or several anniversaries have passed\, our Hospice Volunteers will welcome you to this peer-support group. Volunteer leaders carry Hospice-branded backpacks.
URL:https://seatoskyhospicesociety.ca/event/thursday-morning-walking-group/2026-08-20/
LOCATION:Squamish Adventure Centre\, 38551 Loggers Lane\, Squamish\, BC\, V8B 0H2\, Canada
ATTACH;FMTTYPE=image/png:https://seatoskyhospicesociety.ca/wp-content/uploads/2025/08/Screenshot-2025-08-15-at-10.01.26-AM.png
ORGANIZER;CN="Sea to Sky Hospice Society":MAILTO:info@seatoskyhospicesociety.ca
END:VEVENT
BEGIN:VEVENT
DTSTART;TZID=America/Los_Angeles:20260827T100000
DTEND;TZID=America/Los_Angeles:20260827T113000
DTSTAMP:20260423T084403
CREATED:20250806T192157Z
LAST-MODIFIED:20250815T170710Z
UID:10002297-1787824800-1787830200@seatoskyhospicesociety.ca
SUMMARY:Thursday morning Walking Group
DESCRIPTION:Every Thursday morning\, we meet at 10am in front of the Squamish Adventure Centre for a 45-minute gentle forest walk\, followed by a casual coffee shop chat at Cafe Garibaldi. Whether your loss is recent or several anniversaries have passed\, our Hospice Volunteers will welcome you to this peer-support group. Volunteer leaders carry Hospice-branded backpacks.
URL:https://seatoskyhospicesociety.ca/event/thursday-morning-walking-group/2026-08-27/
LOCATION:Squamish Adventure Centre\, 38551 Loggers Lane\, Squamish\, BC\, V8B 0H2\, Canada
ATTACH;FMTTYPE=image/png:https://seatoskyhospicesociety.ca/wp-content/uploads/2025/08/Screenshot-2025-08-15-at-10.01.26-AM.png
ORGANIZER;CN="Sea to Sky Hospice Society":MAILTO:info@seatoskyhospicesociety.ca
END:VEVENT
BEGIN:VEVENT
DTSTART;TZID=America/Los_Angeles:20260903T100000
DTEND;TZID=America/Los_Angeles:20260903T113000
DTSTAMP:20260423T084403
CREATED:20250806T192157Z
LAST-MODIFIED:20250815T170710Z
UID:10002298-1788429600-1788435000@seatoskyhospicesociety.ca
SUMMARY:Thursday morning Walking Group
DESCRIPTION:Every Thursday morning\, we meet at 10am in front of the Squamish Adventure Centre for a 45-minute gentle forest walk\, followed by a casual coffee shop chat at Cafe Garibaldi. Whether your loss is recent or several anniversaries have passed\, our Hospice Volunteers will welcome you to this peer-support group. Volunteer leaders carry Hospice-branded backpacks.
URL:https://seatoskyhospicesociety.ca/event/thursday-morning-walking-group/2026-09-03/
LOCATION:Squamish Adventure Centre\, 38551 Loggers Lane\, Squamish\, BC\, V8B 0H2\, Canada
ATTACH;FMTTYPE=image/png:https://seatoskyhospicesociety.ca/wp-content/uploads/2025/08/Screenshot-2025-08-15-at-10.01.26-AM.png
ORGANIZER;CN="Sea to Sky Hospice Society":MAILTO:info@seatoskyhospicesociety.ca
END:VEVENT
BEGIN:VEVENT
DTSTART;TZID=America/Los_Angeles:20260910T100000
DTEND;TZID=America/Los_Angeles:20260910T113000
DTSTAMP:20260423T084403
CREATED:20250806T192157Z
LAST-MODIFIED:20250815T170710Z
UID:10002299-1789034400-1789039800@seatoskyhospicesociety.ca
SUMMARY:Thursday morning Walking Group
DESCRIPTION:Every Thursday morning\, we meet at 10am in front of the Squamish Adventure Centre for a 45-minute gentle forest walk\, followed by a casual coffee shop chat at Cafe Garibaldi. Whether your loss is recent or several anniversaries have passed\, our Hospice Volunteers will welcome you to this peer-support group. Volunteer leaders carry Hospice-branded backpacks.
URL:https://seatoskyhospicesociety.ca/event/thursday-morning-walking-group/2026-09-10/
LOCATION:Squamish Adventure Centre\, 38551 Loggers Lane\, Squamish\, BC\, V8B 0H2\, Canada
ATTACH;FMTTYPE=image/png:https://seatoskyhospicesociety.ca/wp-content/uploads/2025/08/Screenshot-2025-08-15-at-10.01.26-AM.png
ORGANIZER;CN="Sea to Sky Hospice Society":MAILTO:info@seatoskyhospicesociety.ca
END:VEVENT
BEGIN:VEVENT
DTSTART;TZID=America/Los_Angeles:20260917T100000
DTEND;TZID=America/Los_Angeles:20260917T113000
DTSTAMP:20260423T084403
CREATED:20250806T192157Z
LAST-MODIFIED:20250815T170710Z
UID:10002300-1789639200-1789644600@seatoskyhospicesociety.ca
SUMMARY:Thursday morning Walking Group
DESCRIPTION:Every Thursday morning\, we meet at 10am in front of the Squamish Adventure Centre for a 45-minute gentle forest walk\, followed by a casual coffee shop chat at Cafe Garibaldi. Whether your loss is recent or several anniversaries have passed\, our Hospice Volunteers will welcome you to this peer-support group. Volunteer leaders carry Hospice-branded backpacks.
URL:https://seatoskyhospicesociety.ca/event/thursday-morning-walking-group/2026-09-17/
LOCATION:Squamish Adventure Centre\, 38551 Loggers Lane\, Squamish\, BC\, V8B 0H2\, Canada
ATTACH;FMTTYPE=image/png:https://seatoskyhospicesociety.ca/wp-content/uploads/2025/08/Screenshot-2025-08-15-at-10.01.26-AM.png
ORGANIZER;CN="Sea to Sky Hospice Society":MAILTO:info@seatoskyhospicesociety.ca
END:VEVENT
BEGIN:VEVENT
DTSTART;TZID=America/Los_Angeles:20260924T100000
DTEND;TZID=America/Los_Angeles:20260924T113000
DTSTAMP:20260423T084403
CREATED:20250806T192157Z
LAST-MODIFIED:20250815T170710Z
UID:10002301-1790244000-1790249400@seatoskyhospicesociety.ca
SUMMARY:Thursday morning Walking Group
DESCRIPTION:Every Thursday morning\, we meet at 10am in front of the Squamish Adventure Centre for a 45-minute gentle forest walk\, followed by a casual coffee shop chat at Cafe Garibaldi. Whether your loss is recent or several anniversaries have passed\, our Hospice Volunteers will welcome you to this peer-support group. Volunteer leaders carry Hospice-branded backpacks.
URL:https://seatoskyhospicesociety.ca/event/thursday-morning-walking-group/2026-09-24/
LOCATION:Squamish Adventure Centre\, 38551 Loggers Lane\, Squamish\, BC\, V8B 0H2\, Canada
ATTACH;FMTTYPE=image/png:https://seatoskyhospicesociety.ca/wp-content/uploads/2025/08/Screenshot-2025-08-15-at-10.01.26-AM.png
ORGANIZER;CN="Sea to Sky Hospice Society":MAILTO:info@seatoskyhospicesociety.ca
END:VEVENT
BEGIN:VEVENT
DTSTART;TZID=America/Los_Angeles:20261001T100000
DTEND;TZID=America/Los_Angeles:20261001T113000
DTSTAMP:20260423T084403
CREATED:20250806T192157Z
LAST-MODIFIED:20250815T170710Z
UID:10002302-1790848800-1790854200@seatoskyhospicesociety.ca
SUMMARY:Thursday morning Walking Group
DESCRIPTION:Every Thursday morning\, we meet at 10am in front of the Squamish Adventure Centre for a 45-minute gentle forest walk\, followed by a casual coffee shop chat at Cafe Garibaldi. Whether your loss is recent or several anniversaries have passed\, our Hospice Volunteers will welcome you to this peer-support group. Volunteer leaders carry Hospice-branded backpacks.
URL:https://seatoskyhospicesociety.ca/event/thursday-morning-walking-group/2026-10-01/
LOCATION:Squamish Adventure Centre\, 38551 Loggers Lane\, Squamish\, BC\, V8B 0H2\, Canada
ATTACH;FMTTYPE=image/png:https://seatoskyhospicesociety.ca/wp-content/uploads/2025/08/Screenshot-2025-08-15-at-10.01.26-AM.png
ORGANIZER;CN="Sea to Sky Hospice Society":MAILTO:info@seatoskyhospicesociety.ca
END:VEVENT
BEGIN:VEVENT
DTSTART;TZID=America/Los_Angeles:20261008T100000
DTEND;TZID=America/Los_Angeles:20261008T113000
DTSTAMP:20260423T084403
CREATED:20250806T192157Z
LAST-MODIFIED:20250815T170710Z
UID:10002303-1791453600-1791459000@seatoskyhospicesociety.ca
SUMMARY:Thursday morning Walking Group
DESCRIPTION:Every Thursday morning\, we meet at 10am in front of the Squamish Adventure Centre for a 45-minute gentle forest walk\, followed by a casual coffee shop chat at Cafe Garibaldi. Whether your loss is recent or several anniversaries have passed\, our Hospice Volunteers will welcome you to this peer-support group. Volunteer leaders carry Hospice-branded backpacks.
URL:https://seatoskyhospicesociety.ca/event/thursday-morning-walking-group/2026-10-08/
LOCATION:Squamish Adventure Centre\, 38551 Loggers Lane\, Squamish\, BC\, V8B 0H2\, Canada
ATTACH;FMTTYPE=image/png:https://seatoskyhospicesociety.ca/wp-content/uploads/2025/08/Screenshot-2025-08-15-at-10.01.26-AM.png
ORGANIZER;CN="Sea to Sky Hospice Society":MAILTO:info@seatoskyhospicesociety.ca
END:VEVENT
BEGIN:VEVENT
DTSTART;TZID=America/Los_Angeles:20261015T100000
DTEND;TZID=America/Los_Angeles:20261015T113000
DTSTAMP:20260423T084403
CREATED:20250806T192157Z
LAST-MODIFIED:20250815T170710Z
UID:10002304-1792058400-1792063800@seatoskyhospicesociety.ca
SUMMARY:Thursday morning Walking Group
DESCRIPTION:Every Thursday morning\, we meet at 10am in front of the Squamish Adventure Centre for a 45-minute gentle forest walk\, followed by a casual coffee shop chat at Cafe Garibaldi. Whether your loss is recent or several anniversaries have passed\, our Hospice Volunteers will welcome you to this peer-support group. Volunteer leaders carry Hospice-branded backpacks.
URL:https://seatoskyhospicesociety.ca/event/thursday-morning-walking-group/2026-10-15/
LOCATION:Squamish Adventure Centre\, 38551 Loggers Lane\, Squamish\, BC\, V8B 0H2\, Canada
ATTACH;FMTTYPE=image/png:https://seatoskyhospicesociety.ca/wp-content/uploads/2025/08/Screenshot-2025-08-15-at-10.01.26-AM.png
ORGANIZER;CN="Sea to Sky Hospice Society":MAILTO:info@seatoskyhospicesociety.ca
END:VEVENT
BEGIN:VEVENT
DTSTART;TZID=America/Los_Angeles:20261022T100000
DTEND;TZID=America/Los_Angeles:20261022T113000
DTSTAMP:20260423T084403
CREATED:20250806T192157Z
LAST-MODIFIED:20250815T170710Z
UID:10002305-1792663200-1792668600@seatoskyhospicesociety.ca
SUMMARY:Thursday morning Walking Group
DESCRIPTION:Every Thursday morning\, we meet at 10am in front of the Squamish Adventure Centre for a 45-minute gentle forest walk\, followed by a casual coffee shop chat at Cafe Garibaldi. Whether your loss is recent or several anniversaries have passed\, our Hospice Volunteers will welcome you to this peer-support group. Volunteer leaders carry Hospice-branded backpacks.
URL:https://seatoskyhospicesociety.ca/event/thursday-morning-walking-group/2026-10-22/
LOCATION:Squamish Adventure Centre\, 38551 Loggers Lane\, Squamish\, BC\, V8B 0H2\, Canada
ATTACH;FMTTYPE=image/png:https://seatoskyhospicesociety.ca/wp-content/uploads/2025/08/Screenshot-2025-08-15-at-10.01.26-AM.png
ORGANIZER;CN="Sea to Sky Hospice Society":MAILTO:info@seatoskyhospicesociety.ca
END:VEVENT
BEGIN:VEVENT
DTSTART;TZID=America/Los_Angeles:20261029T100000
DTEND;TZID=America/Los_Angeles:20261029T113000
DTSTAMP:20260423T084403
CREATED:20250806T192157Z
LAST-MODIFIED:20250815T170710Z
UID:10002306-1793268000-1793273400@seatoskyhospicesociety.ca
SUMMARY:Thursday morning Walking Group
DESCRIPTION:Every Thursday morning\, we meet at 10am in front of the Squamish Adventure Centre for a 45-minute gentle forest walk\, followed by a casual coffee shop chat at Cafe Garibaldi. Whether your loss is recent or several anniversaries have passed\, our Hospice Volunteers will welcome you to this peer-support group. Volunteer leaders carry Hospice-branded backpacks.
URL:https://seatoskyhospicesociety.ca/event/thursday-morning-walking-group/2026-10-29/
LOCATION:Squamish Adventure Centre\, 38551 Loggers Lane\, Squamish\, BC\, V8B 0H2\, Canada
ATTACH;FMTTYPE=image/png:https://seatoskyhospicesociety.ca/wp-content/uploads/2025/08/Screenshot-2025-08-15-at-10.01.26-AM.png
ORGANIZER;CN="Sea to Sky Hospice Society":MAILTO:info@seatoskyhospicesociety.ca
END:VEVENT
BEGIN:VEVENT
DTSTART;TZID=America/Los_Angeles:20261105T100000
DTEND;TZID=America/Los_Angeles:20261105T113000
DTSTAMP:20260423T084403
CREATED:20250806T192157Z
LAST-MODIFIED:20250815T170710Z
UID:10002307-1793872800-1793878200@seatoskyhospicesociety.ca
SUMMARY:Thursday morning Walking Group
DESCRIPTION:Every Thursday morning\, we meet at 10am in front of the Squamish Adventure Centre for a 45-minute gentle forest walk\, followed by a casual coffee shop chat at Cafe Garibaldi. Whether your loss is recent or several anniversaries have passed\, our Hospice Volunteers will welcome you to this peer-support group. Volunteer leaders carry Hospice-branded backpacks.
URL:https://seatoskyhospicesociety.ca/event/thursday-morning-walking-group/2026-11-05/
LOCATION:Squamish Adventure Centre\, 38551 Loggers Lane\, Squamish\, BC\, V8B 0H2\, Canada
ATTACH;FMTTYPE=image/png:https://seatoskyhospicesociety.ca/wp-content/uploads/2025/08/Screenshot-2025-08-15-at-10.01.26-AM.png
ORGANIZER;CN="Sea to Sky Hospice Society":MAILTO:info@seatoskyhospicesociety.ca
END:VEVENT
BEGIN:VEVENT
DTSTART;TZID=America/Los_Angeles:20261112T100000
DTEND;TZID=America/Los_Angeles:20261112T113000
DTSTAMP:20260423T084403
CREATED:20250806T192157Z
LAST-MODIFIED:20250815T170710Z
UID:10002308-1794477600-1794483000@seatoskyhospicesociety.ca
SUMMARY:Thursday morning Walking Group
DESCRIPTION:Every Thursday morning\, we meet at 10am in front of the Squamish Adventure Centre for a 45-minute gentle forest walk\, followed by a casual coffee shop chat at Cafe Garibaldi. Whether your loss is recent or several anniversaries have passed\, our Hospice Volunteers will welcome you to this peer-support group. Volunteer leaders carry Hospice-branded backpacks.
URL:https://seatoskyhospicesociety.ca/event/thursday-morning-walking-group/2026-11-12/
LOCATION:Squamish Adventure Centre\, 38551 Loggers Lane\, Squamish\, BC\, V8B 0H2\, Canada
ATTACH;FMTTYPE=image/png:https://seatoskyhospicesociety.ca/wp-content/uploads/2025/08/Screenshot-2025-08-15-at-10.01.26-AM.png
ORGANIZER;CN="Sea to Sky Hospice Society":MAILTO:info@seatoskyhospicesociety.ca
END:VEVENT
BEGIN:VEVENT
DTSTART;TZID=America/Los_Angeles:20261119T100000
DTEND;TZID=America/Los_Angeles:20261119T113000
DTSTAMP:20260423T084403
CREATED:20250806T192157Z
LAST-MODIFIED:20250815T170710Z
UID:10002309-1795082400-1795087800@seatoskyhospicesociety.ca
SUMMARY:Thursday morning Walking Group
DESCRIPTION:Every Thursday morning\, we meet at 10am in front of the Squamish Adventure Centre for a 45-minute gentle forest walk\, followed by a casual coffee shop chat at Cafe Garibaldi. Whether your loss is recent or several anniversaries have passed\, our Hospice Volunteers will welcome you to this peer-support group. Volunteer leaders carry Hospice-branded backpacks.
URL:https://seatoskyhospicesociety.ca/event/thursday-morning-walking-group/2026-11-19/
LOCATION:Squamish Adventure Centre\, 38551 Loggers Lane\, Squamish\, BC\, V8B 0H2\, Canada
ATTACH;FMTTYPE=image/png:https://seatoskyhospicesociety.ca/wp-content/uploads/2025/08/Screenshot-2025-08-15-at-10.01.26-AM.png
ORGANIZER;CN="Sea to Sky Hospice Society":MAILTO:info@seatoskyhospicesociety.ca
END:VEVENT
BEGIN:VEVENT
DTSTART;TZID=America/Los_Angeles:20261126T100000
DTEND;TZID=America/Los_Angeles:20261126T113000
DTSTAMP:20260423T084403
CREATED:20250806T192157Z
LAST-MODIFIED:20250815T170710Z
UID:10002310-1795687200-1795692600@seatoskyhospicesociety.ca
SUMMARY:Thursday morning Walking Group
DESCRIPTION:Every Thursday morning\, we meet at 10am in front of the Squamish Adventure Centre for a 45-minute gentle forest walk\, followed by a casual coffee shop chat at Cafe Garibaldi. Whether your loss is recent or several anniversaries have passed\, our Hospice Volunteers will welcome you to this peer-support group. Volunteer leaders carry Hospice-branded backpacks.
URL:https://seatoskyhospicesociety.ca/event/thursday-morning-walking-group/2026-11-26/
LOCATION:Squamish Adventure Centre\, 38551 Loggers Lane\, Squamish\, BC\, V8B 0H2\, Canada
ATTACH;FMTTYPE=image/png:https://seatoskyhospicesociety.ca/wp-content/uploads/2025/08/Screenshot-2025-08-15-at-10.01.26-AM.png
ORGANIZER;CN="Sea to Sky Hospice Society":MAILTO:info@seatoskyhospicesociety.ca
END:VEVENT
END:VCALENDAR