BEGIN:VCALENDAR
VERSION:2.0
PRODID:-//Sea to Sky Hospice Society - ECPv6.15.12.2//NONSGML v1.0//EN
CALSCALE:GREGORIAN
METHOD:PUBLISH
X-WR-CALNAME:Sea to Sky Hospice Society
X-ORIGINAL-URL:https://seatoskyhospicesociety.ca
X-WR-CALDESC:Events for Sea to Sky Hospice Society
REFRESH-INTERVAL;VALUE=DURATION:PT1H
X-Robots-Tag:noindex
X-PUBLISHED-TTL:PT1H
BEGIN:VTIMEZONE
TZID:America/Los_Angeles
BEGIN:DAYLIGHT
TZOFFSETFROM:-0800
TZOFFSETTO:-0700
TZNAME:PDT
DTSTART:20210314T100000
END:DAYLIGHT
BEGIN:STANDARD
TZOFFSETFROM:-0700
TZOFFSETTO:-0800
TZNAME:PST
DTSTART:20211107T090000
END:STANDARD
BEGIN:DAYLIGHT
TZOFFSETFROM:-0800
TZOFFSETTO:-0700
TZNAME:PDT
DTSTART:20220313T100000
END:DAYLIGHT
BEGIN:STANDARD
TZOFFSETFROM:-0700
TZOFFSETTO:-0800
TZNAME:PST
DTSTART:20221106T090000
END:STANDARD
BEGIN:DAYLIGHT
TZOFFSETFROM:-0800
TZOFFSETTO:-0700
TZNAME:PDT
DTSTART:20230312T100000
END:DAYLIGHT
BEGIN:STANDARD
TZOFFSETFROM:-0700
TZOFFSETTO:-0800
TZNAME:PST
DTSTART:20231105T090000
END:STANDARD
BEGIN:DAYLIGHT
TZOFFSETFROM:-0800
TZOFFSETTO:-0700
TZNAME:PDT
DTSTART:20240310T100000
END:DAYLIGHT
BEGIN:STANDARD
TZOFFSETFROM:-0700
TZOFFSETTO:-0800
TZNAME:PST
DTSTART:20241103T090000
END:STANDARD
BEGIN:DAYLIGHT
TZOFFSETFROM:-0800
TZOFFSETTO:-0700
TZNAME:PDT
DTSTART:20250309T100000
END:DAYLIGHT
BEGIN:STANDARD
TZOFFSETFROM:-0700
TZOFFSETTO:-0800
TZNAME:PST
DTSTART:20251102T090000
END:STANDARD
BEGIN:DAYLIGHT
TZOFFSETFROM:-0800
TZOFFSETTO:-0700
TZNAME:PDT
DTSTART:20260308T100000
END:DAYLIGHT
BEGIN:STANDARD
TZOFFSETFROM:-0700
TZOFFSETTO:-0800
TZNAME:PST
DTSTART:20261101T090000
END:STANDARD
END:VTIMEZONE
BEGIN:VEVENT
DTSTART;TZID=America/Los_Angeles:20250620T150000
DTEND;TZID=America/Los_Angeles:20250620T180000
DTSTAMP:20260423T163731
CREATED:20250616T193311Z
LAST-MODIFIED:20250616T193311Z
UID:10001885-1750431600-1750442400@seatoskyhospicesociety.ca
SUMMARY:Pemberton Farmers' Market
DESCRIPTION:Come and visit us at our information booth at the Pemberton Farmers’ Market on June 20 from 3-6pm. Ask us about our grief and bereavement programs and services in Pemberton\, Whistler & Squamish\, opportunities to volunteer with us\, and more… \n 
URL:https://seatoskyhospicesociety.ca/event/pemberton-farmers-market/
LOCATION:Pemberton Downtown Community Barn\, 7444 Frontier Street\, Pemberton\, BC\, V0N2L1\, Canada
ORGANIZER;CN="Sea to Sky Hospice Society":MAILTO:info@seatoskyhospicesociety.ca
END:VEVENT
BEGIN:VEVENT
DTSTART;TZID=America/Los_Angeles:20221207T110000
DTEND;TZID=America/Los_Angeles:20221207T120000
DTSTAMP:20260423T163731
CREATED:20221119T015734Z
LAST-MODIFIED:20221119T020820Z
UID:10000196-1670410800-1670414400@seatoskyhospicesociety.ca
SUMMARY:Bereavement Drop In Walk - Pemberton
DESCRIPTION:A Pemberton Bereavement walking group is starting weekly on Wednesdays at 11AM. Meet at the Barn\, across from the Pemberton IDA pharmacy.\n\n\nThis is an opportunity for a relaxing and supportive walk for all who are grieving the loss of a loved one.\n\n\nPlease email diana.gunstone@seatoskyhospicesociety.ca for more information.
URL:https://seatoskyhospicesociety.ca/event/bereavement-drop-in-walk-pemberton-3/2022-12-07/
LOCATION:Pemberton Downtown Community Barn\, 7444 Frontier Street\, Pemberton\, BC\, V0N2L1\, Canada
ATTACH;FMTTYPE=image/jpeg:https://seatoskyhospicesociety.ca/wp-content/uploads/2022/11/Pemberton-Bereavement-Walk.jpg
ORGANIZER;CN="Sea to Sky Hospice Society":MAILTO:info@seatoskyhospicesociety.ca
END:VEVENT
BEGIN:VEVENT
DTSTART;TZID=America/Los_Angeles:20221130T110000
DTEND;TZID=America/Los_Angeles:20221130T120000
DTSTAMP:20260423T163731
CREATED:20221119T015734Z
LAST-MODIFIED:20221119T020820Z
UID:10000195-1669806000-1669809600@seatoskyhospicesociety.ca
SUMMARY:Bereavement Drop In Walk - Pemberton
DESCRIPTION:A Pemberton Bereavement walking group is starting weekly on Wednesdays at 11AM. Meet at the Barn\, across from the Pemberton IDA pharmacy.\n\n\nThis is an opportunity for a relaxing and supportive walk for all who are grieving the loss of a loved one.\n\n\nPlease email diana.gunstone@seatoskyhospicesociety.ca for more information.
URL:https://seatoskyhospicesociety.ca/event/bereavement-drop-in-walk-pemberton-3/2022-11-30/
LOCATION:Pemberton Downtown Community Barn\, 7444 Frontier Street\, Pemberton\, BC\, V0N2L1\, Canada
ATTACH;FMTTYPE=image/jpeg:https://seatoskyhospicesociety.ca/wp-content/uploads/2022/11/Pemberton-Bereavement-Walk.jpg
ORGANIZER;CN="Sea to Sky Hospice Society":MAILTO:info@seatoskyhospicesociety.ca
END:VEVENT
BEGIN:VEVENT
DTSTART;TZID=America/Los_Angeles:20221123T110000
DTEND;TZID=America/Los_Angeles:20221123T120000
DTSTAMP:20260423T163731
CREATED:20221119T015734Z
LAST-MODIFIED:20221119T020820Z
UID:10000083-1669201200-1669204800@seatoskyhospicesociety.ca
SUMMARY:Bereavement Drop In Walk - Pemberton
DESCRIPTION:A Pemberton Bereavement walking group is starting weekly on Wednesdays at 11AM. Meet at the Barn\, across from the Pemberton IDA pharmacy.\n\n\nThis is an opportunity for a relaxing and supportive walk for all who are grieving the loss of a loved one.\n\n\nPlease email diana.gunstone@seatoskyhospicesociety.ca for more information.
URL:https://seatoskyhospicesociety.ca/event/bereavement-drop-in-walk-pemberton-3/2022-11-23/
LOCATION:Pemberton Downtown Community Barn\, 7444 Frontier Street\, Pemberton\, BC\, V0N2L1\, Canada
ATTACH;FMTTYPE=image/jpeg:https://seatoskyhospicesociety.ca/wp-content/uploads/2022/11/Pemberton-Bereavement-Walk.jpg
ORGANIZER;CN="Sea to Sky Hospice Society":MAILTO:info@seatoskyhospicesociety.ca
END:VEVENT
END:VCALENDAR