BEGIN:VCALENDAR
VERSION:2.0
PRODID:-//Sea to Sky Hospice Society - ECPv6.15.12.2//NONSGML v1.0//EN
CALSCALE:GREGORIAN
METHOD:PUBLISH
X-WR-CALNAME:Sea to Sky Hospice Society
X-ORIGINAL-URL:https://seatoskyhospicesociety.ca
X-WR-CALDESC:Events for Sea to Sky Hospice Society
REFRESH-INTERVAL;VALUE=DURATION:PT1H
X-Robots-Tag:noindex
X-PUBLISHED-TTL:PT1H
BEGIN:VTIMEZONE
TZID:America/Los_Angeles
BEGIN:DAYLIGHT
TZOFFSETFROM:-0800
TZOFFSETTO:-0700
TZNAME:PDT
DTSTART:20230312T100000
END:DAYLIGHT
BEGIN:STANDARD
TZOFFSETFROM:-0700
TZOFFSETTO:-0800
TZNAME:PST
DTSTART:20231105T090000
END:STANDARD
BEGIN:DAYLIGHT
TZOFFSETFROM:-0800
TZOFFSETTO:-0700
TZNAME:PDT
DTSTART:20240310T100000
END:DAYLIGHT
BEGIN:STANDARD
TZOFFSETFROM:-0700
TZOFFSETTO:-0800
TZNAME:PST
DTSTART:20241103T090000
END:STANDARD
BEGIN:DAYLIGHT
TZOFFSETFROM:-0800
TZOFFSETTO:-0700
TZNAME:PDT
DTSTART:20250309T100000
END:DAYLIGHT
BEGIN:STANDARD
TZOFFSETFROM:-0700
TZOFFSETTO:-0800
TZNAME:PST
DTSTART:20251102T090000
END:STANDARD
BEGIN:DAYLIGHT
TZOFFSETFROM:-0800
TZOFFSETTO:-0700
TZNAME:PDT
DTSTART:20260308T100000
END:DAYLIGHT
BEGIN:STANDARD
TZOFFSETFROM:-0700
TZOFFSETTO:-0800
TZNAME:PST
DTSTART:20261101T090000
END:STANDARD
END:VTIMEZONE
BEGIN:VEVENT
DTSTART;TZID=America/Los_Angeles:20250701T100000
DTEND;TZID=America/Los_Angeles:20250701T180000
DTSTAMP:20260423T152133
CREATED:20250616T192703Z
LAST-MODIFIED:20250616T192703Z
UID:10001884-1751364000-1751392800@seatoskyhospicesociety.ca
SUMMARY:Sk̲wx̲wú7mesh Squamish Together
DESCRIPTION:Come and visit us at our information booth on July 1st from 10 a.m. to 6 p.m. at Junction Park and Cleveland Avenue in Downtown Squamish. \nSk̲wx̲wú7mesh Squamish Together features live music\, food trucks\, cultural performances\, a 19+ craft beer garden\, and the X̱ex̱e7énaḵ Creators Together Market featuring art\, clothing\, ceramics\, jewelry and more. Sk̲wx̲wú7mesh Squamish Together is a free event hosted by the Downtown Squamish Business Improvement Association. Everyone is welcome.
URL:https://seatoskyhospicesociety.ca/event/sk%cc%b2wx%cc%b2wu7mesh-squamish-together/
LOCATION:O’Siyam Pavilion & Junction Park\, Logger's Lane\, Squamish\, British Columbia\, Canada
ORGANIZER;CN="Sea to Sky Hospice Society":MAILTO:info@seatoskyhospicesociety.ca
END:VEVENT
BEGIN:VEVENT
DTSTART;TZID=America/Los_Angeles:20250531T110000
DTEND;TZID=America/Los_Angeles:20250531T140000
DTSTAMP:20260423T152133
CREATED:20250326T223611Z
LAST-MODIFIED:20250326T223611Z
UID:10001870-1748689200-1748700000@seatoskyhospicesociety.ca
SUMMARY:19th annual Hike for Hospice Celebration
DESCRIPTION:Join us as we celebrate the important programs and services we provide to the Sea to Sky comunity. May is a month of fundraising for the 19th annual Hike for Hospice. \nSaturday\, May 31st at O’Siyam  Pavilion and Junction Park from 11 am to 2 pm. \nFood\, music\, family entertainment and so much more!
URL:https://seatoskyhospicesociety.ca/event/19th-annual-hike-for-hospice-celebration/
LOCATION:O’Siyam Pavilion & Junction Park\, Logger's Lane\, Squamish\, British Columbia\, Canada
CATEGORIES:Special Event
ATTACH;FMTTYPE=image/png:https://seatoskyhospicesociety.ca/wp-content/uploads/2025/03/H4H-2025-feature.png
ORGANIZER;CN="Sea to Sky Hospice Society":MAILTO:info@seatoskyhospicesociety.ca
END:VEVENT
BEGIN:VEVENT
DTSTART;TZID=America/Los_Angeles:20240525T120000
DTEND;TZID=America/Los_Angeles:20240525T143000
DTSTAMP:20260423T152133
CREATED:20240515T153224Z
LAST-MODIFIED:20240515T154336Z
UID:10000806-1716638400-1716647400@seatoskyhospicesociety.ca
SUMMARY:Come Celebrate Hospice With Us!
DESCRIPTION:Join us at O’Siyam Pavilion and Junction Park on Saturday\, May 25th. Between 12 pm and 2:30 we will be celebrating all of the hard work put into the fundraising done on behalf of the Sea to Sky Hospice Society. \nA Land Blessing will open the event\, followed by the Squamish Line Dancers and then beautiful music performed by Will Ross. The Lions Club will be providing a barbeque with delicious food with face painting available for the whole family. \nThe Sea to Sky Hospice Society is grateful for your support and invites you to come out and celebrate hospice in our community.
URL:https://seatoskyhospicesociety.ca/event/come-celebrate-hospice-with-us/
LOCATION:O’Siyam Pavilion & Junction Park\, Logger's Lane\, Squamish\, British Columbia\, Canada
ATTACH;FMTTYPE=image/jpeg:https://seatoskyhospicesociety.ca/wp-content/uploads/2024/05/HFH-chief-ad-april-web-scaled.jpg
ORGANIZER;CN="Sea to Sky Hospice Society":MAILTO:info@seatoskyhospicesociety.ca
END:VEVENT
END:VCALENDAR