BEGIN:VCALENDAR
VERSION:2.0
PRODID:-//Sea to Sky Hospice Society - ECPv6.15.12.2//NONSGML v1.0//EN
CALSCALE:GREGORIAN
METHOD:PUBLISH
X-ORIGINAL-URL:https://seatoskyhospicesociety.ca
X-WR-CALDESC:Events for Sea to Sky Hospice Society
REFRESH-INTERVAL;VALUE=DURATION:PT1H
X-Robots-Tag:noindex
X-PUBLISHED-TTL:PT1H
BEGIN:VTIMEZONE
TZID:America/Los_Angeles
BEGIN:DAYLIGHT
TZOFFSETFROM:-0800
TZOFFSETTO:-0700
TZNAME:PDT
DTSTART:20230312T100000
END:DAYLIGHT
BEGIN:STANDARD
TZOFFSETFROM:-0700
TZOFFSETTO:-0800
TZNAME:PST
DTSTART:20231105T090000
END:STANDARD
BEGIN:DAYLIGHT
TZOFFSETFROM:-0800
TZOFFSETTO:-0700
TZNAME:PDT
DTSTART:20240310T100000
END:DAYLIGHT
BEGIN:STANDARD
TZOFFSETFROM:-0700
TZOFFSETTO:-0800
TZNAME:PST
DTSTART:20241103T090000
END:STANDARD
BEGIN:DAYLIGHT
TZOFFSETFROM:-0800
TZOFFSETTO:-0700
TZNAME:PDT
DTSTART:20250309T100000
END:DAYLIGHT
BEGIN:STANDARD
TZOFFSETFROM:-0700
TZOFFSETTO:-0800
TZNAME:PST
DTSTART:20251102T090000
END:STANDARD
END:VTIMEZONE
BEGIN:VEVENT
DTSTART;TZID=America/Los_Angeles:20240619T180000
DTEND;TZID=America/Los_Angeles:20240619T210000
DTSTAMP:20260423T163840
CREATED:20240618T164839Z
LAST-MODIFIED:20240618T164839Z
UID:10000810-1718820000-1718830800@seatoskyhospicesociety.ca
SUMMARY:Special Screening of "Uncharitable"
DESCRIPTION:Come for a special screening of Uncharitable at the Brackendale Art Gallery: Café & Culture Centre on June 19th! In partnership with PearlSpace formerly Howe Sound Women’s Centre and the Sea to Sky Hospice Society\, the Squamish Community Foundation will be screening the movie- based on the book\, “Uncharitable\,” by Dan Pallotta. Panel discussion with local charity leaders will follow the film screening. \nJoin us from 6-9pm. This event is free and open to everyone however donations are gratefully received. The BAG will also be offering a Dinner & Beer combo for $20. Get tickets here: https://www.eventbrite.ca/…/uncharitable-film-screening…
URL:https://seatoskyhospicesociety.ca/event/special-screening-of-uncharitable/
LOCATION:Brackendale Art Gallery\, 41950 Government Road\, Brackendale\, BC\, V0N 1H0\, Canada
CATEGORIES:Compassionate Communities,Educational
ATTACH;FMTTYPE=image/jpeg:https://seatoskyhospicesociety.ca/wp-content/uploads/2024/06/Uncharitable-poster.jpg
ORGANIZER;CN="Sea to Sky Hospice Society":MAILTO:info@seatoskyhospicesociety.ca
END:VEVENT
END:VCALENDAR