BEGIN:VCALENDAR
VERSION:2.0
PRODID:-//Sea to Sky Hospice Society - ECPv6.15.12.2//NONSGML v1.0//EN
CALSCALE:GREGORIAN
METHOD:PUBLISH
X-WR-CALNAME:Sea to Sky Hospice Society
X-ORIGINAL-URL:https://seatoskyhospicesociety.ca
X-WR-CALDESC:Events for Sea to Sky Hospice Society
REFRESH-INTERVAL;VALUE=DURATION:PT1H
X-Robots-Tag:noindex
X-PUBLISHED-TTL:PT1H
BEGIN:VTIMEZONE
TZID:America/Los_Angeles
BEGIN:DAYLIGHT
TZOFFSETFROM:-0800
TZOFFSETTO:-0700
TZNAME:PDT
DTSTART:20210314T100000
END:DAYLIGHT
BEGIN:STANDARD
TZOFFSETFROM:-0700
TZOFFSETTO:-0800
TZNAME:PST
DTSTART:20211107T090000
END:STANDARD
BEGIN:DAYLIGHT
TZOFFSETFROM:-0800
TZOFFSETTO:-0700
TZNAME:PDT
DTSTART:20220313T100000
END:DAYLIGHT
BEGIN:STANDARD
TZOFFSETFROM:-0700
TZOFFSETTO:-0800
TZNAME:PST
DTSTART:20221106T090000
END:STANDARD
BEGIN:DAYLIGHT
TZOFFSETFROM:-0800
TZOFFSETTO:-0700
TZNAME:PDT
DTSTART:20230312T100000
END:DAYLIGHT
BEGIN:STANDARD
TZOFFSETFROM:-0700
TZOFFSETTO:-0800
TZNAME:PST
DTSTART:20231105T090000
END:STANDARD
BEGIN:DAYLIGHT
TZOFFSETFROM:-0800
TZOFFSETTO:-0700
TZNAME:PDT
DTSTART:20240310T100000
END:DAYLIGHT
BEGIN:STANDARD
TZOFFSETFROM:-0700
TZOFFSETTO:-0800
TZNAME:PST
DTSTART:20241103T090000
END:STANDARD
END:VTIMEZONE
BEGIN:VEVENT
DTSTART;TZID=America/Los_Angeles:20230119T100000
DTEND;TZID=America/Los_Angeles:20230119T110000
DTSTAMP:20260425T133952
CREATED:20230102T234400Z
LAST-MODIFIED:20230102T234400Z
UID:10000210-1674122400-1674126000@seatoskyhospicesociety.ca
SUMMARY:Squamish Drop in Bereavement Walk
DESCRIPTION:Weekly on Thursdays 10AM\, meeting at the stairs of the Squamish Adventure Centre \nStarting January 12th\, 2023 ending February 16th\, 2023 \nThis walks will happen rain or sun\, please come prepared. \nThese are drop in walks\, no preregistration is necessary and there is no cost to participate. \nFor more information please email Diana Gunstone at diana.gunstone@seatoskyhospicesociety.ca
URL:https://seatoskyhospicesociety.ca/event/squamish-drop-in-bereavement-walk/2023-01-19/
LOCATION:Squamish Adventure Centre\, 38551 Loggers Lane\, Squamish\, BC\, V8B 0H2\, Canada
ATTACH;FMTTYPE=image/jpeg:https://seatoskyhospicesociety.ca/wp-content/uploads/2023/01/shutterstock_45701632.jpg
ORGANIZER;CN="Sea to Sky Hospice Society":MAILTO:info@seatoskyhospicesociety.ca
END:VEVENT
BEGIN:VEVENT
DTSTART;TZID=America/Los_Angeles:20230118T103000
DTEND;TZID=America/Los_Angeles:20230118T113000
DTSTAMP:20260425T133952
CREATED:20230103T003124Z
LAST-MODIFIED:20230103T003124Z
UID:10000221-1674037800-1674041400@seatoskyhospicesociety.ca
SUMMARY:Online Grief & Loss Conversations:
DESCRIPTION:Join us on-line for a weekly Wednesday morning Grief & Loss Conversation “drop-in” group\, facilitated by trained Hospice Volunteers. \nWednesdays from 10:30 – 11:30AM \nStarting January 18th\, 2023 \nEnding Feb 22nd\, 2023 \nZoom Login: (will be provided once registration is completed) \nThis peer support group will have weekly themes for discussion\, and is a place for individuals to safely explore their grief and hear shared experiences of others travelling the journey of loss and grief. \nThese weekly one hour drop ins are free and open to residents of the Sea to Sky corridor grieving the loss of a loved one. \nPre-registration is required in order to receive the zoom link. \nFor more information or to preregister please contact Diana Gunstone at: diana.gunstone@seatoskyhospicesociety.ca
URL:https://seatoskyhospicesociety.ca/event/online-grief-loss-conversations/2023-01-18/
ATTACH;FMTTYPE=image/jpeg:https://seatoskyhospicesociety.ca/wp-content/uploads/2023/01/Shutterstock_1714186504-3000-×-2200-scaled.jpg
ORGANIZER;CN="Sea to Sky Hospice Society":MAILTO:info@seatoskyhospicesociety.ca
END:VEVENT
BEGIN:VEVENT
DTSTART;TZID=America/Los_Angeles:20230117T173000
DTEND;TZID=America/Los_Angeles:20230117T183000
DTSTAMP:20260425T133952
CREATED:20230103T000904Z
LAST-MODIFIED:20230103T000904Z
UID:10000216-1673976600-1673980200@seatoskyhospicesociety.ca
SUMMARY:Grief and Loss Conversations
DESCRIPTION:Grief and Loss Conversations; A weekly Drop-In group facilitated by trained Hospice Volunteers \nThese weekly one hour drop ins are free and open to community members grieving the loss of a loved one. Come join us in the cozy Squamish Public Library meeting room for a cup of tea and supportive conversation \nWhen:                   Tuesdays\, 5:30-6:30PM Jan 10 – Feb 14 \nWhere:                  Squamish Public Library cozy meeting room
URL:https://seatoskyhospicesociety.ca/event/grief-and-loss-conversations/2023-01-17/
ATTACH;FMTTYPE=image/jpeg:https://seatoskyhospicesociety.ca/wp-content/uploads/2023/01/shutterstock_1455441614.jpg
ORGANIZER;CN="Sea to Sky Hospice Society":MAILTO:info@seatoskyhospicesociety.ca
END:VEVENT
BEGIN:VEVENT
DTSTART;TZID=America/Los_Angeles:20230112T100000
DTEND;TZID=America/Los_Angeles:20230112T110000
DTSTAMP:20260425T133952
CREATED:20230102T234400Z
LAST-MODIFIED:20230102T234400Z
UID:10000209-1673517600-1673521200@seatoskyhospicesociety.ca
SUMMARY:Squamish Drop in Bereavement Walk
DESCRIPTION:Weekly on Thursdays 10AM\, meeting at the stairs of the Squamish Adventure Centre \nStarting January 12th\, 2023 ending February 16th\, 2023 \nThis walks will happen rain or sun\, please come prepared. \nThese are drop in walks\, no preregistration is necessary and there is no cost to participate. \nFor more information please email Diana Gunstone at diana.gunstone@seatoskyhospicesociety.ca
URL:https://seatoskyhospicesociety.ca/event/squamish-drop-in-bereavement-walk/2023-01-12/
LOCATION:Squamish Adventure Centre\, 38551 Loggers Lane\, Squamish\, BC\, V8B 0H2\, Canada
ATTACH;FMTTYPE=image/jpeg:https://seatoskyhospicesociety.ca/wp-content/uploads/2023/01/shutterstock_45701632.jpg
ORGANIZER;CN="Sea to Sky Hospice Society":MAILTO:info@seatoskyhospicesociety.ca
END:VEVENT
BEGIN:VEVENT
DTSTART;TZID=America/Los_Angeles:20230110T173000
DTEND;TZID=America/Los_Angeles:20230110T183000
DTSTAMP:20260425T133952
CREATED:20230103T000904Z
LAST-MODIFIED:20230103T000904Z
UID:10000215-1673371800-1673375400@seatoskyhospicesociety.ca
SUMMARY:Grief and Loss Conversations
DESCRIPTION:Grief and Loss Conversations; A weekly Drop-In group facilitated by trained Hospice Volunteers \nThese weekly one hour drop ins are free and open to community members grieving the loss of a loved one. Come join us in the cozy Squamish Public Library meeting room for a cup of tea and supportive conversation \nWhen:                   Tuesdays\, 5:30-6:30PM Jan 10 – Feb 14 \nWhere:                  Squamish Public Library cozy meeting room
URL:https://seatoskyhospicesociety.ca/event/grief-and-loss-conversations/2023-01-10/
ATTACH;FMTTYPE=image/jpeg:https://seatoskyhospicesociety.ca/wp-content/uploads/2023/01/shutterstock_1455441614.jpg
ORGANIZER;CN="Sea to Sky Hospice Society":MAILTO:info@seatoskyhospicesociety.ca
END:VEVENT
BEGIN:VEVENT
DTSTART;TZID=America/Los_Angeles:20221208T100000
DTEND;TZID=America/Los_Angeles:20221208T120000
DTSTAMP:20260425T133952
CREATED:20221205T055314Z
LAST-MODIFIED:20221206T214857Z
UID:10000208-1670493600-1670500800@seatoskyhospicesociety.ca
SUMMARY:Weekly Bereavement Walk Squamish
DESCRIPTION:A relaxing and supportive walk for all who are grieving the loss of a loved one. \nMeeting at the steps of the Squamish Adventure Centre. \nWeekly on Thursdays at 10am \nStarting October 27th and ending December 8. \nFor more information please email Diana Gunstone at diana.gunstone@seatoskyhospicesociety.ca
URL:https://seatoskyhospicesociety.ca/event/weekly-bereavement-walk-squamish-3/2022-12-08/
LOCATION:Squamish Adventure Centre\, 38551 Loggers Lane\, Squamish\, BC\, V8B 0H2\, Canada
ORGANIZER;CN="Sea to Sky Hospice Society":MAILTO:info@seatoskyhospicesociety.ca
END:VEVENT
BEGIN:VEVENT
DTSTART;TZID=America/Los_Angeles:20221207T110000
DTEND;TZID=America/Los_Angeles:20221207T120000
DTSTAMP:20260425T133952
CREATED:20221119T015734Z
LAST-MODIFIED:20221119T020820Z
UID:10000196-1670410800-1670414400@seatoskyhospicesociety.ca
SUMMARY:Bereavement Drop In Walk - Pemberton
DESCRIPTION:A Pemberton Bereavement walking group is starting weekly on Wednesdays at 11AM. Meet at the Barn\, across from the Pemberton IDA pharmacy.\n\n\nThis is an opportunity for a relaxing and supportive walk for all who are grieving the loss of a loved one.\n\n\nPlease email diana.gunstone@seatoskyhospicesociety.ca for more information.
URL:https://seatoskyhospicesociety.ca/event/bereavement-drop-in-walk-pemberton-3/2022-12-07/
LOCATION:Pemberton Downtown Community Barn\, 7444 Frontier Street\, Pemberton\, BC\, V0N2L1\, Canada
ATTACH;FMTTYPE=image/jpeg:https://seatoskyhospicesociety.ca/wp-content/uploads/2022/11/Pemberton-Bereavement-Walk.jpg
ORGANIZER;CN="Sea to Sky Hospice Society":MAILTO:info@seatoskyhospicesociety.ca
END:VEVENT
BEGIN:VEVENT
DTSTART;TZID=America/Los_Angeles:20221201T100000
DTEND;TZID=America/Los_Angeles:20221201T120000
DTSTAMP:20260425T133952
CREATED:20221205T055314Z
LAST-MODIFIED:20221206T214857Z
UID:10000207-1669888800-1669896000@seatoskyhospicesociety.ca
SUMMARY:Weekly Bereavement Walk Squamish
DESCRIPTION:A relaxing and supportive walk for all who are grieving the loss of a loved one. \nMeeting at the steps of the Squamish Adventure Centre. \nWeekly on Thursdays at 10am \nStarting October 27th and ending December 8. \nFor more information please email Diana Gunstone at diana.gunstone@seatoskyhospicesociety.ca
URL:https://seatoskyhospicesociety.ca/event/weekly-bereavement-walk-squamish-3/2022-12-01/
LOCATION:Squamish Adventure Centre\, 38551 Loggers Lane\, Squamish\, BC\, V8B 0H2\, Canada
ORGANIZER;CN="Sea to Sky Hospice Society":MAILTO:info@seatoskyhospicesociety.ca
END:VEVENT
BEGIN:VEVENT
DTSTART;TZID=America/Los_Angeles:20221130T110000
DTEND;TZID=America/Los_Angeles:20221130T120000
DTSTAMP:20260425T133952
CREATED:20221119T015734Z
LAST-MODIFIED:20221119T020820Z
UID:10000195-1669806000-1669809600@seatoskyhospicesociety.ca
SUMMARY:Bereavement Drop In Walk - Pemberton
DESCRIPTION:A Pemberton Bereavement walking group is starting weekly on Wednesdays at 11AM. Meet at the Barn\, across from the Pemberton IDA pharmacy.\n\n\nThis is an opportunity for a relaxing and supportive walk for all who are grieving the loss of a loved one.\n\n\nPlease email diana.gunstone@seatoskyhospicesociety.ca for more information.
URL:https://seatoskyhospicesociety.ca/event/bereavement-drop-in-walk-pemberton-3/2022-11-30/
LOCATION:Pemberton Downtown Community Barn\, 7444 Frontier Street\, Pemberton\, BC\, V0N2L1\, Canada
ATTACH;FMTTYPE=image/jpeg:https://seatoskyhospicesociety.ca/wp-content/uploads/2022/11/Pemberton-Bereavement-Walk.jpg
ORGANIZER;CN="Sea to Sky Hospice Society":MAILTO:info@seatoskyhospicesociety.ca
END:VEVENT
BEGIN:VEVENT
DTSTART;TZID=America/Los_Angeles:20221125T180000
DTEND;TZID=America/Los_Angeles:20221125T190000
DTSTAMP:20260425T133952
CREATED:20220929T181901Z
LAST-MODIFIED:20221119T012008Z
UID:10000057-1669399200-1669402800@seatoskyhospicesociety.ca
SUMMARY:10th Annual Memory Tree Event
DESCRIPTION:The Memory Tree event begins at 6PM on Friday\, November 25th \nThe event will begin with a short ceremony\, followed by lighting of the Memory Tree and hanging of personalized tree tags in honour of loved ones lost. \nTrees donated by Home Depot will be lit up\, and personalized Memory Tree tags are available at the event from Hospice Volunteers. \nVolunteers will also serve Hot chocolate\, thanks to  a donation from Cloudburst Cafe. \nCo-hosted by the Squamish Funeral Chapel and the Sea to Sky Hospice Society. \nPlease join us at the Squamish Town Hub behind Cloudburst Café. \nNo preregistration necessary. For additional information please contact Diana.Gunstone@seatoskyhospicesociety.ca
URL:https://seatoskyhospicesociety.ca/event/10th-annual-memory-tree-event/
LOCATION:Squamish Town Hub\, 1861 Mamquam Rd.\, Squamish\, BC\, V8B 0G2\, Canada
ATTACH;FMTTYPE=image/jpeg:https://seatoskyhospicesociety.ca/wp-content/uploads/2020/07/Memory-Tree-Sea-to-Sky-Hospice-Society.jpg
ORGANIZER;CN="Sea to Sky Hospice Society":MAILTO:info@seatoskyhospicesociety.ca
END:VEVENT
BEGIN:VEVENT
DTSTART;TZID=America/Los_Angeles:20221124T100000
DTEND;TZID=America/Los_Angeles:20221124T120000
DTSTAMP:20260425T133952
CREATED:20221205T055314Z
LAST-MODIFIED:20221206T214857Z
UID:10000206-1669284000-1669291200@seatoskyhospicesociety.ca
SUMMARY:Weekly Bereavement Walk Squamish
DESCRIPTION:A relaxing and supportive walk for all who are grieving the loss of a loved one. \nMeeting at the steps of the Squamish Adventure Centre. \nWeekly on Thursdays at 10am \nStarting October 27th and ending December 8. \nFor more information please email Diana Gunstone at diana.gunstone@seatoskyhospicesociety.ca
URL:https://seatoskyhospicesociety.ca/event/weekly-bereavement-walk-squamish-3/2022-11-24/
LOCATION:Squamish Adventure Centre\, 38551 Loggers Lane\, Squamish\, BC\, V8B 0H2\, Canada
ORGANIZER;CN="Sea to Sky Hospice Society":MAILTO:info@seatoskyhospicesociety.ca
END:VEVENT
BEGIN:VEVENT
DTSTART;TZID=America/Los_Angeles:20221123T110000
DTEND;TZID=America/Los_Angeles:20221123T120000
DTSTAMP:20260425T133952
CREATED:20221119T015734Z
LAST-MODIFIED:20221119T020820Z
UID:10000083-1669201200-1669204800@seatoskyhospicesociety.ca
SUMMARY:Bereavement Drop In Walk - Pemberton
DESCRIPTION:A Pemberton Bereavement walking group is starting weekly on Wednesdays at 11AM. Meet at the Barn\, across from the Pemberton IDA pharmacy.\n\n\nThis is an opportunity for a relaxing and supportive walk for all who are grieving the loss of a loved one.\n\n\nPlease email diana.gunstone@seatoskyhospicesociety.ca for more information.
URL:https://seatoskyhospicesociety.ca/event/bereavement-drop-in-walk-pemberton-3/2022-11-23/
LOCATION:Pemberton Downtown Community Barn\, 7444 Frontier Street\, Pemberton\, BC\, V0N2L1\, Canada
ATTACH;FMTTYPE=image/jpeg:https://seatoskyhospicesociety.ca/wp-content/uploads/2022/11/Pemberton-Bereavement-Walk.jpg
ORGANIZER;CN="Sea to Sky Hospice Society":MAILTO:info@seatoskyhospicesociety.ca
END:VEVENT
BEGIN:VEVENT
DTSTART;TZID=America/Los_Angeles:20221117T100000
DTEND;TZID=America/Los_Angeles:20221117T120000
DTSTAMP:20260425T133952
CREATED:20221205T055314Z
LAST-MODIFIED:20221206T214857Z
UID:10000205-1668679200-1668686400@seatoskyhospicesociety.ca
SUMMARY:Weekly Bereavement Walk Squamish
DESCRIPTION:A relaxing and supportive walk for all who are grieving the loss of a loved one. \nMeeting at the steps of the Squamish Adventure Centre. \nWeekly on Thursdays at 10am \nStarting October 27th and ending December 8. \nFor more information please email Diana Gunstone at diana.gunstone@seatoskyhospicesociety.ca
URL:https://seatoskyhospicesociety.ca/event/weekly-bereavement-walk-squamish-3/2022-11-17/
LOCATION:Squamish Adventure Centre\, 38551 Loggers Lane\, Squamish\, BC\, V8B 0H2\, Canada
ORGANIZER;CN="Sea to Sky Hospice Society":MAILTO:info@seatoskyhospicesociety.ca
END:VEVENT
BEGIN:VEVENT
DTSTART;TZID=America/Los_Angeles:20221110T100000
DTEND;TZID=America/Los_Angeles:20221110T120000
DTSTAMP:20260425T133952
CREATED:20221205T055314Z
LAST-MODIFIED:20221206T214857Z
UID:10000204-1668074400-1668081600@seatoskyhospicesociety.ca
SUMMARY:Weekly Bereavement Walk Squamish
DESCRIPTION:A relaxing and supportive walk for all who are grieving the loss of a loved one. \nMeeting at the steps of the Squamish Adventure Centre. \nWeekly on Thursdays at 10am \nStarting October 27th and ending December 8. \nFor more information please email Diana Gunstone at diana.gunstone@seatoskyhospicesociety.ca
URL:https://seatoskyhospicesociety.ca/event/weekly-bereavement-walk-squamish-3/2022-11-10/
LOCATION:Squamish Adventure Centre\, 38551 Loggers Lane\, Squamish\, BC\, V8B 0H2\, Canada
ORGANIZER;CN="Sea to Sky Hospice Society":MAILTO:info@seatoskyhospicesociety.ca
END:VEVENT
BEGIN:VEVENT
DTSTART;TZID=America/Los_Angeles:20221103T100000
DTEND;TZID=America/Los_Angeles:20221103T120000
DTSTAMP:20260425T133952
CREATED:20221205T055314Z
LAST-MODIFIED:20221206T214857Z
UID:10000203-1667469600-1667476800@seatoskyhospicesociety.ca
SUMMARY:Weekly Bereavement Walk Squamish
DESCRIPTION:A relaxing and supportive walk for all who are grieving the loss of a loved one. \nMeeting at the steps of the Squamish Adventure Centre. \nWeekly on Thursdays at 10am \nStarting October 27th and ending December 8. \nFor more information please email Diana Gunstone at diana.gunstone@seatoskyhospicesociety.ca
URL:https://seatoskyhospicesociety.ca/event/weekly-bereavement-walk-squamish-3/2022-11-03/
LOCATION:Squamish Adventure Centre\, 38551 Loggers Lane\, Squamish\, BC\, V8B 0H2\, Canada
ORGANIZER;CN="Sea to Sky Hospice Society":MAILTO:info@seatoskyhospicesociety.ca
END:VEVENT
BEGIN:VEVENT
DTSTART;TZID=America/Los_Angeles:20221027T100000
DTEND;TZID=America/Los_Angeles:20221027T120000
DTSTAMP:20260425T133952
CREATED:20221205T055314Z
LAST-MODIFIED:20221206T214857Z
UID:10000202-1666864800-1666872000@seatoskyhospicesociety.ca
SUMMARY:Weekly Bereavement Walk Squamish
DESCRIPTION:A relaxing and supportive walk for all who are grieving the loss of a loved one. \nMeeting at the steps of the Squamish Adventure Centre. \nWeekly on Thursdays at 10am \nStarting October 27th and ending December 8. \nFor more information please email Diana Gunstone at diana.gunstone@seatoskyhospicesociety.ca
URL:https://seatoskyhospicesociety.ca/event/weekly-bereavement-walk-squamish-3/2022-10-27/
LOCATION:Squamish Adventure Centre\, 38551 Loggers Lane\, Squamish\, BC\, V8B 0H2\, Canada
ORGANIZER;CN="Sea to Sky Hospice Society":MAILTO:info@seatoskyhospicesociety.ca
END:VEVENT
BEGIN:VEVENT
DTSTART;TZID=America/Los_Angeles:20221024T180000
DTEND;TZID=America/Los_Angeles:20221024T200000
DTSTAMP:20260425T133952
CREATED:20220929T181348Z
LAST-MODIFIED:20221002T035004Z
UID:10000056-1666634400-1666641600@seatoskyhospicesociety.ca
SUMMARY:Annual General Meeting
DESCRIPTION:The Annual General Meeting is quickly approaching! \nPlease join us for an interesting evening filled with stories and updates of the amazing work that the Sea to Sky Hospice Society has been doing this past year. Learn about the new volunteer programs and opportunities to get involved with the Hospice Society and to give back to your community. \nLight refreshments will be served. \nPlease contact info@seatoskyhospicesociety.ca for additional information or if you have any questions.
URL:https://seatoskyhospicesociety.ca/event/annual-general-meeting/
LOCATION:Squamish Funeral Chapel\, 40440 Tantalus Rd\, Garibaldi Highlands\, BC\, V0N 1T0\, Canada
ATTACH;FMTTYPE=image/jpeg:https://seatoskyhospicesociety.ca/wp-content/uploads/2022/09/AGM-graphic.jpg
ORGANIZER;CN="Sea to Sky Hospice Society":MAILTO:info@seatoskyhospicesociety.ca
END:VEVENT
BEGIN:VEVENT
DTSTART;TZID=America/Los_Angeles:20221020T100000
DTEND;TZID=America/Los_Angeles:20221020T110000
DTSTAMP:20260425T133952
CREATED:20220926T201632Z
LAST-MODIFIED:20221009T162608Z
UID:10000061-1666260000-1666263600@seatoskyhospicesociety.ca
SUMMARY:Drop in Bereavement Walk
DESCRIPTION:A relaxing and supportive walk for all who are grieving the loss of a loved one. \nWe will met on the stairs outside the Squamish Adventure Centre. \nNo preregistration necessary. For additional information please contact Diana.Gunstone@seatoskyhospicesociety.ca
URL:https://seatoskyhospicesociety.ca/event/drop-in-bereavement-walk/2022-10-20/
LOCATION:Squamish Adventure Centre\, 38551 Loggers Lane\, Squamish\, BC\, V8B 0H2\, Canada
CATEGORIES:Bereavement
ATTACH;FMTTYPE=image/jpeg:https://seatoskyhospicesociety.ca/wp-content/uploads/2021/09/Walk-Frame-1-002.jpg
ORGANIZER;CN="Sea to Sky Hospice Society":MAILTO:info@seatoskyhospicesociety.ca
END:VEVENT
BEGIN:VEVENT
DTSTART;TZID=America/Los_Angeles:20221013T100000
DTEND;TZID=America/Los_Angeles:20221013T110000
DTSTAMP:20260425T133952
CREATED:20220926T201632Z
LAST-MODIFIED:20221009T162608Z
UID:10000060-1665655200-1665658800@seatoskyhospicesociety.ca
SUMMARY:Drop in Bereavement Walk
DESCRIPTION:A relaxing and supportive walk for all who are grieving the loss of a loved one. \nWe will met on the stairs outside the Squamish Adventure Centre. \nNo preregistration necessary. For additional information please contact Diana.Gunstone@seatoskyhospicesociety.ca
URL:https://seatoskyhospicesociety.ca/event/drop-in-bereavement-walk/2022-10-13/
LOCATION:Squamish Adventure Centre\, 38551 Loggers Lane\, Squamish\, BC\, V8B 0H2\, Canada
CATEGORIES:Bereavement
ATTACH;FMTTYPE=image/jpeg:https://seatoskyhospicesociety.ca/wp-content/uploads/2021/09/Walk-Frame-1-002.jpg
ORGANIZER;CN="Sea to Sky Hospice Society":MAILTO:info@seatoskyhospicesociety.ca
END:VEVENT
BEGIN:VEVENT
DTSTART;TZID=America/Los_Angeles:20221006T100000
DTEND;TZID=America/Los_Angeles:20221006T110000
DTSTAMP:20260425T133952
CREATED:20220926T201632Z
LAST-MODIFIED:20221009T162608Z
UID:10000059-1665050400-1665054000@seatoskyhospicesociety.ca
SUMMARY:Drop in Bereavement Walk
DESCRIPTION:A relaxing and supportive walk for all who are grieving the loss of a loved one. \nWe will met on the stairs outside the Squamish Adventure Centre. \nNo preregistration necessary. For additional information please contact Diana.Gunstone@seatoskyhospicesociety.ca
URL:https://seatoskyhospicesociety.ca/event/drop-in-bereavement-walk/2022-10-06/
LOCATION:Squamish Adventure Centre\, 38551 Loggers Lane\, Squamish\, BC\, V8B 0H2\, Canada
CATEGORIES:Bereavement
ATTACH;FMTTYPE=image/jpeg:https://seatoskyhospicesociety.ca/wp-content/uploads/2021/09/Walk-Frame-1-002.jpg
ORGANIZER;CN="Sea to Sky Hospice Society":MAILTO:info@seatoskyhospicesociety.ca
END:VEVENT
BEGIN:VEVENT
DTSTART;TZID=America/Los_Angeles:20220929T100000
DTEND;TZID=America/Los_Angeles:20220929T110000
DTSTAMP:20260425T133952
CREATED:20220926T201632Z
LAST-MODIFIED:20221009T162608Z
UID:10000058-1664445600-1664449200@seatoskyhospicesociety.ca
SUMMARY:Drop in Bereavement Walk
DESCRIPTION:A relaxing and supportive walk for all who are grieving the loss of a loved one. \nWe will met on the stairs outside the Squamish Adventure Centre. \nNo preregistration necessary. For additional information please contact Diana.Gunstone@seatoskyhospicesociety.ca
URL:https://seatoskyhospicesociety.ca/event/drop-in-bereavement-walk/2022-09-29/
LOCATION:Squamish Adventure Centre\, 38551 Loggers Lane\, Squamish\, BC\, V8B 0H2\, Canada
CATEGORIES:Bereavement
ATTACH;FMTTYPE=image/jpeg:https://seatoskyhospicesociety.ca/wp-content/uploads/2021/09/Walk-Frame-1-002.jpg
ORGANIZER;CN="Sea to Sky Hospice Society":MAILTO:info@seatoskyhospicesociety.ca
END:VEVENT
END:VCALENDAR