BEGIN:VCALENDAR
VERSION:2.0
PRODID:-//Sea to Sky Hospice Society - ECPv6.15.12.2//NONSGML v1.0//EN
CALSCALE:GREGORIAN
METHOD:PUBLISH
X-ORIGINAL-URL:https://seatoskyhospicesociety.ca
X-WR-CALDESC:Events for Sea to Sky Hospice Society
REFRESH-INTERVAL;VALUE=DURATION:PT1H
X-Robots-Tag:noindex
X-PUBLISHED-TTL:PT1H
BEGIN:VTIMEZONE
TZID:America/Los_Angeles
BEGIN:DAYLIGHT
TZOFFSETFROM:-0800
TZOFFSETTO:-0700
TZNAME:PDT
DTSTART:20230312T100000
END:DAYLIGHT
BEGIN:STANDARD
TZOFFSETFROM:-0700
TZOFFSETTO:-0800
TZNAME:PST
DTSTART:20231105T090000
END:STANDARD
BEGIN:DAYLIGHT
TZOFFSETFROM:-0800
TZOFFSETTO:-0700
TZNAME:PDT
DTSTART:20240310T100000
END:DAYLIGHT
BEGIN:STANDARD
TZOFFSETFROM:-0700
TZOFFSETTO:-0800
TZNAME:PST
DTSTART:20241103T090000
END:STANDARD
BEGIN:DAYLIGHT
TZOFFSETFROM:-0800
TZOFFSETTO:-0700
TZNAME:PDT
DTSTART:20250309T100000
END:DAYLIGHT
BEGIN:STANDARD
TZOFFSETFROM:-0700
TZOFFSETTO:-0800
TZNAME:PST
DTSTART:20251102T090000
END:STANDARD
END:VTIMEZONE
BEGIN:VEVENT
DTSTART;TZID=America/Los_Angeles:20240905T100000
DTEND;TZID=America/Los_Angeles:20240905T110000
DTSTAMP:20260424T184515
CREATED:20240820T232925Z
LAST-MODIFIED:20241214T002614Z
UID:10000813-1725530400-1725534000@seatoskyhospicesociety.ca
SUMMARY:The Fall Drop In Grief Walks are Beginning Soon!
DESCRIPTION:The Fall Drop In Grief and Bereavement Walking Group is beginning Thursday\, September 5th. \nLed by experienced volunteer facilitators\, this walk is a support group for those who have lost a loved one and are experiencing grief\, offering a supportive space to talk and share while taking a gentle walk in the company of others. \nThese walks occur every Thursday beginning September 5th and run through November 28th. \nMeet on the steps outside the Squamish Adventure Centre at 10am for an hour. \nLook for the volunteer with the Sea to Sky Hospice Society backpack. \nNo preregistration necessary.
URL:https://seatoskyhospicesociety.ca/event/the-fall-drop-in-grief-walks-are-beginning-soon/2024-09-05/
LOCATION:BC
CATEGORIES:Bereavement
ATTACH;FMTTYPE=image/jpeg:https://seatoskyhospicesociety.ca/wp-content/uploads/2024/08/fall-dropin-walking-group.jpg
ORGANIZER;CN="Sea to Sky Hospice Society":MAILTO:info@seatoskyhospicesociety.ca
END:VEVENT
BEGIN:VEVENT
DTSTART;TZID=America/Los_Angeles:20240912T100000
DTEND;TZID=America/Los_Angeles:20240912T110000
DTSTAMP:20260424T184515
CREATED:20240820T232925Z
LAST-MODIFIED:20241214T002614Z
UID:10000814-1726135200-1726138800@seatoskyhospicesociety.ca
SUMMARY:The Fall Drop In Grief Walks are Beginning Soon!
DESCRIPTION:The Fall Drop In Grief and Bereavement Walking Group is beginning Thursday\, September 5th. \nLed by experienced volunteer facilitators\, this walk is a support group for those who have lost a loved one and are experiencing grief\, offering a supportive space to talk and share while taking a gentle walk in the company of others. \nThese walks occur every Thursday beginning September 5th and run through November 28th. \nMeet on the steps outside the Squamish Adventure Centre at 10am for an hour. \nLook for the volunteer with the Sea to Sky Hospice Society backpack. \nNo preregistration necessary.
URL:https://seatoskyhospicesociety.ca/event/the-fall-drop-in-grief-walks-are-beginning-soon/2024-09-12/
LOCATION:BC
CATEGORIES:Bereavement
ATTACH;FMTTYPE=image/jpeg:https://seatoskyhospicesociety.ca/wp-content/uploads/2024/08/fall-dropin-walking-group.jpg
ORGANIZER;CN="Sea to Sky Hospice Society":MAILTO:info@seatoskyhospicesociety.ca
END:VEVENT
BEGIN:VEVENT
DTSTART;TZID=America/Los_Angeles:20240912T113000
DTEND;TZID=America/Los_Angeles:20240912T123000
DTSTAMP:20260424T184515
CREATED:20240826T175544Z
LAST-MODIFIED:20241216T211117Z
UID:10000883-1726140600-1726144200@seatoskyhospicesociety.ca
SUMMARY:Whistler Weekly Bereavement Walk
DESCRIPTION:Spend time in the company of others on your grief and bereavement journey\, and all are welcome\, at any stage of your journey. \nWe will come together to walk\, rain or shine. \nThis is a drop in walk\, no pre-registration required. \nCo- Sponsored by the Whistler Community Services Society & the Sea to Sky Hospice Society \nFor more information please contact Shalissa Forestell – shalissa@mywcss.org \n 
URL:https://seatoskyhospicesociety.ca/event/whistler-weekly-bereavement-walk/2024-09-12/
LOCATION:Whistler Public Library\, 4329 Main St\,\, Whistler\, BC\, V8E 1B2\, Canada
CATEGORIES:Bereavement
ATTACH;FMTTYPE=image/jpeg:https://seatoskyhospicesociety.ca/wp-content/uploads/2024/08/whistler-walks-web.jpg
ORGANIZER;CN="Sea to Sky Hospice Society":MAILTO:info@seatoskyhospicesociety.ca
END:VEVENT
BEGIN:VEVENT
DTSTART;TZID=America/Los_Angeles:20240919T100000
DTEND;TZID=America/Los_Angeles:20240919T110000
DTSTAMP:20260424T184515
CREATED:20240820T232925Z
LAST-MODIFIED:20241214T002614Z
UID:10000815-1726740000-1726743600@seatoskyhospicesociety.ca
SUMMARY:The Fall Drop In Grief Walks are Beginning Soon!
DESCRIPTION:The Fall Drop In Grief and Bereavement Walking Group is beginning Thursday\, September 5th. \nLed by experienced volunteer facilitators\, this walk is a support group for those who have lost a loved one and are experiencing grief\, offering a supportive space to talk and share while taking a gentle walk in the company of others. \nThese walks occur every Thursday beginning September 5th and run through November 28th. \nMeet on the steps outside the Squamish Adventure Centre at 10am for an hour. \nLook for the volunteer with the Sea to Sky Hospice Society backpack. \nNo preregistration necessary.
URL:https://seatoskyhospicesociety.ca/event/the-fall-drop-in-grief-walks-are-beginning-soon/2024-09-19/
LOCATION:BC
CATEGORIES:Bereavement
ATTACH;FMTTYPE=image/jpeg:https://seatoskyhospicesociety.ca/wp-content/uploads/2024/08/fall-dropin-walking-group.jpg
ORGANIZER;CN="Sea to Sky Hospice Society":MAILTO:info@seatoskyhospicesociety.ca
END:VEVENT
BEGIN:VEVENT
DTSTART;TZID=America/Los_Angeles:20240919T113000
DTEND;TZID=America/Los_Angeles:20240919T123000
DTSTAMP:20260424T184515
CREATED:20240826T175544Z
LAST-MODIFIED:20241216T211117Z
UID:10000884-1726745400-1726749000@seatoskyhospicesociety.ca
SUMMARY:Whistler Weekly Bereavement Walk
DESCRIPTION:Spend time in the company of others on your grief and bereavement journey\, and all are welcome\, at any stage of your journey. \nWe will come together to walk\, rain or shine. \nThis is a drop in walk\, no pre-registration required. \nCo- Sponsored by the Whistler Community Services Society & the Sea to Sky Hospice Society \nFor more information please contact Shalissa Forestell – shalissa@mywcss.org \n 
URL:https://seatoskyhospicesociety.ca/event/whistler-weekly-bereavement-walk/2024-09-19/
LOCATION:Whistler Public Library\, 4329 Main St\,\, Whistler\, BC\, V8E 1B2\, Canada
CATEGORIES:Bereavement
ATTACH;FMTTYPE=image/jpeg:https://seatoskyhospicesociety.ca/wp-content/uploads/2024/08/whistler-walks-web.jpg
ORGANIZER;CN="Sea to Sky Hospice Society":MAILTO:info@seatoskyhospicesociety.ca
END:VEVENT
BEGIN:VEVENT
DTSTART;TZID=America/Los_Angeles:20240926T100000
DTEND;TZID=America/Los_Angeles:20240926T110000
DTSTAMP:20260424T184515
CREATED:20240820T232925Z
LAST-MODIFIED:20241214T002614Z
UID:10000816-1727344800-1727348400@seatoskyhospicesociety.ca
SUMMARY:The Fall Drop In Grief Walks are Beginning Soon!
DESCRIPTION:The Fall Drop In Grief and Bereavement Walking Group is beginning Thursday\, September 5th. \nLed by experienced volunteer facilitators\, this walk is a support group for those who have lost a loved one and are experiencing grief\, offering a supportive space to talk and share while taking a gentle walk in the company of others. \nThese walks occur every Thursday beginning September 5th and run through November 28th. \nMeet on the steps outside the Squamish Adventure Centre at 10am for an hour. \nLook for the volunteer with the Sea to Sky Hospice Society backpack. \nNo preregistration necessary.
URL:https://seatoskyhospicesociety.ca/event/the-fall-drop-in-grief-walks-are-beginning-soon/2024-09-26/
LOCATION:BC
CATEGORIES:Bereavement
ATTACH;FMTTYPE=image/jpeg:https://seatoskyhospicesociety.ca/wp-content/uploads/2024/08/fall-dropin-walking-group.jpg
ORGANIZER;CN="Sea to Sky Hospice Society":MAILTO:info@seatoskyhospicesociety.ca
END:VEVENT
BEGIN:VEVENT
DTSTART;TZID=America/Los_Angeles:20240926T113000
DTEND;TZID=America/Los_Angeles:20240926T123000
DTSTAMP:20260424T184515
CREATED:20240826T175544Z
LAST-MODIFIED:20241216T211117Z
UID:10000885-1727350200-1727353800@seatoskyhospicesociety.ca
SUMMARY:Whistler Weekly Bereavement Walk
DESCRIPTION:Spend time in the company of others on your grief and bereavement journey\, and all are welcome\, at any stage of your journey. \nWe will come together to walk\, rain or shine. \nThis is a drop in walk\, no pre-registration required. \nCo- Sponsored by the Whistler Community Services Society & the Sea to Sky Hospice Society \nFor more information please contact Shalissa Forestell – shalissa@mywcss.org \n 
URL:https://seatoskyhospicesociety.ca/event/whistler-weekly-bereavement-walk/2024-09-26/
LOCATION:Whistler Public Library\, 4329 Main St\,\, Whistler\, BC\, V8E 1B2\, Canada
CATEGORIES:Bereavement
ATTACH;FMTTYPE=image/jpeg:https://seatoskyhospicesociety.ca/wp-content/uploads/2024/08/whistler-walks-web.jpg
ORGANIZER;CN="Sea to Sky Hospice Society":MAILTO:info@seatoskyhospicesociety.ca
END:VEVENT
END:VCALENDAR