BEGIN:VCALENDAR
VERSION:2.0
PRODID:-//Sea to Sky Hospice Society - ECPv6.15.12.2//NONSGML v1.0//EN
CALSCALE:GREGORIAN
METHOD:PUBLISH
X-ORIGINAL-URL:https://seatoskyhospicesociety.ca
X-WR-CALDESC:Events for Sea to Sky Hospice Society
REFRESH-INTERVAL;VALUE=DURATION:PT1H
X-Robots-Tag:noindex
X-PUBLISHED-TTL:PT1H
BEGIN:VTIMEZONE
TZID:America/Los_Angeles
BEGIN:DAYLIGHT
TZOFFSETFROM:-0800
TZOFFSETTO:-0700
TZNAME:PDT
DTSTART:20230312T100000
END:DAYLIGHT
BEGIN:STANDARD
TZOFFSETFROM:-0700
TZOFFSETTO:-0800
TZNAME:PST
DTSTART:20231105T090000
END:STANDARD
BEGIN:DAYLIGHT
TZOFFSETFROM:-0800
TZOFFSETTO:-0700
TZNAME:PDT
DTSTART:20240310T100000
END:DAYLIGHT
BEGIN:STANDARD
TZOFFSETFROM:-0700
TZOFFSETTO:-0800
TZNAME:PST
DTSTART:20241103T090000
END:STANDARD
BEGIN:DAYLIGHT
TZOFFSETFROM:-0800
TZOFFSETTO:-0700
TZNAME:PDT
DTSTART:20250309T100000
END:DAYLIGHT
BEGIN:STANDARD
TZOFFSETFROM:-0700
TZOFFSETTO:-0800
TZNAME:PST
DTSTART:20251102T090000
END:STANDARD
END:VTIMEZONE
BEGIN:VEVENT
DTSTART;TZID=America/Los_Angeles:20240201T173000
DTEND;TZID=America/Los_Angeles:20240201T183000
DTSTAMP:20260425T051729
CREATED:20231214T021152Z
LAST-MODIFIED:20231214T021152Z
UID:10000721-1706808600-1706812200@seatoskyhospicesociety.ca
SUMMARY:Grief and Loss Conversations
DESCRIPTION:Join us Thursday evenings for this peer support Drop In Group. \nThese weekly one hour drop-ins are free and open to community members who are grieving the loss of a loved one. \nOccuring at the Squamish Public Library on Thursday evenings from 5:30 – 6:30 pm \nStarting January 11th and running through February 29th \nThese events are free and no pre-registration is necessary. \nFor more information please contact Diana.Gunstone@seatoskyhospicesociety.ca
URL:https://seatoskyhospicesociety.ca/event/grief-and-loss-conversations-3/2024-02-01/
LOCATION:Squamish Public Library\, 37907 2 Ave\, Squamish\, BC\, V8B 0A7\, Canada
CATEGORIES:Bereavement
ATTACH;FMTTYPE=image/jpeg:https://seatoskyhospicesociety.ca/wp-content/uploads/2023/12/Web-Feature-Image-crop-bottom-off-10-copy.jpg
ORGANIZER;CN="Sea to Sky Hospice Society":MAILTO:info@seatoskyhospicesociety.ca
END:VEVENT
BEGIN:VEVENT
DTSTART;TZID=America/Los_Angeles:20240208T173000
DTEND;TZID=America/Los_Angeles:20240208T183000
DTSTAMP:20260425T051729
CREATED:20231214T021152Z
LAST-MODIFIED:20231214T021152Z
UID:10000722-1707413400-1707417000@seatoskyhospicesociety.ca
SUMMARY:Grief and Loss Conversations
DESCRIPTION:Join us Thursday evenings for this peer support Drop In Group. \nThese weekly one hour drop-ins are free and open to community members who are grieving the loss of a loved one. \nOccuring at the Squamish Public Library on Thursday evenings from 5:30 – 6:30 pm \nStarting January 11th and running through February 29th \nThese events are free and no pre-registration is necessary. \nFor more information please contact Diana.Gunstone@seatoskyhospicesociety.ca
URL:https://seatoskyhospicesociety.ca/event/grief-and-loss-conversations-3/2024-02-08/
LOCATION:Squamish Public Library\, 37907 2 Ave\, Squamish\, BC\, V8B 0A7\, Canada
CATEGORIES:Bereavement
ATTACH;FMTTYPE=image/jpeg:https://seatoskyhospicesociety.ca/wp-content/uploads/2023/12/Web-Feature-Image-crop-bottom-off-10-copy.jpg
ORGANIZER;CN="Sea to Sky Hospice Society":MAILTO:info@seatoskyhospicesociety.ca
END:VEVENT
BEGIN:VEVENT
DTSTART;TZID=America/Los_Angeles:20240215T173000
DTEND;TZID=America/Los_Angeles:20240215T183000
DTSTAMP:20260425T051729
CREATED:20231214T021152Z
LAST-MODIFIED:20231214T021152Z
UID:10000723-1708018200-1708021800@seatoskyhospicesociety.ca
SUMMARY:Grief and Loss Conversations
DESCRIPTION:Join us Thursday evenings for this peer support Drop In Group. \nThese weekly one hour drop-ins are free and open to community members who are grieving the loss of a loved one. \nOccuring at the Squamish Public Library on Thursday evenings from 5:30 – 6:30 pm \nStarting January 11th and running through February 29th \nThese events are free and no pre-registration is necessary. \nFor more information please contact Diana.Gunstone@seatoskyhospicesociety.ca
URL:https://seatoskyhospicesociety.ca/event/grief-and-loss-conversations-3/2024-02-15/
LOCATION:Squamish Public Library\, 37907 2 Ave\, Squamish\, BC\, V8B 0A7\, Canada
CATEGORIES:Bereavement
ATTACH;FMTTYPE=image/jpeg:https://seatoskyhospicesociety.ca/wp-content/uploads/2023/12/Web-Feature-Image-crop-bottom-off-10-copy.jpg
ORGANIZER;CN="Sea to Sky Hospice Society":MAILTO:info@seatoskyhospicesociety.ca
END:VEVENT
BEGIN:VEVENT
DTSTART;TZID=America/Los_Angeles:20240222T173000
DTEND;TZID=America/Los_Angeles:20240222T183000
DTSTAMP:20260425T051729
CREATED:20231214T021152Z
LAST-MODIFIED:20231214T021152Z
UID:10000724-1708623000-1708626600@seatoskyhospicesociety.ca
SUMMARY:Grief and Loss Conversations
DESCRIPTION:Join us Thursday evenings for this peer support Drop In Group. \nThese weekly one hour drop-ins are free and open to community members who are grieving the loss of a loved one. \nOccuring at the Squamish Public Library on Thursday evenings from 5:30 – 6:30 pm \nStarting January 11th and running through February 29th \nThese events are free and no pre-registration is necessary. \nFor more information please contact Diana.Gunstone@seatoskyhospicesociety.ca
URL:https://seatoskyhospicesociety.ca/event/grief-and-loss-conversations-3/2024-02-22/
LOCATION:Squamish Public Library\, 37907 2 Ave\, Squamish\, BC\, V8B 0A7\, Canada
CATEGORIES:Bereavement
ATTACH;FMTTYPE=image/jpeg:https://seatoskyhospicesociety.ca/wp-content/uploads/2023/12/Web-Feature-Image-crop-bottom-off-10-copy.jpg
ORGANIZER;CN="Sea to Sky Hospice Society":MAILTO:info@seatoskyhospicesociety.ca
END:VEVENT
BEGIN:VEVENT
DTSTART;TZID=America/Los_Angeles:20240229T173000
DTEND;TZID=America/Los_Angeles:20240229T183000
DTSTAMP:20260425T051729
CREATED:20231214T021152Z
LAST-MODIFIED:20231214T021152Z
UID:10000725-1709227800-1709231400@seatoskyhospicesociety.ca
SUMMARY:Grief and Loss Conversations
DESCRIPTION:Join us Thursday evenings for this peer support Drop In Group. \nThese weekly one hour drop-ins are free and open to community members who are grieving the loss of a loved one. \nOccuring at the Squamish Public Library on Thursday evenings from 5:30 – 6:30 pm \nStarting January 11th and running through February 29th \nThese events are free and no pre-registration is necessary. \nFor more information please contact Diana.Gunstone@seatoskyhospicesociety.ca
URL:https://seatoskyhospicesociety.ca/event/grief-and-loss-conversations-3/2024-02-29/
LOCATION:Squamish Public Library\, 37907 2 Ave\, Squamish\, BC\, V8B 0A7\, Canada
CATEGORIES:Bereavement
ATTACH;FMTTYPE=image/jpeg:https://seatoskyhospicesociety.ca/wp-content/uploads/2023/12/Web-Feature-Image-crop-bottom-off-10-copy.jpg
ORGANIZER;CN="Sea to Sky Hospice Society":MAILTO:info@seatoskyhospicesociety.ca
END:VEVENT
END:VCALENDAR