BEGIN:VCALENDAR
VERSION:2.0
PRODID:-//Sea to Sky Hospice Society - ECPv6.15.12.2//NONSGML v1.0//EN
CALSCALE:GREGORIAN
METHOD:PUBLISH
X-ORIGINAL-URL:https://seatoskyhospicesociety.ca
X-WR-CALDESC:Events for Sea to Sky Hospice Society
REFRESH-INTERVAL;VALUE=DURATION:PT1H
X-Robots-Tag:noindex
X-PUBLISHED-TTL:PT1H
BEGIN:VTIMEZONE
TZID:America/Los_Angeles
BEGIN:DAYLIGHT
TZOFFSETFROM:-0800
TZOFFSETTO:-0700
TZNAME:PDT
DTSTART:20230312T100000
END:DAYLIGHT
BEGIN:STANDARD
TZOFFSETFROM:-0700
TZOFFSETTO:-0800
TZNAME:PST
DTSTART:20231105T090000
END:STANDARD
BEGIN:DAYLIGHT
TZOFFSETFROM:-0800
TZOFFSETTO:-0700
TZNAME:PDT
DTSTART:20240310T100000
END:DAYLIGHT
BEGIN:STANDARD
TZOFFSETFROM:-0700
TZOFFSETTO:-0800
TZNAME:PST
DTSTART:20241103T090000
END:STANDARD
BEGIN:DAYLIGHT
TZOFFSETFROM:-0800
TZOFFSETTO:-0700
TZNAME:PDT
DTSTART:20250309T100000
END:DAYLIGHT
BEGIN:STANDARD
TZOFFSETFROM:-0700
TZOFFSETTO:-0800
TZNAME:PST
DTSTART:20251102T090000
END:STANDARD
END:VTIMEZONE
BEGIN:VEVENT
DTSTART;TZID=America/Los_Angeles:20240919T190000
DTEND;TZID=America/Los_Angeles:20240919T203000
DTSTAMP:20260424T172947
CREATED:20240717T204808Z
LAST-MODIFIED:20240718T001217Z
UID:10000812-1726772400-1726777800@seatoskyhospicesociety.ca
SUMMARY:Join us for our Late Summer Book Circle
DESCRIPTION:Join us for our Late Summer Book Circle\, Thursday evening\, Sept. 19th @ 7pm at Gather\, Books and Lovely Things. The two books we are featuring for the Fall Book Circle are: \n“Conscious Grieving – a Transformative Approach to Healing From Loss”  written by Claire Bidwell Smith\, LCPC \nand \n“Final Gifts – Understanding the Special Awareness\, Needs\, and Communications of the Dying”  co-authored by Maggie Callanan and Patricia Kelley
URL:https://seatoskyhospicesociety.ca/event/join-us-for-our-fall-book-circle/
LOCATION:Gather\, Books & Lovely Things\, 38041 2nd Avenue\, Squamish\, BC\, V8B 0C3\, Canada
ATTACH;FMTTYPE=image/jpeg:https://seatoskyhospicesociety.ca/wp-content/uploads/2024/07/Web-Feature-Image-crop-bottom-off-7-e1721261496103.jpg
ORGANIZER;CN="Sea to Sky Hospice Society":MAILTO:info@seatoskyhospicesociety.ca
END:VEVENT
END:VCALENDAR