BEGIN:VCALENDAR
VERSION:2.0
PRODID:-//Sea to Sky Hospice Society - ECPv6.15.12.2//NONSGML v1.0//EN
CALSCALE:GREGORIAN
METHOD:PUBLISH
X-WR-CALNAME:Sea to Sky Hospice Society
X-ORIGINAL-URL:https://seatoskyhospicesociety.ca
X-WR-CALDESC:Events for Sea to Sky Hospice Society
REFRESH-INTERVAL;VALUE=DURATION:PT1H
X-Robots-Tag:noindex
X-PUBLISHED-TTL:PT1H
BEGIN:VTIMEZONE
TZID:America/Los_Angeles
BEGIN:DAYLIGHT
TZOFFSETFROM:-0800
TZOFFSETTO:-0700
TZNAME:PDT
DTSTART:20240310T100000
END:DAYLIGHT
BEGIN:STANDARD
TZOFFSETFROM:-0700
TZOFFSETTO:-0800
TZNAME:PST
DTSTART:20241103T090000
END:STANDARD
BEGIN:DAYLIGHT
TZOFFSETFROM:-0800
TZOFFSETTO:-0700
TZNAME:PDT
DTSTART:20250309T100000
END:DAYLIGHT
BEGIN:STANDARD
TZOFFSETFROM:-0700
TZOFFSETTO:-0800
TZNAME:PST
DTSTART:20251102T090000
END:STANDARD
BEGIN:DAYLIGHT
TZOFFSETFROM:-0800
TZOFFSETTO:-0700
TZNAME:PDT
DTSTART:20260308T100000
END:DAYLIGHT
BEGIN:STANDARD
TZOFFSETFROM:-0700
TZOFFSETTO:-0800
TZNAME:PST
DTSTART:20261101T090000
END:STANDARD
END:VTIMEZONE
BEGIN:VEVENT
DTSTART;TZID=America/Los_Angeles:20250501T130000
DTEND;TZID=America/Los_Angeles:20250501T140000
DTSTAMP:20260424T040138
CREATED:20250326T211538Z
LAST-MODIFIED:20250326T211538Z
UID:10001865-1746104400-1746108000@seatoskyhospicesociety.ca
SUMMARY:Whistler Grief and Loss Walking Conversations
DESCRIPTION:Walking together on the beautiful paths around Whistler Village allows participants to have a “Forest bath” while sharing their grief journey in this peer support group\, co-facilitated by WCSS support workers and Hospice Society Bereavement volunteers. \nParticipants meet at Whistler Public Library at 1pm. No registration required.
URL:https://seatoskyhospicesociety.ca/event/whistler-grief-and-loss-walking-conversations/2025-05-01/
LOCATION:Whistler Public Library\, 4329 Main St\,\, Whistler\, BC\, V8E 1B2\, Canada
CATEGORIES:Bereavement
ATTACH;FMTTYPE=image/png:https://seatoskyhospicesociety.ca/wp-content/uploads/2025/03/feature-grief-losss-walking-conversations.png
ORGANIZER;CN="Sea to Sky Hospice Society":MAILTO:info@seatoskyhospicesociety.ca
END:VEVENT
BEGIN:VEVENT
DTSTART;TZID=America/Los_Angeles:20250501T180000
DTEND;TZID=America/Los_Angeles:20250501T200000
DTSTAMP:20260424T040138
CREATED:20250327T164508Z
LAST-MODIFIED:20250327T164508Z
UID:10001882-1746122400-1746129600@seatoskyhospicesociety.ca
SUMMARY:Squamish Grief and Loss through Art Exploration
DESCRIPTION:Grief and Loss through Art Exploration \nWhen there are no words\, our Art Exploration facilitators will guide this small peer support group on the path of grief and loss\, through the use of mixed materials. No experience necessary and all supplies provided. Registration required. \nTo register please contact Jody Kramer at jody.kramer@seatoskyhospicesociety.ca or phone 604.892.6051 xt 5 \nThursdays in the 55+ Centre Art Room: April 10-May 1st\, 6 – 8pm 
URL:https://seatoskyhospicesociety.ca/event/squamish-grief-and-loss-through-art-exploration/2025-05-01/
LOCATION:55 Activity Centre\, 1201 Village Way\, Squamish\, BC\, V8B 0R7\, Canada
CATEGORIES:Bereavement
ATTACH;FMTTYPE=image/png:https://seatoskyhospicesociety.ca/wp-content/uploads/2025/03/feature-Grief-and-Loss-through-Art-Exploration.png
ORGANIZER;CN="Sea to Sky Hospice Society":MAILTO:info@seatoskyhospicesociety.ca
END:VEVENT
BEGIN:VEVENT
DTSTART;TZID=America/Los_Angeles:20250507T180000
DTEND;TZID=America/Los_Angeles:20250507T193000
DTSTAMP:20260424T040138
CREATED:20250327T173437Z
LAST-MODIFIED:20250327T173437Z
UID:10001776-1746640800-1746646200@seatoskyhospicesociety.ca
SUMMARY:Mellow Yoga and Meditation for Caregivers\, Health Care Workers\, Volunteers
DESCRIPTION:Mellow Yoga and Meditation for Caregivers\, Health Care Workers\, Volunteers with Annie Martinello \nAnnie Martinello hosts this four-week yoga offering for those experiencing ambiguous grief\, such as caregivers\, family members\, health care workers and volunteers. Materials are provided but you are welcome to bring your own mat and/or cushion. Registration Required. \nEvery Wednesday evening in May\, 6-7:30pm in the Hospice Program Room. \nFor Questions and Registration:  jody.kramer@seatoskyhospicesociety.ca / 604-892-6051\, ext 5
URL:https://seatoskyhospicesociety.ca/event/mellow-yoga-and-meditation-for-caregivers-health-care-workers-volunteers/2025-05-07/
LOCATION:Hospice Society Program Room\, 38140 Behrner Drive\, Squamish\, BC V8B 0J3\, 38140 Behrner Drive\, Squamish\, British Columbia\, V8B 0J3\, Canada
CATEGORIES:Bereavement
ATTACH;FMTTYPE=image/png:https://seatoskyhospicesociety.ca/wp-content/uploads/2025/03/feature-mellow-yoga-meditation.png
ORGANIZER;CN="Sea to Sky Hospice Society":MAILTO:info@seatoskyhospicesociety.ca
END:VEVENT
BEGIN:VEVENT
DTSTART;TZID=America/Los_Angeles:20250507T180000
DTEND;TZID=America/Los_Angeles:20250507T203000
DTSTAMP:20260424T040138
CREATED:20250326T212129Z
LAST-MODIFIED:20250403T210050Z
UID:10001780-1746640800-1746649800@seatoskyhospicesociety.ca
SUMMARY:Grief and Loss Art Exploration in Pemberton
DESCRIPTION:Grief and Loss Art Exploration \nWhen there are no words\, sometimes art can open the heart. In this small closed group\, Vancouver Art Therapy Institute practicum student Angela Walsh Noble provides an inclusive and supportive environment in which to gain confidence to creatively explore grief and loss\, and to heal. Participants will use a variety of materials. No art experience necessary\, and all materials are provided. Sea to Sky Hospice Society provides a bereavement support volunteer during this session. \nPemberton resident Angela Walsh Noble holds both a BFAH and a B.Ed. from Queen’s University\, and an M.Ed. in Art Education from UBC. With more than 20 years of experience\, Angela is a veteran community art educator. \nOccurs every Wednesday evening from May 7-28\, 2025\, from 6-8pm \nIn the Pemberton District Community Centre\, Room D \nPreregistration is necessary\, please contact: \njody.kramer@seatoskyhospicesociety.ca \nOr call 604-892-6051 ext. 5
URL:https://seatoskyhospicesociety.ca/event/grief-and-loss-art-exploration-in-pemberton/2025-05-07/
LOCATION:Pemberton District Community Centre\, Room D\, 7390 Cottonwood St\, Pemberton\, BC\, V0N 2L0
CATEGORIES:Bereavement
ATTACH;FMTTYPE=image/png:https://seatoskyhospicesociety.ca/wp-content/uploads/2025/03/Screenshot-2025-04-03-at-1.58.25 PM.png
ORGANIZER;CN="Sea to Sky Hospice Society":MAILTO:info@seatoskyhospicesociety.ca
END:VEVENT
BEGIN:VEVENT
DTSTART;TZID=America/Los_Angeles:20250507T190000
DTEND;TZID=America/Los_Angeles:20250507T203000
DTSTAMP:20260424T040138
CREATED:20250321T184001Z
LAST-MODIFIED:20250618T195705Z
UID:10001722-1746644400-1746649800@seatoskyhospicesociety.ca
SUMMARY:Squamish Infant Loss Peer Support Group
DESCRIPTION:Squamish Infant Loss Peer Support Group: \nOver a 4 week period\, together\, we will share our love and heartache\, and focus on how to grow WITH our grief\, with grace and love. If you are a newly bereaved parent\, or several birthdays have gone by\, you are welcome to attend this small group. Registration required. \nWednesday evenings April 2-23\, from 7-8:30pm\, in the Hospice Program Room  \nFor Questions and Registration:  jody.kramer@seatoskyhospicesociety.ca / 604-892-6051\, ext 5
URL:https://seatoskyhospicesociety.ca/event/squamish-infant-loss-peer-support-group/2025-05-07/
LOCATION:Hospice Society Program Room\, 38140 Behrner Drive\, Squamish\, BC V8B 0J3\, 38140 Behrner Drive\, Squamish\, British Columbia\, V8B 0J3\, Canada
CATEGORIES:Bereavement
ATTACH;FMTTYPE=image/png:https://seatoskyhospicesociety.ca/wp-content/uploads/2025/03/feature-social-infant-loss-support-group.png
ORGANIZER;CN="Sea to Sky Hospice Society":MAILTO:info@seatoskyhospicesociety.ca
END:VEVENT
BEGIN:VEVENT
DTSTART;TZID=America/Los_Angeles:20250508T130000
DTEND;TZID=America/Los_Angeles:20250508T140000
DTSTAMP:20260424T040138
CREATED:20250326T211538Z
LAST-MODIFIED:20250326T211538Z
UID:10001866-1746709200-1746712800@seatoskyhospicesociety.ca
SUMMARY:Whistler Grief and Loss Walking Conversations
DESCRIPTION:Walking together on the beautiful paths around Whistler Village allows participants to have a “Forest bath” while sharing their grief journey in this peer support group\, co-facilitated by WCSS support workers and Hospice Society Bereavement volunteers. \nParticipants meet at Whistler Public Library at 1pm. No registration required.
URL:https://seatoskyhospicesociety.ca/event/whistler-grief-and-loss-walking-conversations/2025-05-08/
LOCATION:Whistler Public Library\, 4329 Main St\,\, Whistler\, BC\, V8E 1B2\, Canada
CATEGORIES:Bereavement
ATTACH;FMTTYPE=image/png:https://seatoskyhospicesociety.ca/wp-content/uploads/2025/03/feature-grief-losss-walking-conversations.png
ORGANIZER;CN="Sea to Sky Hospice Society":MAILTO:info@seatoskyhospicesociety.ca
END:VEVENT
BEGIN:VEVENT
DTSTART;TZID=America/Los_Angeles:20250514T180000
DTEND;TZID=America/Los_Angeles:20250514T193000
DTSTAMP:20260424T040138
CREATED:20250327T173437Z
LAST-MODIFIED:20250327T173437Z
UID:10001777-1747245600-1747251000@seatoskyhospicesociety.ca
SUMMARY:Mellow Yoga and Meditation for Caregivers\, Health Care Workers\, Volunteers
DESCRIPTION:Mellow Yoga and Meditation for Caregivers\, Health Care Workers\, Volunteers with Annie Martinello \nAnnie Martinello hosts this four-week yoga offering for those experiencing ambiguous grief\, such as caregivers\, family members\, health care workers and volunteers. Materials are provided but you are welcome to bring your own mat and/or cushion. Registration Required. \nEvery Wednesday evening in May\, 6-7:30pm in the Hospice Program Room. \nFor Questions and Registration:  jody.kramer@seatoskyhospicesociety.ca / 604-892-6051\, ext 5
URL:https://seatoskyhospicesociety.ca/event/mellow-yoga-and-meditation-for-caregivers-health-care-workers-volunteers/2025-05-14/
LOCATION:Hospice Society Program Room\, 38140 Behrner Drive\, Squamish\, BC V8B 0J3\, 38140 Behrner Drive\, Squamish\, British Columbia\, V8B 0J3\, Canada
CATEGORIES:Bereavement
ATTACH;FMTTYPE=image/png:https://seatoskyhospicesociety.ca/wp-content/uploads/2025/03/feature-mellow-yoga-meditation.png
ORGANIZER;CN="Sea to Sky Hospice Society":MAILTO:info@seatoskyhospicesociety.ca
END:VEVENT
BEGIN:VEVENT
DTSTART;TZID=America/Los_Angeles:20250514T180000
DTEND;TZID=America/Los_Angeles:20250514T203000
DTSTAMP:20260424T040138
CREATED:20250326T212129Z
LAST-MODIFIED:20250403T210050Z
UID:10001781-1747245600-1747254600@seatoskyhospicesociety.ca
SUMMARY:Grief and Loss Art Exploration in Pemberton
DESCRIPTION:Grief and Loss Art Exploration \nWhen there are no words\, sometimes art can open the heart. In this small closed group\, Vancouver Art Therapy Institute practicum student Angela Walsh Noble provides an inclusive and supportive environment in which to gain confidence to creatively explore grief and loss\, and to heal. Participants will use a variety of materials. No art experience necessary\, and all materials are provided. Sea to Sky Hospice Society provides a bereavement support volunteer during this session. \nPemberton resident Angela Walsh Noble holds both a BFAH and a B.Ed. from Queen’s University\, and an M.Ed. in Art Education from UBC. With more than 20 years of experience\, Angela is a veteran community art educator. \nOccurs every Wednesday evening from May 7-28\, 2025\, from 6-8pm \nIn the Pemberton District Community Centre\, Room D \nPreregistration is necessary\, please contact: \njody.kramer@seatoskyhospicesociety.ca \nOr call 604-892-6051 ext. 5
URL:https://seatoskyhospicesociety.ca/event/grief-and-loss-art-exploration-in-pemberton/2025-05-14/
LOCATION:Pemberton District Community Centre\, Room D\, 7390 Cottonwood St\, Pemberton\, BC\, V0N 2L0
CATEGORIES:Bereavement
ATTACH;FMTTYPE=image/png:https://seatoskyhospicesociety.ca/wp-content/uploads/2025/03/Screenshot-2025-04-03-at-1.58.25 PM.png
ORGANIZER;CN="Sea to Sky Hospice Society":MAILTO:info@seatoskyhospicesociety.ca
END:VEVENT
BEGIN:VEVENT
DTSTART;TZID=America/Los_Angeles:20250514T190000
DTEND;TZID=America/Los_Angeles:20250514T203000
DTSTAMP:20260424T040138
CREATED:20250321T184001Z
LAST-MODIFIED:20250618T195705Z
UID:10001723-1747249200-1747254600@seatoskyhospicesociety.ca
SUMMARY:Squamish Infant Loss Peer Support Group
DESCRIPTION:Squamish Infant Loss Peer Support Group: \nOver a 4 week period\, together\, we will share our love and heartache\, and focus on how to grow WITH our grief\, with grace and love. If you are a newly bereaved parent\, or several birthdays have gone by\, you are welcome to attend this small group. Registration required. \nWednesday evenings April 2-23\, from 7-8:30pm\, in the Hospice Program Room  \nFor Questions and Registration:  jody.kramer@seatoskyhospicesociety.ca / 604-892-6051\, ext 5
URL:https://seatoskyhospicesociety.ca/event/squamish-infant-loss-peer-support-group/2025-05-14/
LOCATION:Hospice Society Program Room\, 38140 Behrner Drive\, Squamish\, BC V8B 0J3\, 38140 Behrner Drive\, Squamish\, British Columbia\, V8B 0J3\, Canada
CATEGORIES:Bereavement
ATTACH;FMTTYPE=image/png:https://seatoskyhospicesociety.ca/wp-content/uploads/2025/03/feature-social-infant-loss-support-group.png
ORGANIZER;CN="Sea to Sky Hospice Society":MAILTO:info@seatoskyhospicesociety.ca
END:VEVENT
BEGIN:VEVENT
DTSTART;TZID=America/Los_Angeles:20250515T130000
DTEND;TZID=America/Los_Angeles:20250515T140000
DTSTAMP:20260424T040138
CREATED:20250326T211538Z
LAST-MODIFIED:20250326T211538Z
UID:10001867-1747314000-1747317600@seatoskyhospicesociety.ca
SUMMARY:Whistler Grief and Loss Walking Conversations
DESCRIPTION:Walking together on the beautiful paths around Whistler Village allows participants to have a “Forest bath” while sharing their grief journey in this peer support group\, co-facilitated by WCSS support workers and Hospice Society Bereavement volunteers. \nParticipants meet at Whistler Public Library at 1pm. No registration required.
URL:https://seatoskyhospicesociety.ca/event/whistler-grief-and-loss-walking-conversations/2025-05-15/
LOCATION:Whistler Public Library\, 4329 Main St\,\, Whistler\, BC\, V8E 1B2\, Canada
CATEGORIES:Bereavement
ATTACH;FMTTYPE=image/png:https://seatoskyhospicesociety.ca/wp-content/uploads/2025/03/feature-grief-losss-walking-conversations.png
ORGANIZER;CN="Sea to Sky Hospice Society":MAILTO:info@seatoskyhospicesociety.ca
END:VEVENT
BEGIN:VEVENT
DTSTART;TZID=America/Los_Angeles:20250521T180000
DTEND;TZID=America/Los_Angeles:20250521T193000
DTSTAMP:20260424T040138
CREATED:20250327T173437Z
LAST-MODIFIED:20250327T173437Z
UID:10001778-1747850400-1747855800@seatoskyhospicesociety.ca
SUMMARY:Mellow Yoga and Meditation for Caregivers\, Health Care Workers\, Volunteers
DESCRIPTION:Mellow Yoga and Meditation for Caregivers\, Health Care Workers\, Volunteers with Annie Martinello \nAnnie Martinello hosts this four-week yoga offering for those experiencing ambiguous grief\, such as caregivers\, family members\, health care workers and volunteers. Materials are provided but you are welcome to bring your own mat and/or cushion. Registration Required. \nEvery Wednesday evening in May\, 6-7:30pm in the Hospice Program Room. \nFor Questions and Registration:  jody.kramer@seatoskyhospicesociety.ca / 604-892-6051\, ext 5
URL:https://seatoskyhospicesociety.ca/event/mellow-yoga-and-meditation-for-caregivers-health-care-workers-volunteers/2025-05-21/
LOCATION:Hospice Society Program Room\, 38140 Behrner Drive\, Squamish\, BC V8B 0J3\, 38140 Behrner Drive\, Squamish\, British Columbia\, V8B 0J3\, Canada
CATEGORIES:Bereavement
ATTACH;FMTTYPE=image/png:https://seatoskyhospicesociety.ca/wp-content/uploads/2025/03/feature-mellow-yoga-meditation.png
ORGANIZER;CN="Sea to Sky Hospice Society":MAILTO:info@seatoskyhospicesociety.ca
END:VEVENT
BEGIN:VEVENT
DTSTART;TZID=America/Los_Angeles:20250521T180000
DTEND;TZID=America/Los_Angeles:20250521T203000
DTSTAMP:20260424T040138
CREATED:20250326T212129Z
LAST-MODIFIED:20250403T210050Z
UID:10001782-1747850400-1747859400@seatoskyhospicesociety.ca
SUMMARY:Grief and Loss Art Exploration in Pemberton
DESCRIPTION:Grief and Loss Art Exploration \nWhen there are no words\, sometimes art can open the heart. In this small closed group\, Vancouver Art Therapy Institute practicum student Angela Walsh Noble provides an inclusive and supportive environment in which to gain confidence to creatively explore grief and loss\, and to heal. Participants will use a variety of materials. No art experience necessary\, and all materials are provided. Sea to Sky Hospice Society provides a bereavement support volunteer during this session. \nPemberton resident Angela Walsh Noble holds both a BFAH and a B.Ed. from Queen’s University\, and an M.Ed. in Art Education from UBC. With more than 20 years of experience\, Angela is a veteran community art educator. \nOccurs every Wednesday evening from May 7-28\, 2025\, from 6-8pm \nIn the Pemberton District Community Centre\, Room D \nPreregistration is necessary\, please contact: \njody.kramer@seatoskyhospicesociety.ca \nOr call 604-892-6051 ext. 5
URL:https://seatoskyhospicesociety.ca/event/grief-and-loss-art-exploration-in-pemberton/2025-05-21/
LOCATION:Pemberton District Community Centre\, Room D\, 7390 Cottonwood St\, Pemberton\, BC\, V0N 2L0
CATEGORIES:Bereavement
ATTACH;FMTTYPE=image/png:https://seatoskyhospicesociety.ca/wp-content/uploads/2025/03/Screenshot-2025-04-03-at-1.58.25 PM.png
ORGANIZER;CN="Sea to Sky Hospice Society":MAILTO:info@seatoskyhospicesociety.ca
END:VEVENT
BEGIN:VEVENT
DTSTART;TZID=America/Los_Angeles:20250521T190000
DTEND;TZID=America/Los_Angeles:20250521T203000
DTSTAMP:20260424T040138
CREATED:20250321T184001Z
LAST-MODIFIED:20250618T195705Z
UID:10001724-1747854000-1747859400@seatoskyhospicesociety.ca
SUMMARY:Squamish Infant Loss Peer Support Group
DESCRIPTION:Squamish Infant Loss Peer Support Group: \nOver a 4 week period\, together\, we will share our love and heartache\, and focus on how to grow WITH our grief\, with grace and love. If you are a newly bereaved parent\, or several birthdays have gone by\, you are welcome to attend this small group. Registration required. \nWednesday evenings April 2-23\, from 7-8:30pm\, in the Hospice Program Room  \nFor Questions and Registration:  jody.kramer@seatoskyhospicesociety.ca / 604-892-6051\, ext 5
URL:https://seatoskyhospicesociety.ca/event/squamish-infant-loss-peer-support-group/2025-05-21/
LOCATION:Hospice Society Program Room\, 38140 Behrner Drive\, Squamish\, BC V8B 0J3\, 38140 Behrner Drive\, Squamish\, British Columbia\, V8B 0J3\, Canada
CATEGORIES:Bereavement
ATTACH;FMTTYPE=image/png:https://seatoskyhospicesociety.ca/wp-content/uploads/2025/03/feature-social-infant-loss-support-group.png
ORGANIZER;CN="Sea to Sky Hospice Society":MAILTO:info@seatoskyhospicesociety.ca
END:VEVENT
BEGIN:VEVENT
DTSTART;TZID=America/Los_Angeles:20250522T130000
DTEND;TZID=America/Los_Angeles:20250522T140000
DTSTAMP:20260424T040138
CREATED:20250326T211538Z
LAST-MODIFIED:20250326T211538Z
UID:10001868-1747918800-1747922400@seatoskyhospicesociety.ca
SUMMARY:Whistler Grief and Loss Walking Conversations
DESCRIPTION:Walking together on the beautiful paths around Whistler Village allows participants to have a “Forest bath” while sharing their grief journey in this peer support group\, co-facilitated by WCSS support workers and Hospice Society Bereavement volunteers. \nParticipants meet at Whistler Public Library at 1pm. No registration required.
URL:https://seatoskyhospicesociety.ca/event/whistler-grief-and-loss-walking-conversations/2025-05-22/
LOCATION:Whistler Public Library\, 4329 Main St\,\, Whistler\, BC\, V8E 1B2\, Canada
CATEGORIES:Bereavement
ATTACH;FMTTYPE=image/png:https://seatoskyhospicesociety.ca/wp-content/uploads/2025/03/feature-grief-losss-walking-conversations.png
ORGANIZER;CN="Sea to Sky Hospice Society":MAILTO:info@seatoskyhospicesociety.ca
END:VEVENT
BEGIN:VEVENT
DTSTART;TZID=America/Los_Angeles:20250528T180000
DTEND;TZID=America/Los_Angeles:20250528T193000
DTSTAMP:20260424T040138
CREATED:20250327T173437Z
LAST-MODIFIED:20250327T173437Z
UID:10001779-1748455200-1748460600@seatoskyhospicesociety.ca
SUMMARY:Mellow Yoga and Meditation for Caregivers\, Health Care Workers\, Volunteers
DESCRIPTION:Mellow Yoga and Meditation for Caregivers\, Health Care Workers\, Volunteers with Annie Martinello \nAnnie Martinello hosts this four-week yoga offering for those experiencing ambiguous grief\, such as caregivers\, family members\, health care workers and volunteers. Materials are provided but you are welcome to bring your own mat and/or cushion. Registration Required. \nEvery Wednesday evening in May\, 6-7:30pm in the Hospice Program Room. \nFor Questions and Registration:  jody.kramer@seatoskyhospicesociety.ca / 604-892-6051\, ext 5
URL:https://seatoskyhospicesociety.ca/event/mellow-yoga-and-meditation-for-caregivers-health-care-workers-volunteers/2025-05-28/
LOCATION:Hospice Society Program Room\, 38140 Behrner Drive\, Squamish\, BC V8B 0J3\, 38140 Behrner Drive\, Squamish\, British Columbia\, V8B 0J3\, Canada
CATEGORIES:Bereavement
ATTACH;FMTTYPE=image/png:https://seatoskyhospicesociety.ca/wp-content/uploads/2025/03/feature-mellow-yoga-meditation.png
ORGANIZER;CN="Sea to Sky Hospice Society":MAILTO:info@seatoskyhospicesociety.ca
END:VEVENT
BEGIN:VEVENT
DTSTART;TZID=America/Los_Angeles:20250528T180000
DTEND;TZID=America/Los_Angeles:20250528T203000
DTSTAMP:20260424T040138
CREATED:20250326T212129Z
LAST-MODIFIED:20250403T210050Z
UID:10001783-1748455200-1748464200@seatoskyhospicesociety.ca
SUMMARY:Grief and Loss Art Exploration in Pemberton
DESCRIPTION:Grief and Loss Art Exploration \nWhen there are no words\, sometimes art can open the heart. In this small closed group\, Vancouver Art Therapy Institute practicum student Angela Walsh Noble provides an inclusive and supportive environment in which to gain confidence to creatively explore grief and loss\, and to heal. Participants will use a variety of materials. No art experience necessary\, and all materials are provided. Sea to Sky Hospice Society provides a bereavement support volunteer during this session. \nPemberton resident Angela Walsh Noble holds both a BFAH and a B.Ed. from Queen’s University\, and an M.Ed. in Art Education from UBC. With more than 20 years of experience\, Angela is a veteran community art educator. \nOccurs every Wednesday evening from May 7-28\, 2025\, from 6-8pm \nIn the Pemberton District Community Centre\, Room D \nPreregistration is necessary\, please contact: \njody.kramer@seatoskyhospicesociety.ca \nOr call 604-892-6051 ext. 5
URL:https://seatoskyhospicesociety.ca/event/grief-and-loss-art-exploration-in-pemberton/2025-05-28/
LOCATION:Pemberton District Community Centre\, Room D\, 7390 Cottonwood St\, Pemberton\, BC\, V0N 2L0
CATEGORIES:Bereavement
ATTACH;FMTTYPE=image/png:https://seatoskyhospicesociety.ca/wp-content/uploads/2025/03/Screenshot-2025-04-03-at-1.58.25 PM.png
ORGANIZER;CN="Sea to Sky Hospice Society":MAILTO:info@seatoskyhospicesociety.ca
END:VEVENT
BEGIN:VEVENT
DTSTART;TZID=America/Los_Angeles:20250528T190000
DTEND;TZID=America/Los_Angeles:20250528T203000
DTSTAMP:20260424T040138
CREATED:20250321T184001Z
LAST-MODIFIED:20250618T195705Z
UID:10001725-1748458800-1748464200@seatoskyhospicesociety.ca
SUMMARY:Squamish Infant Loss Peer Support Group
DESCRIPTION:Squamish Infant Loss Peer Support Group: \nOver a 4 week period\, together\, we will share our love and heartache\, and focus on how to grow WITH our grief\, with grace and love. If you are a newly bereaved parent\, or several birthdays have gone by\, you are welcome to attend this small group. Registration required. \nWednesday evenings April 2-23\, from 7-8:30pm\, in the Hospice Program Room  \nFor Questions and Registration:  jody.kramer@seatoskyhospicesociety.ca / 604-892-6051\, ext 5
URL:https://seatoskyhospicesociety.ca/event/squamish-infant-loss-peer-support-group/2025-05-28/
LOCATION:Hospice Society Program Room\, 38140 Behrner Drive\, Squamish\, BC V8B 0J3\, 38140 Behrner Drive\, Squamish\, British Columbia\, V8B 0J3\, Canada
CATEGORIES:Bereavement
ATTACH;FMTTYPE=image/png:https://seatoskyhospicesociety.ca/wp-content/uploads/2025/03/feature-social-infant-loss-support-group.png
ORGANIZER;CN="Sea to Sky Hospice Society":MAILTO:info@seatoskyhospicesociety.ca
END:VEVENT
BEGIN:VEVENT
DTSTART;TZID=America/Los_Angeles:20250529T130000
DTEND;TZID=America/Los_Angeles:20250529T140000
DTSTAMP:20260424T040138
CREATED:20250326T211538Z
LAST-MODIFIED:20250326T211538Z
UID:10001869-1748523600-1748527200@seatoskyhospicesociety.ca
SUMMARY:Whistler Grief and Loss Walking Conversations
DESCRIPTION:Walking together on the beautiful paths around Whistler Village allows participants to have a “Forest bath” while sharing their grief journey in this peer support group\, co-facilitated by WCSS support workers and Hospice Society Bereavement volunteers. \nParticipants meet at Whistler Public Library at 1pm. No registration required.
URL:https://seatoskyhospicesociety.ca/event/whistler-grief-and-loss-walking-conversations/2025-05-29/
LOCATION:Whistler Public Library\, 4329 Main St\,\, Whistler\, BC\, V8E 1B2\, Canada
CATEGORIES:Bereavement
ATTACH;FMTTYPE=image/png:https://seatoskyhospicesociety.ca/wp-content/uploads/2025/03/feature-grief-losss-walking-conversations.png
ORGANIZER;CN="Sea to Sky Hospice Society":MAILTO:info@seatoskyhospicesociety.ca
END:VEVENT
END:VCALENDAR