BEGIN:VCALENDAR
VERSION:2.0
PRODID:-//Sea to Sky Hospice Society - ECPv6.15.12.2//NONSGML v1.0//EN
CALSCALE:GREGORIAN
METHOD:PUBLISH
X-ORIGINAL-URL:https://seatoskyhospicesociety.ca
X-WR-CALDESC:Events for Sea to Sky Hospice Society
REFRESH-INTERVAL;VALUE=DURATION:PT1H
X-Robots-Tag:noindex
X-PUBLISHED-TTL:PT1H
BEGIN:VTIMEZONE
TZID:America/Los_Angeles
BEGIN:DAYLIGHT
TZOFFSETFROM:-0800
TZOFFSETTO:-0700
TZNAME:PDT
DTSTART:20220313T100000
END:DAYLIGHT
BEGIN:STANDARD
TZOFFSETFROM:-0700
TZOFFSETTO:-0800
TZNAME:PST
DTSTART:20221106T090000
END:STANDARD
BEGIN:DAYLIGHT
TZOFFSETFROM:-0800
TZOFFSETTO:-0700
TZNAME:PDT
DTSTART:20230312T100000
END:DAYLIGHT
BEGIN:STANDARD
TZOFFSETFROM:-0700
TZOFFSETTO:-0800
TZNAME:PST
DTSTART:20231105T090000
END:STANDARD
BEGIN:DAYLIGHT
TZOFFSETFROM:-0800
TZOFFSETTO:-0700
TZNAME:PDT
DTSTART:20240310T100000
END:DAYLIGHT
BEGIN:STANDARD
TZOFFSETFROM:-0700
TZOFFSETTO:-0800
TZNAME:PST
DTSTART:20241103T090000
END:STANDARD
END:VTIMEZONE
BEGIN:VEVENT
DTSTART;TZID=America/Los_Angeles:20231207T100000
DTEND;TZID=America/Los_Angeles:20231207T113000
DTSTAMP:20260425T051934
CREATED:20231112T213956Z
LAST-MODIFIED:20231112T213956Z
UID:10000708-1701943200-1701948600@seatoskyhospicesociety.ca
SUMMARY:Squamish Weekly Drop in Bereavement Walks
DESCRIPTION:Are you Grieving the Loss of a Loved One? \nJoin us for a Volunteer led Bereavement Walk. No preregistration necessary. \nWeekly on Thursday mornings at 10 am Thursdays in November and December\, November 2 – December 21 \nAt the Squamish Adventure Centre \nMeet at the stairs outside\, and look for the Sea to Sky Hospice Society Volunteers with their green backpacks!
URL:https://seatoskyhospicesociety.ca/event/squamish-weekly-drop-in-bereavement-walks/2023-12-07/
LOCATION:Squamish Adventure Centre\, 38551 Loggers Lane\, Squamish\, BC\, V8B 0H2\, Canada
ATTACH;FMTTYPE=image/jpeg:https://seatoskyhospicesociety.ca/wp-content/uploads/2023/10/Web-Feature-Image-crop-bottom-off-3-e1698539052366.jpg
ORGANIZER;CN="Sea to Sky Hospice Society":MAILTO:info@seatoskyhospicesociety.ca
END:VEVENT
BEGIN:VEVENT
DTSTART;TZID=America/Los_Angeles:20231214T100000
DTEND;TZID=America/Los_Angeles:20231214T113000
DTSTAMP:20260425T051934
CREATED:20231112T213956Z
LAST-MODIFIED:20231112T213956Z
UID:10000709-1702548000-1702553400@seatoskyhospicesociety.ca
SUMMARY:Squamish Weekly Drop in Bereavement Walks
DESCRIPTION:Are you Grieving the Loss of a Loved One? \nJoin us for a Volunteer led Bereavement Walk. No preregistration necessary. \nWeekly on Thursday mornings at 10 am Thursdays in November and December\, November 2 – December 21 \nAt the Squamish Adventure Centre \nMeet at the stairs outside\, and look for the Sea to Sky Hospice Society Volunteers with their green backpacks!
URL:https://seatoskyhospicesociety.ca/event/squamish-weekly-drop-in-bereavement-walks/2023-12-14/
LOCATION:Squamish Adventure Centre\, 38551 Loggers Lane\, Squamish\, BC\, V8B 0H2\, Canada
ATTACH;FMTTYPE=image/jpeg:https://seatoskyhospicesociety.ca/wp-content/uploads/2023/10/Web-Feature-Image-crop-bottom-off-3-e1698539052366.jpg
ORGANIZER;CN="Sea to Sky Hospice Society":MAILTO:info@seatoskyhospicesociety.ca
END:VEVENT
BEGIN:VEVENT
DTSTART;TZID=America/Los_Angeles:20231221T100000
DTEND;TZID=America/Los_Angeles:20231221T113000
DTSTAMP:20260425T051934
CREATED:20231112T213956Z
LAST-MODIFIED:20231112T213956Z
UID:10000710-1703152800-1703158200@seatoskyhospicesociety.ca
SUMMARY:Squamish Weekly Drop in Bereavement Walks
DESCRIPTION:Are you Grieving the Loss of a Loved One? \nJoin us for a Volunteer led Bereavement Walk. No preregistration necessary. \nWeekly on Thursday mornings at 10 am Thursdays in November and December\, November 2 – December 21 \nAt the Squamish Adventure Centre \nMeet at the stairs outside\, and look for the Sea to Sky Hospice Society Volunteers with their green backpacks!
URL:https://seatoskyhospicesociety.ca/event/squamish-weekly-drop-in-bereavement-walks/2023-12-21/
LOCATION:Squamish Adventure Centre\, 38551 Loggers Lane\, Squamish\, BC\, V8B 0H2\, Canada
ATTACH;FMTTYPE=image/jpeg:https://seatoskyhospicesociety.ca/wp-content/uploads/2023/10/Web-Feature-Image-crop-bottom-off-3-e1698539052366.jpg
ORGANIZER;CN="Sea to Sky Hospice Society":MAILTO:info@seatoskyhospicesociety.ca
END:VEVENT
END:VCALENDAR