BEGIN:VCALENDAR
VERSION:2.0
PRODID:-//Sea to Sky Hospice Society - ECPv6.15.12.2//NONSGML v1.0//EN
CALSCALE:GREGORIAN
METHOD:PUBLISH
X-WR-CALNAME:Sea to Sky Hospice Society
X-ORIGINAL-URL:https://seatoskyhospicesociety.ca
X-WR-CALDESC:Events for Sea to Sky Hospice Society
REFRESH-INTERVAL;VALUE=DURATION:PT1H
X-Robots-Tag:noindex
X-PUBLISHED-TTL:PT1H
BEGIN:VTIMEZONE
TZID:America/Los_Angeles
BEGIN:DAYLIGHT
TZOFFSETFROM:-0800
TZOFFSETTO:-0700
TZNAME:PDT
DTSTART:20240310T100000
END:DAYLIGHT
BEGIN:STANDARD
TZOFFSETFROM:-0700
TZOFFSETTO:-0800
TZNAME:PST
DTSTART:20241103T090000
END:STANDARD
BEGIN:DAYLIGHT
TZOFFSETFROM:-0800
TZOFFSETTO:-0700
TZNAME:PDT
DTSTART:20250309T100000
END:DAYLIGHT
BEGIN:STANDARD
TZOFFSETFROM:-0700
TZOFFSETTO:-0800
TZNAME:PST
DTSTART:20251102T090000
END:STANDARD
BEGIN:DAYLIGHT
TZOFFSETFROM:-0800
TZOFFSETTO:-0700
TZNAME:PDT
DTSTART:20260308T100000
END:DAYLIGHT
BEGIN:STANDARD
TZOFFSETFROM:-0700
TZOFFSETTO:-0800
TZNAME:PST
DTSTART:20261101T090000
END:STANDARD
END:VTIMEZONE
BEGIN:VEVENT
DTSTART;TZID=America/Los_Angeles:20250603T180000
DTEND;TZID=America/Los_Angeles:20250603T190000
DTSTAMP:20260424T020519
CREATED:20250318T165650Z
LAST-MODIFIED:20250318T165740Z
UID:10001860-1748973600-1748977200@seatoskyhospicesociety.ca
SUMMARY:Squamish Grief & Bereavement Walks
DESCRIPTION:Grief & Bereavement Walks: \nJoin us for a gentle forest walk where your grief is welcome. Whether your loss is recent or several anniversaries have passed\, our Hospice Volunteers will welcome you into this peer support group. Look for the Hospice-branded backpacks and/or hats. No registration required. \nThursday Mornings (10-11:30) January through June 2025: Meet at the Adventure Centre (Coffee chat at Cafe Garibaldi following the walk) \nTuesday evenings (6-7pm) meet at the Squamish Public Library \nFor Questions and Registration:  jody.kramer@seatoskyhospicesociety.ca / 604-892-6051\, ext 5
URL:https://seatoskyhospicesociety.ca/event/squamish-grief-bereavement-walks-2/2025-06-03/
LOCATION:Squamish Public Library\, 37907 2 Ave\, Squamish\, BC\, V8B 0A7\, Canada
CATEGORIES:Bereavement
ATTACH;FMTTYPE=image/png:https://seatoskyhospicesociety.ca/wp-content/uploads/2025/03/walking-group-web-image.png
ORGANIZER;CN="Sea to Sky Hospice Society":MAILTO:info@seatoskyhospicesociety.ca
END:VEVENT
BEGIN:VEVENT
DTSTART;TZID=America/Los_Angeles:20250604T190000
DTEND;TZID=America/Los_Angeles:20250604T203000
DTSTAMP:20260424T020519
CREATED:20250321T184001Z
LAST-MODIFIED:20250618T195705Z
UID:10001726-1749063600-1749069000@seatoskyhospicesociety.ca
SUMMARY:Squamish Infant Loss Peer Support Group
DESCRIPTION:Squamish Infant Loss Peer Support Group: \nOver a 4 week period\, together\, we will share our love and heartache\, and focus on how to grow WITH our grief\, with grace and love. If you are a newly bereaved parent\, or several birthdays have gone by\, you are welcome to attend this small group. Registration required. \nWednesday evenings April 2-23\, from 7-8:30pm\, in the Hospice Program Room  \nFor Questions and Registration:  jody.kramer@seatoskyhospicesociety.ca / 604-892-6051\, ext 5
URL:https://seatoskyhospicesociety.ca/event/squamish-infant-loss-peer-support-group/2025-06-04/
LOCATION:Hospice Society Program Room\, 38140 Behrner Drive\, Squamish\, BC V8B 0J3\, 38140 Behrner Drive\, Squamish\, British Columbia\, V8B 0J3\, Canada
CATEGORIES:Bereavement
ATTACH;FMTTYPE=image/png:https://seatoskyhospicesociety.ca/wp-content/uploads/2025/03/feature-social-infant-loss-support-group.png
ORGANIZER;CN="Sea to Sky Hospice Society":MAILTO:info@seatoskyhospicesociety.ca
END:VEVENT
BEGIN:VEVENT
DTSTART;TZID=America/Los_Angeles:20250610T180000
DTEND;TZID=America/Los_Angeles:20250610T190000
DTSTAMP:20260424T020519
CREATED:20250318T165650Z
LAST-MODIFIED:20250318T165740Z
UID:10001861-1749578400-1749582000@seatoskyhospicesociety.ca
SUMMARY:Squamish Grief & Bereavement Walks
DESCRIPTION:Grief & Bereavement Walks: \nJoin us for a gentle forest walk where your grief is welcome. Whether your loss is recent or several anniversaries have passed\, our Hospice Volunteers will welcome you into this peer support group. Look for the Hospice-branded backpacks and/or hats. No registration required. \nThursday Mornings (10-11:30) January through June 2025: Meet at the Adventure Centre (Coffee chat at Cafe Garibaldi following the walk) \nTuesday evenings (6-7pm) meet at the Squamish Public Library \nFor Questions and Registration:  jody.kramer@seatoskyhospicesociety.ca / 604-892-6051\, ext 5
URL:https://seatoskyhospicesociety.ca/event/squamish-grief-bereavement-walks-2/2025-06-10/
LOCATION:Squamish Public Library\, 37907 2 Ave\, Squamish\, BC\, V8B 0A7\, Canada
CATEGORIES:Bereavement
ATTACH;FMTTYPE=image/png:https://seatoskyhospicesociety.ca/wp-content/uploads/2025/03/walking-group-web-image.png
ORGANIZER;CN="Sea to Sky Hospice Society":MAILTO:info@seatoskyhospicesociety.ca
END:VEVENT
BEGIN:VEVENT
DTSTART;TZID=America/Los_Angeles:20250611T190000
DTEND;TZID=America/Los_Angeles:20250611T203000
DTSTAMP:20260424T020519
CREATED:20250321T184001Z
LAST-MODIFIED:20250618T195705Z
UID:10001727-1749668400-1749673800@seatoskyhospicesociety.ca
SUMMARY:Squamish Infant Loss Peer Support Group
DESCRIPTION:Squamish Infant Loss Peer Support Group: \nOver a 4 week period\, together\, we will share our love and heartache\, and focus on how to grow WITH our grief\, with grace and love. If you are a newly bereaved parent\, or several birthdays have gone by\, you are welcome to attend this small group. Registration required. \nWednesday evenings April 2-23\, from 7-8:30pm\, in the Hospice Program Room  \nFor Questions and Registration:  jody.kramer@seatoskyhospicesociety.ca / 604-892-6051\, ext 5
URL:https://seatoskyhospicesociety.ca/event/squamish-infant-loss-peer-support-group/2025-06-11/
LOCATION:Hospice Society Program Room\, 38140 Behrner Drive\, Squamish\, BC V8B 0J3\, 38140 Behrner Drive\, Squamish\, British Columbia\, V8B 0J3\, Canada
CATEGORIES:Bereavement
ATTACH;FMTTYPE=image/png:https://seatoskyhospicesociety.ca/wp-content/uploads/2025/03/feature-social-infant-loss-support-group.png
ORGANIZER;CN="Sea to Sky Hospice Society":MAILTO:info@seatoskyhospicesociety.ca
END:VEVENT
BEGIN:VEVENT
DTSTART;TZID=America/Los_Angeles:20250617T180000
DTEND;TZID=America/Los_Angeles:20250617T190000
DTSTAMP:20260424T020519
CREATED:20250318T165650Z
LAST-MODIFIED:20250318T165740Z
UID:10001862-1750183200-1750186800@seatoskyhospicesociety.ca
SUMMARY:Squamish Grief & Bereavement Walks
DESCRIPTION:Grief & Bereavement Walks: \nJoin us for a gentle forest walk where your grief is welcome. Whether your loss is recent or several anniversaries have passed\, our Hospice Volunteers will welcome you into this peer support group. Look for the Hospice-branded backpacks and/or hats. No registration required. \nThursday Mornings (10-11:30) January through June 2025: Meet at the Adventure Centre (Coffee chat at Cafe Garibaldi following the walk) \nTuesday evenings (6-7pm) meet at the Squamish Public Library \nFor Questions and Registration:  jody.kramer@seatoskyhospicesociety.ca / 604-892-6051\, ext 5
URL:https://seatoskyhospicesociety.ca/event/squamish-grief-bereavement-walks-2/2025-06-17/
LOCATION:Squamish Public Library\, 37907 2 Ave\, Squamish\, BC\, V8B 0A7\, Canada
CATEGORIES:Bereavement
ATTACH;FMTTYPE=image/png:https://seatoskyhospicesociety.ca/wp-content/uploads/2025/03/walking-group-web-image.png
ORGANIZER;CN="Sea to Sky Hospice Society":MAILTO:info@seatoskyhospicesociety.ca
END:VEVENT
BEGIN:VEVENT
DTSTART;TZID=America/Los_Angeles:20250618T190000
DTEND;TZID=America/Los_Angeles:20250618T203000
DTSTAMP:20260424T020519
CREATED:20250321T184001Z
LAST-MODIFIED:20250618T195705Z
UID:10001728-1750273200-1750278600@seatoskyhospicesociety.ca
SUMMARY:Squamish Infant Loss Peer Support Group
DESCRIPTION:Squamish Infant Loss Peer Support Group: \nOver a 4 week period\, together\, we will share our love and heartache\, and focus on how to grow WITH our grief\, with grace and love. If you are a newly bereaved parent\, or several birthdays have gone by\, you are welcome to attend this small group. Registration required. \nWednesday evenings April 2-23\, from 7-8:30pm\, in the Hospice Program Room  \nFor Questions and Registration:  jody.kramer@seatoskyhospicesociety.ca / 604-892-6051\, ext 5
URL:https://seatoskyhospicesociety.ca/event/squamish-infant-loss-peer-support-group/2025-06-18/
LOCATION:Hospice Society Program Room\, 38140 Behrner Drive\, Squamish\, BC V8B 0J3\, 38140 Behrner Drive\, Squamish\, British Columbia\, V8B 0J3\, Canada
CATEGORIES:Bereavement
ATTACH;FMTTYPE=image/png:https://seatoskyhospicesociety.ca/wp-content/uploads/2025/03/feature-social-infant-loss-support-group.png
ORGANIZER;CN="Sea to Sky Hospice Society":MAILTO:info@seatoskyhospicesociety.ca
END:VEVENT
BEGIN:VEVENT
DTSTART;TZID=America/Los_Angeles:20250619T190000
DTEND;TZID=America/Los_Angeles:20250619T203000
DTSTAMP:20260424T020519
CREATED:20250319T192403Z
LAST-MODIFIED:20250319T192403Z
UID:10001690-1750359600-1750365000@seatoskyhospicesociety.ca
SUMMARY:Squamish Book Circle
DESCRIPTION:Squamish Book Circle  \nThere is such a wealth of writing around caregiving\, mortality\, grief and loss. In this peer support group\, we share our thoughts and experiences around these topics through the guidance of these books. Register to receive updates on the book titles. \nJune 19th at the Gather Bookshop at 7pm.   \nFor Questions and Registration:  jody.kramer@seatoskyhospicesociety.ca / 604-892-6051\, ext 5
URL:https://seatoskyhospicesociety.ca/event/squamish-book-circle/
LOCATION:Gather\, Books & Lovely Things\, 38041 2nd Avenue\, Squamish\, BC\, V8B 0C3\, Canada
CATEGORIES:Bereavement
ATTACH;FMTTYPE=image/png:https://seatoskyhospicesociety.ca/wp-content/uploads/2025/03/squamish-book-circle-feature.png
ORGANIZER;CN="Sea to Sky Hospice Society":MAILTO:info@seatoskyhospicesociety.ca
END:VEVENT
BEGIN:VEVENT
DTSTART;TZID=America/Los_Angeles:20250624T180000
DTEND;TZID=America/Los_Angeles:20250624T190000
DTSTAMP:20260424T020519
CREATED:20250318T165650Z
LAST-MODIFIED:20250318T165740Z
UID:10001863-1750788000-1750791600@seatoskyhospicesociety.ca
SUMMARY:Squamish Grief & Bereavement Walks
DESCRIPTION:Grief & Bereavement Walks: \nJoin us for a gentle forest walk where your grief is welcome. Whether your loss is recent or several anniversaries have passed\, our Hospice Volunteers will welcome you into this peer support group. Look for the Hospice-branded backpacks and/or hats. No registration required. \nThursday Mornings (10-11:30) January through June 2025: Meet at the Adventure Centre (Coffee chat at Cafe Garibaldi following the walk) \nTuesday evenings (6-7pm) meet at the Squamish Public Library \nFor Questions and Registration:  jody.kramer@seatoskyhospicesociety.ca / 604-892-6051\, ext 5
URL:https://seatoskyhospicesociety.ca/event/squamish-grief-bereavement-walks-2/2025-06-24/
LOCATION:Squamish Public Library\, 37907 2 Ave\, Squamish\, BC\, V8B 0A7\, Canada
CATEGORIES:Bereavement
ATTACH;FMTTYPE=image/png:https://seatoskyhospicesociety.ca/wp-content/uploads/2025/03/walking-group-web-image.png
ORGANIZER;CN="Sea to Sky Hospice Society":MAILTO:info@seatoskyhospicesociety.ca
END:VEVENT
BEGIN:VEVENT
DTSTART;TZID=America/Los_Angeles:20250625T190000
DTEND;TZID=America/Los_Angeles:20250625T203000
DTSTAMP:20260424T020519
CREATED:20250321T184001Z
LAST-MODIFIED:20250618T195705Z
UID:10001729-1750878000-1750883400@seatoskyhospicesociety.ca
SUMMARY:Squamish Infant Loss Peer Support Group
DESCRIPTION:Squamish Infant Loss Peer Support Group: \nOver a 4 week period\, together\, we will share our love and heartache\, and focus on how to grow WITH our grief\, with grace and love. If you are a newly bereaved parent\, or several birthdays have gone by\, you are welcome to attend this small group. Registration required. \nWednesday evenings April 2-23\, from 7-8:30pm\, in the Hospice Program Room  \nFor Questions and Registration:  jody.kramer@seatoskyhospicesociety.ca / 604-892-6051\, ext 5
URL:https://seatoskyhospicesociety.ca/event/squamish-infant-loss-peer-support-group/2025-06-25/
LOCATION:Hospice Society Program Room\, 38140 Behrner Drive\, Squamish\, BC V8B 0J3\, 38140 Behrner Drive\, Squamish\, British Columbia\, V8B 0J3\, Canada
CATEGORIES:Bereavement
ATTACH;FMTTYPE=image/png:https://seatoskyhospicesociety.ca/wp-content/uploads/2025/03/feature-social-infant-loss-support-group.png
ORGANIZER;CN="Sea to Sky Hospice Society":MAILTO:info@seatoskyhospicesociety.ca
END:VEVENT
END:VCALENDAR