BEGIN:VCALENDAR
VERSION:2.0
PRODID:-//Sea to Sky Hospice Society - ECPv6.15.12.2//NONSGML v1.0//EN
CALSCALE:GREGORIAN
METHOD:PUBLISH
X-ORIGINAL-URL:https://seatoskyhospicesociety.ca
X-WR-CALDESC:Events for Sea to Sky Hospice Society
REFRESH-INTERVAL;VALUE=DURATION:PT1H
X-Robots-Tag:noindex
X-PUBLISHED-TTL:PT1H
BEGIN:VTIMEZONE
TZID:America/Los_Angeles
BEGIN:DAYLIGHT
TZOFFSETFROM:-0800
TZOFFSETTO:-0700
TZNAME:PDT
DTSTART:20240310T100000
END:DAYLIGHT
BEGIN:STANDARD
TZOFFSETFROM:-0700
TZOFFSETTO:-0800
TZNAME:PST
DTSTART:20241103T090000
END:STANDARD
BEGIN:DAYLIGHT
TZOFFSETFROM:-0800
TZOFFSETTO:-0700
TZNAME:PDT
DTSTART:20250309T100000
END:DAYLIGHT
BEGIN:STANDARD
TZOFFSETFROM:-0700
TZOFFSETTO:-0800
TZNAME:PST
DTSTART:20251102T090000
END:STANDARD
BEGIN:DAYLIGHT
TZOFFSETFROM:-0800
TZOFFSETTO:-0700
TZNAME:PDT
DTSTART:20260308T100000
END:DAYLIGHT
BEGIN:STANDARD
TZOFFSETFROM:-0700
TZOFFSETTO:-0800
TZNAME:PST
DTSTART:20261101T090000
END:STANDARD
END:VTIMEZONE
BEGIN:VEVENT
DTSTART;TZID=America/Los_Angeles:20250205T183000
DTEND;TZID=America/Los_Angeles:20250205T193000
DTSTAMP:20260424T074037
CREATED:20250121T231436Z
LAST-MODIFIED:20250121T231436Z
UID:10001674-1738780200-1738783800@seatoskyhospicesociety.ca
SUMMARY:Mindfulness for Grief & Healing
DESCRIPTION:Join us for four weeks of meditaion and self compassion this February. \nEach Wednesday evening beginning February 5th\, from 6:30 – 7:30 PM in the Hospice Society Program Room \nFacilitated by Michelle Precourt \nEmail jody.kramer@seatoskyhospicesociety.ca to register and get directions. \n  \n  \n 
URL:https://seatoskyhospicesociety.ca/event/mindfulness-for-grief-healing/2025-02-05/
LOCATION:Hospice Society Program Room\, 38140 Behrner Drive\, Squamish\, BC V8B 0J3\, 38140 Behrner Drive\, Squamish\, British Columbia\, V8B 0J3\, Canada
CATEGORIES:Bereavement
ATTACH;FMTTYPE=image/png:https://seatoskyhospicesociety.ca/wp-content/uploads/2025/01/feature-Mindfulness-for-Grief-Healing.png
ORGANIZER;CN="Sea to Sky Hospice Society":MAILTO:info@seatoskyhospicesociety.ca
END:VEVENT
BEGIN:VEVENT
DTSTART;TZID=America/Los_Angeles:20250206T173000
DTEND;TZID=America/Los_Angeles:20250206T183000
DTSTAMP:20260424T074037
CREATED:20241218T232306Z
LAST-MODIFIED:20241218T232306Z
UID:10001665-1738863000-1738866600@seatoskyhospicesociety.ca
SUMMARY:Whistler Grief and Loss Conversations
DESCRIPTION:  \nAre you in need of support?  Please join us for our in person Grief and Loss Conversations in Whistler. \nIn partnership with the Whistler Community Services\, these drop in sessions will begin Thursday evenings\, January 9 – February 13 from 5:30 – 6:30 pm in the Whister Public Library. \nFor questions or additional information\, please contact Shalissa Forestell at shalissa@mywcss.org \n  \n 
URL:https://seatoskyhospicesociety.ca/event/whistler-grief-and-loss-conversations/2025-02-06/
LOCATION:Whistler Public Library\, 4329 Main St\,\, Whistler\, BC\, V8E 1B2\, Canada
CATEGORIES:Bereavement
ATTACH;FMTTYPE=image/png:https://seatoskyhospicesociety.ca/wp-content/uploads/2024/12/whistler-grief-loss-event-feature.png
ORGANIZER;CN="Sea to Sky Hospice Society":MAILTO:info@seatoskyhospicesociety.ca
END:VEVENT
BEGIN:VEVENT
DTSTART;TZID=America/Los_Angeles:20250206T180000
DTEND;TZID=America/Los_Angeles:20250206T193000
DTSTAMP:20260424T074037
CREATED:20241216T200930Z
LAST-MODIFIED:20241216T221207Z
UID:10001644-1738864800-1738870200@seatoskyhospicesociety.ca
SUMMARY:Grief and Bereavement Conversations
DESCRIPTION:Join Us for 8-Week Evening Sessions \nStarting January 16th through March 6th\, we invite you to attend our weekly evening sessions every Thursday from 6:00 PM to 7:30 PM\, in the Hospice Society Program Room. \n\nDates: January 16th – March 6th\nTime: Thursdays\, 6:00 PM – 7:30 PM\nLocation: Hospice Society Program Room\nDrop-ins Welcome: Registration is highly encouraged for a better experience.\n\nWe look forward to seeing you there! \nPlease email jody.kramer@seatoskyhospicesociety.ca to get directions and/or register. \nDrop-ins are welcome but registration is highly encouraged.
URL:https://seatoskyhospicesociety.ca/event/grief-and-bereavement-conversations/2025-02-06/
LOCATION:Hospice Society Program Room\, 38140 Behrner Drive\, Squamish\, BC V8B 0J3\, 38140 Behrner Drive\, Squamish\, British Columbia\, V8B 0J3\, Canada
CATEGORIES:Bereavement
ATTACH;FMTTYPE=image/png:https://seatoskyhospicesociety.ca/wp-content/uploads/2024/12/griefloss.png
ORGANIZER;CN="Sea to Sky Hospice Society":MAILTO:info@seatoskyhospicesociety.ca
END:VEVENT
BEGIN:VEVENT
DTSTART;TZID=America/Los_Angeles:20250206T180000
DTEND;TZID=America/Los_Angeles:20250206T193000
DTSTAMP:20260424T074037
CREATED:20241218T205801Z
LAST-MODIFIED:20241218T205801Z
UID:10001658-1738864800-1738870200@seatoskyhospicesociety.ca
SUMMARY:Grief and Loss through Art Exploration
DESCRIPTION:THIS SERIES IS NOW FULL. Please check back in February for dates of the next sessions. \nJoin us for a 4 – week\, Thursday evening program. \nStarting January 30 – February 20 \nThursdays 6:00 – 7:30 pm \nHeld at the 55 Activity Centre
URL:https://seatoskyhospicesociety.ca/event/grief-and-loss-through-art-exploration/2025-02-06/
LOCATION:55 Activity Centre\, 1201 Village Way\, Squamish\, BC\, V8B 0R7\, Canada
CATEGORIES:Bereavement
ATTACH;FMTTYPE=image/png:https://seatoskyhospicesociety.ca/wp-content/uploads/2024/12/Grief-and-Loss-through-Art-Exploration-web-feature.png
ORGANIZER;CN="Sea to Sky Hospice Society":MAILTO:info@seatoskyhospicesociety.ca
END:VEVENT
BEGIN:VEVENT
DTSTART;TZID=America/Los_Angeles:20250207T120000
DTEND;TZID=America/Los_Angeles:20250207T130000
DTSTAMP:20260424T074037
CREATED:20241217T010659Z
LAST-MODIFIED:20241217T010659Z
UID:10001653-1738929600-1738933200@seatoskyhospicesociety.ca
SUMMARY:Online Grief & Bereavement Conversations
DESCRIPTION:Online  Grief and Bereavement Conversations with Carolyn Green\, each Friday beginning January 10th and running through February 28th. \nThese supportive one hour sessions begin at 12 pm and last one hour\, ending at 1 pm. \nPlease email Jody.Kramer@seatoskyhospicesociety.ca to register and receive a zoom link. \n 
URL:https://seatoskyhospicesociety.ca/event/online-grief-bereavement-conversations/2025-02-07/
LOCATION:Online – contact Jody to register\, Canada
CATEGORIES:Bereavement
ATTACH;FMTTYPE=image/png:https://seatoskyhospicesociety.ca/wp-content/uploads/2024/12/online-grief-berevement-conversations-web-version.png
ORGANIZER;CN="Sea to Sky Hospice Society":MAILTO:info@seatoskyhospicesociety.ca
END:VEVENT
BEGIN:VEVENT
DTSTART;TZID=America/Los_Angeles:20250212T183000
DTEND;TZID=America/Los_Angeles:20250212T193000
DTSTAMP:20260424T074037
CREATED:20250121T231436Z
LAST-MODIFIED:20250121T231436Z
UID:10001675-1739385000-1739388600@seatoskyhospicesociety.ca
SUMMARY:Mindfulness for Grief & Healing
DESCRIPTION:Join us for four weeks of meditaion and self compassion this February. \nEach Wednesday evening beginning February 5th\, from 6:30 – 7:30 PM in the Hospice Society Program Room \nFacilitated by Michelle Precourt \nEmail jody.kramer@seatoskyhospicesociety.ca to register and get directions. \n  \n  \n 
URL:https://seatoskyhospicesociety.ca/event/mindfulness-for-grief-healing/2025-02-12/
LOCATION:Hospice Society Program Room\, 38140 Behrner Drive\, Squamish\, BC V8B 0J3\, 38140 Behrner Drive\, Squamish\, British Columbia\, V8B 0J3\, Canada
CATEGORIES:Bereavement
ATTACH;FMTTYPE=image/png:https://seatoskyhospicesociety.ca/wp-content/uploads/2025/01/feature-Mindfulness-for-Grief-Healing.png
ORGANIZER;CN="Sea to Sky Hospice Society":MAILTO:info@seatoskyhospicesociety.ca
END:VEVENT
BEGIN:VEVENT
DTSTART;TZID=America/Los_Angeles:20250213T173000
DTEND;TZID=America/Los_Angeles:20250213T183000
DTSTAMP:20260424T074037
CREATED:20241218T232306Z
LAST-MODIFIED:20241218T232306Z
UID:10001666-1739467800-1739471400@seatoskyhospicesociety.ca
SUMMARY:Whistler Grief and Loss Conversations
DESCRIPTION:  \nAre you in need of support?  Please join us for our in person Grief and Loss Conversations in Whistler. \nIn partnership with the Whistler Community Services\, these drop in sessions will begin Thursday evenings\, January 9 – February 13 from 5:30 – 6:30 pm in the Whister Public Library. \nFor questions or additional information\, please contact Shalissa Forestell at shalissa@mywcss.org \n  \n 
URL:https://seatoskyhospicesociety.ca/event/whistler-grief-and-loss-conversations/2025-02-13/
LOCATION:Whistler Public Library\, 4329 Main St\,\, Whistler\, BC\, V8E 1B2\, Canada
CATEGORIES:Bereavement
ATTACH;FMTTYPE=image/png:https://seatoskyhospicesociety.ca/wp-content/uploads/2024/12/whistler-grief-loss-event-feature.png
ORGANIZER;CN="Sea to Sky Hospice Society":MAILTO:info@seatoskyhospicesociety.ca
END:VEVENT
BEGIN:VEVENT
DTSTART;TZID=America/Los_Angeles:20250213T180000
DTEND;TZID=America/Los_Angeles:20250213T193000
DTSTAMP:20260424T074037
CREATED:20241216T200930Z
LAST-MODIFIED:20241216T221207Z
UID:10001645-1739469600-1739475000@seatoskyhospicesociety.ca
SUMMARY:Grief and Bereavement Conversations
DESCRIPTION:Join Us for 8-Week Evening Sessions \nStarting January 16th through March 6th\, we invite you to attend our weekly evening sessions every Thursday from 6:00 PM to 7:30 PM\, in the Hospice Society Program Room. \n\nDates: January 16th – March 6th\nTime: Thursdays\, 6:00 PM – 7:30 PM\nLocation: Hospice Society Program Room\nDrop-ins Welcome: Registration is highly encouraged for a better experience.\n\nWe look forward to seeing you there! \nPlease email jody.kramer@seatoskyhospicesociety.ca to get directions and/or register. \nDrop-ins are welcome but registration is highly encouraged.
URL:https://seatoskyhospicesociety.ca/event/grief-and-bereavement-conversations/2025-02-13/
LOCATION:Hospice Society Program Room\, 38140 Behrner Drive\, Squamish\, BC V8B 0J3\, 38140 Behrner Drive\, Squamish\, British Columbia\, V8B 0J3\, Canada
CATEGORIES:Bereavement
ATTACH;FMTTYPE=image/png:https://seatoskyhospicesociety.ca/wp-content/uploads/2024/12/griefloss.png
ORGANIZER;CN="Sea to Sky Hospice Society":MAILTO:info@seatoskyhospicesociety.ca
END:VEVENT
BEGIN:VEVENT
DTSTART;TZID=America/Los_Angeles:20250213T180000
DTEND;TZID=America/Los_Angeles:20250213T193000
DTSTAMP:20260424T074037
CREATED:20241218T205801Z
LAST-MODIFIED:20241218T205801Z
UID:10001659-1739469600-1739475000@seatoskyhospicesociety.ca
SUMMARY:Grief and Loss through Art Exploration
DESCRIPTION:THIS SERIES IS NOW FULL. Please check back in February for dates of the next sessions. \nJoin us for a 4 – week\, Thursday evening program. \nStarting January 30 – February 20 \nThursdays 6:00 – 7:30 pm \nHeld at the 55 Activity Centre
URL:https://seatoskyhospicesociety.ca/event/grief-and-loss-through-art-exploration/2025-02-13/
LOCATION:55 Activity Centre\, 1201 Village Way\, Squamish\, BC\, V8B 0R7\, Canada
CATEGORIES:Bereavement
ATTACH;FMTTYPE=image/png:https://seatoskyhospicesociety.ca/wp-content/uploads/2024/12/Grief-and-Loss-through-Art-Exploration-web-feature.png
ORGANIZER;CN="Sea to Sky Hospice Society":MAILTO:info@seatoskyhospicesociety.ca
END:VEVENT
BEGIN:VEVENT
DTSTART;TZID=America/Los_Angeles:20250214T120000
DTEND;TZID=America/Los_Angeles:20250214T130000
DTSTAMP:20260424T074037
CREATED:20241217T010659Z
LAST-MODIFIED:20241217T010659Z
UID:10001654-1739534400-1739538000@seatoskyhospicesociety.ca
SUMMARY:Online Grief & Bereavement Conversations
DESCRIPTION:Online  Grief and Bereavement Conversations with Carolyn Green\, each Friday beginning January 10th and running through February 28th. \nThese supportive one hour sessions begin at 12 pm and last one hour\, ending at 1 pm. \nPlease email Jody.Kramer@seatoskyhospicesociety.ca to register and receive a zoom link. \n 
URL:https://seatoskyhospicesociety.ca/event/online-grief-bereavement-conversations/2025-02-14/
LOCATION:Online – contact Jody to register\, Canada
CATEGORIES:Bereavement
ATTACH;FMTTYPE=image/png:https://seatoskyhospicesociety.ca/wp-content/uploads/2024/12/online-grief-berevement-conversations-web-version.png
ORGANIZER;CN="Sea to Sky Hospice Society":MAILTO:info@seatoskyhospicesociety.ca
END:VEVENT
BEGIN:VEVENT
DTSTART;TZID=America/Los_Angeles:20250219T183000
DTEND;TZID=America/Los_Angeles:20250219T193000
DTSTAMP:20260424T074037
CREATED:20250121T231436Z
LAST-MODIFIED:20250121T231436Z
UID:10001676-1739989800-1739993400@seatoskyhospicesociety.ca
SUMMARY:Mindfulness for Grief & Healing
DESCRIPTION:Join us for four weeks of meditaion and self compassion this February. \nEach Wednesday evening beginning February 5th\, from 6:30 – 7:30 PM in the Hospice Society Program Room \nFacilitated by Michelle Precourt \nEmail jody.kramer@seatoskyhospicesociety.ca to register and get directions. \n  \n  \n 
URL:https://seatoskyhospicesociety.ca/event/mindfulness-for-grief-healing/2025-02-19/
LOCATION:Hospice Society Program Room\, 38140 Behrner Drive\, Squamish\, BC V8B 0J3\, 38140 Behrner Drive\, Squamish\, British Columbia\, V8B 0J3\, Canada
CATEGORIES:Bereavement
ATTACH;FMTTYPE=image/png:https://seatoskyhospicesociety.ca/wp-content/uploads/2025/01/feature-Mindfulness-for-Grief-Healing.png
ORGANIZER;CN="Sea to Sky Hospice Society":MAILTO:info@seatoskyhospicesociety.ca
END:VEVENT
BEGIN:VEVENT
DTSTART;TZID=America/Los_Angeles:20250220T180000
DTEND;TZID=America/Los_Angeles:20250220T193000
DTSTAMP:20260424T074037
CREATED:20241216T200930Z
LAST-MODIFIED:20241216T221207Z
UID:10001646-1740074400-1740079800@seatoskyhospicesociety.ca
SUMMARY:Grief and Bereavement Conversations
DESCRIPTION:Join Us for 8-Week Evening Sessions \nStarting January 16th through March 6th\, we invite you to attend our weekly evening sessions every Thursday from 6:00 PM to 7:30 PM\, in the Hospice Society Program Room. \n\nDates: January 16th – March 6th\nTime: Thursdays\, 6:00 PM – 7:30 PM\nLocation: Hospice Society Program Room\nDrop-ins Welcome: Registration is highly encouraged for a better experience.\n\nWe look forward to seeing you there! \nPlease email jody.kramer@seatoskyhospicesociety.ca to get directions and/or register. \nDrop-ins are welcome but registration is highly encouraged.
URL:https://seatoskyhospicesociety.ca/event/grief-and-bereavement-conversations/2025-02-20/
LOCATION:Hospice Society Program Room\, 38140 Behrner Drive\, Squamish\, BC V8B 0J3\, 38140 Behrner Drive\, Squamish\, British Columbia\, V8B 0J3\, Canada
CATEGORIES:Bereavement
ATTACH;FMTTYPE=image/png:https://seatoskyhospicesociety.ca/wp-content/uploads/2024/12/griefloss.png
ORGANIZER;CN="Sea to Sky Hospice Society":MAILTO:info@seatoskyhospicesociety.ca
END:VEVENT
BEGIN:VEVENT
DTSTART;TZID=America/Los_Angeles:20250220T180000
DTEND;TZID=America/Los_Angeles:20250220T193000
DTSTAMP:20260424T074037
CREATED:20241218T205801Z
LAST-MODIFIED:20241218T205801Z
UID:10001660-1740074400-1740079800@seatoskyhospicesociety.ca
SUMMARY:Grief and Loss through Art Exploration
DESCRIPTION:THIS SERIES IS NOW FULL. Please check back in February for dates of the next sessions. \nJoin us for a 4 – week\, Thursday evening program. \nStarting January 30 – February 20 \nThursdays 6:00 – 7:30 pm \nHeld at the 55 Activity Centre
URL:https://seatoskyhospicesociety.ca/event/grief-and-loss-through-art-exploration/2025-02-20/
LOCATION:55 Activity Centre\, 1201 Village Way\, Squamish\, BC\, V8B 0R7\, Canada
CATEGORIES:Bereavement
ATTACH;FMTTYPE=image/png:https://seatoskyhospicesociety.ca/wp-content/uploads/2024/12/Grief-and-Loss-through-Art-Exploration-web-feature.png
ORGANIZER;CN="Sea to Sky Hospice Society":MAILTO:info@seatoskyhospicesociety.ca
END:VEVENT
BEGIN:VEVENT
DTSTART;TZID=America/Los_Angeles:20250221T120000
DTEND;TZID=America/Los_Angeles:20250221T130000
DTSTAMP:20260424T074037
CREATED:20241217T010659Z
LAST-MODIFIED:20241217T010659Z
UID:10001655-1740139200-1740142800@seatoskyhospicesociety.ca
SUMMARY:Online Grief & Bereavement Conversations
DESCRIPTION:Online  Grief and Bereavement Conversations with Carolyn Green\, each Friday beginning January 10th and running through February 28th. \nThese supportive one hour sessions begin at 12 pm and last one hour\, ending at 1 pm. \nPlease email Jody.Kramer@seatoskyhospicesociety.ca to register and receive a zoom link. \n 
URL:https://seatoskyhospicesociety.ca/event/online-grief-bereavement-conversations/2025-02-21/
LOCATION:Online – contact Jody to register\, Canada
CATEGORIES:Bereavement
ATTACH;FMTTYPE=image/png:https://seatoskyhospicesociety.ca/wp-content/uploads/2024/12/online-grief-berevement-conversations-web-version.png
ORGANIZER;CN="Sea to Sky Hospice Society":MAILTO:info@seatoskyhospicesociety.ca
END:VEVENT
BEGIN:VEVENT
DTSTART;TZID=America/Los_Angeles:20250226T183000
DTEND;TZID=America/Los_Angeles:20250226T193000
DTSTAMP:20260424T074037
CREATED:20250121T231436Z
LAST-MODIFIED:20250121T231436Z
UID:10001677-1740594600-1740598200@seatoskyhospicesociety.ca
SUMMARY:Mindfulness for Grief & Healing
DESCRIPTION:Join us for four weeks of meditaion and self compassion this February. \nEach Wednesday evening beginning February 5th\, from 6:30 – 7:30 PM in the Hospice Society Program Room \nFacilitated by Michelle Precourt \nEmail jody.kramer@seatoskyhospicesociety.ca to register and get directions. \n  \n  \n 
URL:https://seatoskyhospicesociety.ca/event/mindfulness-for-grief-healing/2025-02-26/
LOCATION:Hospice Society Program Room\, 38140 Behrner Drive\, Squamish\, BC V8B 0J3\, 38140 Behrner Drive\, Squamish\, British Columbia\, V8B 0J3\, Canada
CATEGORIES:Bereavement
ATTACH;FMTTYPE=image/png:https://seatoskyhospicesociety.ca/wp-content/uploads/2025/01/feature-Mindfulness-for-Grief-Healing.png
ORGANIZER;CN="Sea to Sky Hospice Society":MAILTO:info@seatoskyhospicesociety.ca
END:VEVENT
BEGIN:VEVENT
DTSTART;TZID=America/Los_Angeles:20250227T180000
DTEND;TZID=America/Los_Angeles:20250227T193000
DTSTAMP:20260424T074037
CREATED:20241216T200930Z
LAST-MODIFIED:20241216T221207Z
UID:10001647-1740679200-1740684600@seatoskyhospicesociety.ca
SUMMARY:Grief and Bereavement Conversations
DESCRIPTION:Join Us for 8-Week Evening Sessions \nStarting January 16th through March 6th\, we invite you to attend our weekly evening sessions every Thursday from 6:00 PM to 7:30 PM\, in the Hospice Society Program Room. \n\nDates: January 16th – March 6th\nTime: Thursdays\, 6:00 PM – 7:30 PM\nLocation: Hospice Society Program Room\nDrop-ins Welcome: Registration is highly encouraged for a better experience.\n\nWe look forward to seeing you there! \nPlease email jody.kramer@seatoskyhospicesociety.ca to get directions and/or register. \nDrop-ins are welcome but registration is highly encouraged.
URL:https://seatoskyhospicesociety.ca/event/grief-and-bereavement-conversations/2025-02-27/
LOCATION:Hospice Society Program Room\, 38140 Behrner Drive\, Squamish\, BC V8B 0J3\, 38140 Behrner Drive\, Squamish\, British Columbia\, V8B 0J3\, Canada
CATEGORIES:Bereavement
ATTACH;FMTTYPE=image/png:https://seatoskyhospicesociety.ca/wp-content/uploads/2024/12/griefloss.png
ORGANIZER;CN="Sea to Sky Hospice Society":MAILTO:info@seatoskyhospicesociety.ca
END:VEVENT
BEGIN:VEVENT
DTSTART;TZID=America/Los_Angeles:20250228T120000
DTEND;TZID=America/Los_Angeles:20250228T130000
DTSTAMP:20260424T074037
CREATED:20241217T010659Z
LAST-MODIFIED:20241217T010659Z
UID:10001656-1740744000-1740747600@seatoskyhospicesociety.ca
SUMMARY:Online Grief & Bereavement Conversations
DESCRIPTION:Online  Grief and Bereavement Conversations with Carolyn Green\, each Friday beginning January 10th and running through February 28th. \nThese supportive one hour sessions begin at 12 pm and last one hour\, ending at 1 pm. \nPlease email Jody.Kramer@seatoskyhospicesociety.ca to register and receive a zoom link. \n 
URL:https://seatoskyhospicesociety.ca/event/online-grief-bereavement-conversations/2025-02-28/
LOCATION:Online – contact Jody to register\, Canada
CATEGORIES:Bereavement
ATTACH;FMTTYPE=image/png:https://seatoskyhospicesociety.ca/wp-content/uploads/2024/12/online-grief-berevement-conversations-web-version.png
ORGANIZER;CN="Sea to Sky Hospice Society":MAILTO:info@seatoskyhospicesociety.ca
END:VEVENT
END:VCALENDAR