BEGIN:VCALENDAR
VERSION:2.0
PRODID:-//Sea to Sky Hospice Society - ECPv6.15.12.2//NONSGML v1.0//EN
CALSCALE:GREGORIAN
METHOD:PUBLISH
X-WR-CALNAME:Sea to Sky Hospice Society
X-ORIGINAL-URL:https://seatoskyhospicesociety.ca
X-WR-CALDESC:Events for Sea to Sky Hospice Society
REFRESH-INTERVAL;VALUE=DURATION:PT1H
X-Robots-Tag:noindex
X-PUBLISHED-TTL:PT1H
BEGIN:VTIMEZONE
TZID:America/Los_Angeles
BEGIN:DAYLIGHT
TZOFFSETFROM:-0800
TZOFFSETTO:-0700
TZNAME:PDT
DTSTART:20220313T100000
END:DAYLIGHT
BEGIN:STANDARD
TZOFFSETFROM:-0700
TZOFFSETTO:-0800
TZNAME:PST
DTSTART:20221106T090000
END:STANDARD
BEGIN:DAYLIGHT
TZOFFSETFROM:-0800
TZOFFSETTO:-0700
TZNAME:PDT
DTSTART:20230312T100000
END:DAYLIGHT
BEGIN:STANDARD
TZOFFSETFROM:-0700
TZOFFSETTO:-0800
TZNAME:PST
DTSTART:20231105T090000
END:STANDARD
BEGIN:DAYLIGHT
TZOFFSETFROM:-0800
TZOFFSETTO:-0700
TZNAME:PDT
DTSTART:20240310T100000
END:DAYLIGHT
BEGIN:STANDARD
TZOFFSETFROM:-0700
TZOFFSETTO:-0800
TZNAME:PST
DTSTART:20241103T090000
END:STANDARD
END:VTIMEZONE
BEGIN:VEVENT
DTSTART;TZID=America/Los_Angeles:20231005T100000
DTEND;TZID=America/Los_Angeles:20231005T113000
DTSTAMP:20260425T075744
CREATED:20230815T173132Z
LAST-MODIFIED:20230815T173901Z
UID:10000565-1696500000-1696505400@seatoskyhospicesociety.ca
SUMMARY:Squamish Weekly Bereavement Morning Walks
DESCRIPTION:Are you Grieving the Loss of a Loved One? \nJoin us for a Volunteer led Bereavement Walk. No preregistration necessary. \nWeekly on Thursday mornings at 10 am \nSept. 7th –  Oct.  27th \nAt the Squamish Adventure Centre \nMeet at the stairs outside\, and look for the Sea to Sky Hospice Society Volunteers with their green backpacks!
URL:https://seatoskyhospicesociety.ca/event/squamish-weekly-bereavement-morning-walks/2023-10-05/
LOCATION:Squamish Adventure Centre\, 38551 Loggers Lane\, Squamish\, BC\, V8B 0H2\, Canada
CATEGORIES:Bereavement
ATTACH;FMTTYPE=image/jpeg:https://seatoskyhospicesociety.ca/wp-content/uploads/2023/08/Fall-walking-image.jpg
ORGANIZER;CN="Sea to Sky Hospice Society":MAILTO:info@seatoskyhospicesociety.ca
END:VEVENT
BEGIN:VEVENT
DTSTART;TZID=America/Los_Angeles:20231012T100000
DTEND;TZID=America/Los_Angeles:20231012T113000
DTSTAMP:20260425T075744
CREATED:20230815T173132Z
LAST-MODIFIED:20230815T173901Z
UID:10000566-1697104800-1697110200@seatoskyhospicesociety.ca
SUMMARY:Squamish Weekly Bereavement Morning Walks
DESCRIPTION:Are you Grieving the Loss of a Loved One? \nJoin us for a Volunteer led Bereavement Walk. No preregistration necessary. \nWeekly on Thursday mornings at 10 am \nSept. 7th –  Oct.  27th \nAt the Squamish Adventure Centre \nMeet at the stairs outside\, and look for the Sea to Sky Hospice Society Volunteers with their green backpacks!
URL:https://seatoskyhospicesociety.ca/event/squamish-weekly-bereavement-morning-walks/2023-10-12/
LOCATION:Squamish Adventure Centre\, 38551 Loggers Lane\, Squamish\, BC\, V8B 0H2\, Canada
CATEGORIES:Bereavement
ATTACH;FMTTYPE=image/jpeg:https://seatoskyhospicesociety.ca/wp-content/uploads/2023/08/Fall-walking-image.jpg
ORGANIZER;CN="Sea to Sky Hospice Society":MAILTO:info@seatoskyhospicesociety.ca
END:VEVENT
BEGIN:VEVENT
DTSTART;TZID=America/Los_Angeles:20231019T100000
DTEND;TZID=America/Los_Angeles:20231019T113000
DTSTAMP:20260425T075744
CREATED:20230815T173132Z
LAST-MODIFIED:20230815T173901Z
UID:10000567-1697709600-1697715000@seatoskyhospicesociety.ca
SUMMARY:Squamish Weekly Bereavement Morning Walks
DESCRIPTION:Are you Grieving the Loss of a Loved One? \nJoin us for a Volunteer led Bereavement Walk. No preregistration necessary. \nWeekly on Thursday mornings at 10 am \nSept. 7th –  Oct.  27th \nAt the Squamish Adventure Centre \nMeet at the stairs outside\, and look for the Sea to Sky Hospice Society Volunteers with their green backpacks!
URL:https://seatoskyhospicesociety.ca/event/squamish-weekly-bereavement-morning-walks/2023-10-19/
LOCATION:Squamish Adventure Centre\, 38551 Loggers Lane\, Squamish\, BC\, V8B 0H2\, Canada
CATEGORIES:Bereavement
ATTACH;FMTTYPE=image/jpeg:https://seatoskyhospicesociety.ca/wp-content/uploads/2023/08/Fall-walking-image.jpg
ORGANIZER;CN="Sea to Sky Hospice Society":MAILTO:info@seatoskyhospicesociety.ca
END:VEVENT
END:VCALENDAR