BEGIN:VCALENDAR
VERSION:2.0
PRODID:-//Sea to Sky Hospice Society - ECPv6.15.12.2//NONSGML v1.0//EN
CALSCALE:GREGORIAN
METHOD:PUBLISH
X-ORIGINAL-URL:https://seatoskyhospicesociety.ca
X-WR-CALDESC:Events for Sea to Sky Hospice Society
REFRESH-INTERVAL;VALUE=DURATION:PT1H
X-Robots-Tag:noindex
X-PUBLISHED-TTL:PT1H
BEGIN:VTIMEZONE
TZID:America/Los_Angeles
BEGIN:DAYLIGHT
TZOFFSETFROM:-0800
TZOFFSETTO:-0700
TZNAME:PDT
DTSTART:20240310T100000
END:DAYLIGHT
BEGIN:STANDARD
TZOFFSETFROM:-0700
TZOFFSETTO:-0800
TZNAME:PST
DTSTART:20241103T090000
END:STANDARD
BEGIN:DAYLIGHT
TZOFFSETFROM:-0800
TZOFFSETTO:-0700
TZNAME:PDT
DTSTART:20250309T100000
END:DAYLIGHT
BEGIN:STANDARD
TZOFFSETFROM:-0700
TZOFFSETTO:-0800
TZNAME:PST
DTSTART:20251102T090000
END:STANDARD
BEGIN:DAYLIGHT
TZOFFSETFROM:-0800
TZOFFSETTO:-0700
TZNAME:PDT
DTSTART:20260308T100000
END:DAYLIGHT
BEGIN:STANDARD
TZOFFSETFROM:-0700
TZOFFSETTO:-0800
TZNAME:PST
DTSTART:20261101T090000
END:STANDARD
END:VTIMEZONE
BEGIN:VEVENT
DTSTART;TZID=America/Los_Angeles:20250402T190000
DTEND;TZID=America/Los_Angeles:20250402T203000
DTSTAMP:20260424T061401
CREATED:20250321T184001Z
LAST-MODIFIED:20250618T195705Z
UID:10001717-1743620400-1743625800@seatoskyhospicesociety.ca
SUMMARY:Squamish Infant Loss Peer Support Group
DESCRIPTION:Squamish Infant Loss Peer Support Group: \nOver a 4 week period\, together\, we will share our love and heartache\, and focus on how to grow WITH our grief\, with grace and love. If you are a newly bereaved parent\, or several birthdays have gone by\, you are welcome to attend this small group. Registration required. \nWednesday evenings April 2-23\, from 7-8:30pm\, in the Hospice Program Room  \nFor Questions and Registration:  jody.kramer@seatoskyhospicesociety.ca / 604-892-6051\, ext 5
URL:https://seatoskyhospicesociety.ca/event/squamish-infant-loss-peer-support-group/2025-04-02/
LOCATION:Hospice Society Program Room\, 38140 Behrner Drive\, Squamish\, BC V8B 0J3\, 38140 Behrner Drive\, Squamish\, British Columbia\, V8B 0J3\, Canada
CATEGORIES:Bereavement
ATTACH;FMTTYPE=image/png:https://seatoskyhospicesociety.ca/wp-content/uploads/2025/03/feature-social-infant-loss-support-group.png
ORGANIZER;CN="Sea to Sky Hospice Society":MAILTO:info@seatoskyhospicesociety.ca
END:VEVENT
BEGIN:VEVENT
DTSTART;TZID=America/Los_Angeles:20250409T190000
DTEND;TZID=America/Los_Angeles:20250409T203000
DTSTAMP:20260424T061401
CREATED:20250321T184001Z
LAST-MODIFIED:20250618T195705Z
UID:10001718-1744225200-1744230600@seatoskyhospicesociety.ca
SUMMARY:Squamish Infant Loss Peer Support Group
DESCRIPTION:Squamish Infant Loss Peer Support Group: \nOver a 4 week period\, together\, we will share our love and heartache\, and focus on how to grow WITH our grief\, with grace and love. If you are a newly bereaved parent\, or several birthdays have gone by\, you are welcome to attend this small group. Registration required. \nWednesday evenings April 2-23\, from 7-8:30pm\, in the Hospice Program Room  \nFor Questions and Registration:  jody.kramer@seatoskyhospicesociety.ca / 604-892-6051\, ext 5
URL:https://seatoskyhospicesociety.ca/event/squamish-infant-loss-peer-support-group/2025-04-09/
LOCATION:Hospice Society Program Room\, 38140 Behrner Drive\, Squamish\, BC V8B 0J3\, 38140 Behrner Drive\, Squamish\, British Columbia\, V8B 0J3\, Canada
CATEGORIES:Bereavement
ATTACH;FMTTYPE=image/png:https://seatoskyhospicesociety.ca/wp-content/uploads/2025/03/feature-social-infant-loss-support-group.png
ORGANIZER;CN="Sea to Sky Hospice Society":MAILTO:info@seatoskyhospicesociety.ca
END:VEVENT
BEGIN:VEVENT
DTSTART;TZID=America/Los_Angeles:20250416T190000
DTEND;TZID=America/Los_Angeles:20250416T203000
DTSTAMP:20260424T061401
CREATED:20250321T184001Z
LAST-MODIFIED:20250618T195705Z
UID:10001719-1744830000-1744835400@seatoskyhospicesociety.ca
SUMMARY:Squamish Infant Loss Peer Support Group
DESCRIPTION:Squamish Infant Loss Peer Support Group: \nOver a 4 week period\, together\, we will share our love and heartache\, and focus on how to grow WITH our grief\, with grace and love. If you are a newly bereaved parent\, or several birthdays have gone by\, you are welcome to attend this small group. Registration required. \nWednesday evenings April 2-23\, from 7-8:30pm\, in the Hospice Program Room  \nFor Questions and Registration:  jody.kramer@seatoskyhospicesociety.ca / 604-892-6051\, ext 5
URL:https://seatoskyhospicesociety.ca/event/squamish-infant-loss-peer-support-group/2025-04-16/
LOCATION:Hospice Society Program Room\, 38140 Behrner Drive\, Squamish\, BC V8B 0J3\, 38140 Behrner Drive\, Squamish\, British Columbia\, V8B 0J3\, Canada
CATEGORIES:Bereavement
ATTACH;FMTTYPE=image/png:https://seatoskyhospicesociety.ca/wp-content/uploads/2025/03/feature-social-infant-loss-support-group.png
ORGANIZER;CN="Sea to Sky Hospice Society":MAILTO:info@seatoskyhospicesociety.ca
END:VEVENT
BEGIN:VEVENT
DTSTART;TZID=America/Los_Angeles:20250423T190000
DTEND;TZID=America/Los_Angeles:20250423T203000
DTSTAMP:20260424T061401
CREATED:20250321T184001Z
LAST-MODIFIED:20250618T195705Z
UID:10001720-1745434800-1745440200@seatoskyhospicesociety.ca
SUMMARY:Squamish Infant Loss Peer Support Group
DESCRIPTION:Squamish Infant Loss Peer Support Group: \nOver a 4 week period\, together\, we will share our love and heartache\, and focus on how to grow WITH our grief\, with grace and love. If you are a newly bereaved parent\, or several birthdays have gone by\, you are welcome to attend this small group. Registration required. \nWednesday evenings April 2-23\, from 7-8:30pm\, in the Hospice Program Room  \nFor Questions and Registration:  jody.kramer@seatoskyhospicesociety.ca / 604-892-6051\, ext 5
URL:https://seatoskyhospicesociety.ca/event/squamish-infant-loss-peer-support-group/2025-04-23/
LOCATION:Hospice Society Program Room\, 38140 Behrner Drive\, Squamish\, BC V8B 0J3\, 38140 Behrner Drive\, Squamish\, British Columbia\, V8B 0J3\, Canada
CATEGORIES:Bereavement
ATTACH;FMTTYPE=image/png:https://seatoskyhospicesociety.ca/wp-content/uploads/2025/03/feature-social-infant-loss-support-group.png
ORGANIZER;CN="Sea to Sky Hospice Society":MAILTO:info@seatoskyhospicesociety.ca
END:VEVENT
BEGIN:VEVENT
DTSTART;TZID=America/Los_Angeles:20250430T190000
DTEND;TZID=America/Los_Angeles:20250430T203000
DTSTAMP:20260424T061401
CREATED:20250321T184001Z
LAST-MODIFIED:20250618T195705Z
UID:10001721-1746039600-1746045000@seatoskyhospicesociety.ca
SUMMARY:Squamish Infant Loss Peer Support Group
DESCRIPTION:Squamish Infant Loss Peer Support Group: \nOver a 4 week period\, together\, we will share our love and heartache\, and focus on how to grow WITH our grief\, with grace and love. If you are a newly bereaved parent\, or several birthdays have gone by\, you are welcome to attend this small group. Registration required. \nWednesday evenings April 2-23\, from 7-8:30pm\, in the Hospice Program Room  \nFor Questions and Registration:  jody.kramer@seatoskyhospicesociety.ca / 604-892-6051\, ext 5
URL:https://seatoskyhospicesociety.ca/event/squamish-infant-loss-peer-support-group/2025-04-30/
LOCATION:Hospice Society Program Room\, 38140 Behrner Drive\, Squamish\, BC V8B 0J3\, 38140 Behrner Drive\, Squamish\, British Columbia\, V8B 0J3\, Canada
CATEGORIES:Bereavement
ATTACH;FMTTYPE=image/png:https://seatoskyhospicesociety.ca/wp-content/uploads/2025/03/feature-social-infant-loss-support-group.png
ORGANIZER;CN="Sea to Sky Hospice Society":MAILTO:info@seatoskyhospicesociety.ca
END:VEVENT
END:VCALENDAR