BEGIN:VCALENDAR
VERSION:2.0
PRODID:-//Sea to Sky Hospice Society - ECPv6.15.12.2//NONSGML v1.0//EN
CALSCALE:GREGORIAN
METHOD:PUBLISH
X-ORIGINAL-URL:https://seatoskyhospicesociety.ca
X-WR-CALDESC:Events for Sea to Sky Hospice Society
REFRESH-INTERVAL;VALUE=DURATION:PT1H
X-Robots-Tag:noindex
X-PUBLISHED-TTL:PT1H
BEGIN:VTIMEZONE
TZID:America/Los_Angeles
BEGIN:DAYLIGHT
TZOFFSETFROM:-0800
TZOFFSETTO:-0700
TZNAME:PDT
DTSTART:20240310T100000
END:DAYLIGHT
BEGIN:STANDARD
TZOFFSETFROM:-0700
TZOFFSETTO:-0800
TZNAME:PST
DTSTART:20241103T090000
END:STANDARD
BEGIN:DAYLIGHT
TZOFFSETFROM:-0800
TZOFFSETTO:-0700
TZNAME:PDT
DTSTART:20250309T100000
END:DAYLIGHT
BEGIN:STANDARD
TZOFFSETFROM:-0700
TZOFFSETTO:-0800
TZNAME:PST
DTSTART:20251102T090000
END:STANDARD
BEGIN:DAYLIGHT
TZOFFSETFROM:-0800
TZOFFSETTO:-0700
TZNAME:PDT
DTSTART:20260308T100000
END:DAYLIGHT
BEGIN:STANDARD
TZOFFSETFROM:-0700
TZOFFSETTO:-0800
TZNAME:PST
DTSTART:20261101T090000
END:STANDARD
END:VTIMEZONE
BEGIN:VEVENT
DTSTART;TZID=America/Los_Angeles:20250327T150000
DTEND;TZID=America/Los_Angeles:20250327T170000
DTSTAMP:20260424T090514
CREATED:20250110T210853Z
LAST-MODIFIED:20250110T213644Z
UID:10001672-1743087600-1743094800@seatoskyhospicesociety.ca
SUMMARY:Introduction to Estate Planning in Whistler
DESCRIPTION:Join Eddie Carter of Race & Co and James Sparling of Vocari Financial Solutions for an insightful introduction to Estate Planning and the Tax Benefits of Charitable  Giving. \nDiscover why this crucial planning is essential for your financial future. Eddie and James will explain how effective estate planning can help you minimize taxes\, facilitate charitable donations\, and ensure that your wishes are honoured. \nDon’t miss this opportunity to learn how to protect your assets and support your loved ones. \nThere is no cost\, but we ask you to preregister. Please follow this link to RSVP to our Eventbrite page to reserve your spot today. \nRefreshments will be served. \nCo-hosted by the Sea to Sky Hospice Society and the Whistler Community Foundation with the space graciously provided by the Whistler Public Library. \nMarch 27th from 3pm – 5pm at the Whistler Public Library.
URL:https://seatoskyhospicesociety.ca/event/introduction-to-estate-planning-in-whistler/
LOCATION:Whistler Public Library\, 4329 Main St\,\, Whistler\, BC\, V8E 1B2\, Canada
ATTACH;FMTTYPE=image/png:https://seatoskyhospicesociety.ca/wp-content/uploads/2025/01/Whistler-Introduction-to-Estate-Planning-poster-feature.png
ORGANIZER;CN="Sea to Sky Hospice Society":MAILTO:info@seatoskyhospicesociety.ca
END:VEVENT
END:VCALENDAR