BEGIN:VCALENDAR
VERSION:2.0
PRODID:-//Sea to Sky Hospice Society - ECPv6.15.12.2//NONSGML v1.0//EN
CALSCALE:GREGORIAN
METHOD:PUBLISH
X-WR-CALNAME:Sea to Sky Hospice Society
X-ORIGINAL-URL:https://seatoskyhospicesociety.ca
X-WR-CALDESC:Events for Sea to Sky Hospice Society
REFRESH-INTERVAL;VALUE=DURATION:PT1H
X-Robots-Tag:noindex
X-PUBLISHED-TTL:PT1H
BEGIN:VTIMEZONE
TZID:America/Los_Angeles
BEGIN:DAYLIGHT
TZOFFSETFROM:-0800
TZOFFSETTO:-0700
TZNAME:PDT
DTSTART:20220313T100000
END:DAYLIGHT
BEGIN:STANDARD
TZOFFSETFROM:-0700
TZOFFSETTO:-0800
TZNAME:PST
DTSTART:20221106T090000
END:STANDARD
BEGIN:DAYLIGHT
TZOFFSETFROM:-0800
TZOFFSETTO:-0700
TZNAME:PDT
DTSTART:20230312T100000
END:DAYLIGHT
BEGIN:STANDARD
TZOFFSETFROM:-0700
TZOFFSETTO:-0800
TZNAME:PST
DTSTART:20231105T090000
END:STANDARD
BEGIN:DAYLIGHT
TZOFFSETFROM:-0800
TZOFFSETTO:-0700
TZNAME:PDT
DTSTART:20240310T100000
END:DAYLIGHT
BEGIN:STANDARD
TZOFFSETFROM:-0700
TZOFFSETTO:-0800
TZNAME:PST
DTSTART:20241103T090000
END:STANDARD
END:VTIMEZONE
BEGIN:VEVENT
DTSTART;TZID=America/Los_Angeles:20231221T190000
DTEND;TZID=America/Los_Angeles:20231221T203000
DTSTAMP:20260425T055235
CREATED:20231003T200802Z
LAST-MODIFIED:20231105T174107Z
UID:10000614-1703185200-1703190600@seatoskyhospicesociety.ca
SUMMARY:Compassionate Community Book Circle
DESCRIPTION:Do you love reading and are you curious to connect with a compassionate community of readers?\nJoin us on December 21 at 7:00pm for a Winter Solstice Compassionate Community Book Circle! We will be hosted by Little Bookshop located at 38041 2 Ave\, Squamish. \nFeel free to come even if you haven’t read the books! \nFunded by a Compassionate Communities BC CPA Seed Grant\, and organized by the Sea to Sky Hospice Society and their team of volunteers\, this seasonal Compassionate Community Book Circle will discuss learnings and thoughts from books covering topics related to compassion and the Sea to Sky Hospice’s Mission “to promote and provide compassionate care for all Sea to Sky residents with life limiting illness\, and ongoing support (bereavement and grief) for loved ones. \nOur two Winter Reads will be\nBook One\n\nThe In-Between – Hadley Vlahos\n\nBook Two\n\nThe Compassion Project – Julian Abel\, Lindsay Clarke\n\nBooks may be available at the Little Book Shop\, the Squamish Public Library’s interlibrary loan\, the Hospice Library\, or by purchase online. \nRead one or both or simply join us to learn more about who is reading what! \nFor more information or to participate in the poll for the next Winter Solstice Book Circle Meet-Up\, please contact: diana.gunstone@seatoskyhospicesociety.ca or call (604) 892-6051 ext. 5 \n  \nThe Compassionate Community Book Circle is possible through a generous donation from the BC Centre for Palliative Care.
URL:https://seatoskyhospicesociety.ca/event/compassionate-community-book-club-winter/
LOCATION:Gather\, Books & Lovely Things\, 38041 2nd Avenue\, Squamish\, BC\, V8B 0C3\, Canada
ATTACH;FMTTYPE=image/jpeg:https://seatoskyhospicesociety.ca/wp-content/uploads/2023/10/Web-Feature-Image-crop-bottom-off-2-1-e1698538625564.jpg
ORGANIZER;CN="Sea to Sky Hospice Society":MAILTO:info@seatoskyhospicesociety.ca
END:VEVENT
END:VCALENDAR