BEGIN:VCALENDAR
VERSION:2.0
PRODID:-//Sea to Sky Hospice Society - ECPv6.15.12.2//NONSGML v1.0//EN
CALSCALE:GREGORIAN
METHOD:PUBLISH
X-WR-CALNAME:Sea to Sky Hospice Society
X-ORIGINAL-URL:https://seatoskyhospicesociety.ca
X-WR-CALDESC:Events for Sea to Sky Hospice Society
REFRESH-INTERVAL;VALUE=DURATION:PT1H
X-Robots-Tag:noindex
X-PUBLISHED-TTL:PT1H
BEGIN:VTIMEZONE
TZID:America/Los_Angeles
BEGIN:DAYLIGHT
TZOFFSETFROM:-0800
TZOFFSETTO:-0700
TZNAME:PDT
DTSTART:20230312T100000
END:DAYLIGHT
BEGIN:STANDARD
TZOFFSETFROM:-0700
TZOFFSETTO:-0800
TZNAME:PST
DTSTART:20231105T090000
END:STANDARD
BEGIN:DAYLIGHT
TZOFFSETFROM:-0800
TZOFFSETTO:-0700
TZNAME:PDT
DTSTART:20240310T100000
END:DAYLIGHT
BEGIN:STANDARD
TZOFFSETFROM:-0700
TZOFFSETTO:-0800
TZNAME:PST
DTSTART:20241103T090000
END:STANDARD
BEGIN:DAYLIGHT
TZOFFSETFROM:-0800
TZOFFSETTO:-0700
TZNAME:PDT
DTSTART:20250309T100000
END:DAYLIGHT
BEGIN:STANDARD
TZOFFSETFROM:-0700
TZOFFSETTO:-0800
TZNAME:PST
DTSTART:20251102T090000
END:STANDARD
END:VTIMEZONE
BEGIN:VEVENT
DTSTART;TZID=America/Los_Angeles:20240130T080000
DTEND;TZID=America/Los_Angeles:20240130T170000
DTSTAMP:20260425T115541
CREATED:20231220T000852Z
LAST-MODIFIED:20240227T230819Z
UID:10000768-1706601600-1706634000@seatoskyhospicesociety.ca
SUMMARY:Caregiver Support Group
DESCRIPTION:THIS EVENT HAS BEEN CANCELLED AND WILL BE RESCHEDULED IN THE FALL. \nCaregiver Support Group \nDrop-ins welcome! \nMonthly\, the last Tuesday of each month\, January 30th\, February 27th and March 26th \n1:30 – 2:30pm \nAt the 55 Activity Centre\,  1201 Village Way \nJoin us for a cup of tea\, reassurance\, and connection\, where caregivers can refocus on selfcare\, learn from each other and know they are not alone.
URL:https://seatoskyhospicesociety.ca/event/caregiver-support-group/2024-01-30/1/
LOCATION:55 Activity Centre\, 1201 Village Way\, Squamish\, BC\, V8B 0R7\, Canada
CATEGORIES:Compassionate Communities
ATTACH;FMTTYPE=image/jpeg:https://seatoskyhospicesociety.ca/wp-content/uploads/2023/12/care-giver-support.jpg
ORGANIZER;CN="Sea to Sky Hospice Society":MAILTO:info@seatoskyhospicesociety.ca
END:VEVENT
BEGIN:VEVENT
DTSTART;TZID=America/Los_Angeles:20240130T133000
DTEND;TZID=America/Los_Angeles:20240130T143000
DTSTAMP:20260425T115541
CREATED:20231220T000852Z
LAST-MODIFIED:20240227T230819Z
UID:10000735-1706621400-1706625000@seatoskyhospicesociety.ca
SUMMARY:Caregiver Support Group
DESCRIPTION:THIS EVENT HAS BEEN CANCELLED AND WILL BE RESCHEDULED IN THE FALL. \nCaregiver Support Group \nDrop-ins welcome! \nMonthly\, the last Tuesday of each month\, January 30th\, February 27th and March 26th \n1:30 – 2:30pm \nAt the 55 Activity Centre\,  1201 Village Way \nJoin us for a cup of tea\, reassurance\, and connection\, where caregivers can refocus on selfcare\, learn from each other and know they are not alone.
URL:https://seatoskyhospicesociety.ca/event/caregiver-support-group/2024-01-30/2/
LOCATION:55 Activity Centre\, 1201 Village Way\, Squamish\, BC\, V8B 0R7\, Canada
CATEGORIES:Compassionate Communities
ATTACH;FMTTYPE=image/jpeg:https://seatoskyhospicesociety.ca/wp-content/uploads/2023/12/care-giver-support.jpg
ORGANIZER;CN="Sea to Sky Hospice Society":MAILTO:info@seatoskyhospicesociety.ca
END:VEVENT
END:VCALENDAR