BEGIN:VCALENDAR
VERSION:2.0
PRODID:-//Sea to Sky Hospice Society - ECPv6.15.12.2//NONSGML v1.0//EN
CALSCALE:GREGORIAN
METHOD:PUBLISH
X-ORIGINAL-URL:https://seatoskyhospicesociety.ca
X-WR-CALDESC:Events for Sea to Sky Hospice Society
REFRESH-INTERVAL;VALUE=DURATION:PT1H
X-Robots-Tag:noindex
X-PUBLISHED-TTL:PT1H
BEGIN:VTIMEZONE
TZID:America/Los_Angeles
BEGIN:DAYLIGHT
TZOFFSETFROM:-0800
TZOFFSETTO:-0700
TZNAME:PDT
DTSTART:20220313T100000
END:DAYLIGHT
BEGIN:STANDARD
TZOFFSETFROM:-0700
TZOFFSETTO:-0800
TZNAME:PST
DTSTART:20221106T090000
END:STANDARD
BEGIN:DAYLIGHT
TZOFFSETFROM:-0800
TZOFFSETTO:-0700
TZNAME:PDT
DTSTART:20230312T100000
END:DAYLIGHT
BEGIN:STANDARD
TZOFFSETFROM:-0700
TZOFFSETTO:-0800
TZNAME:PST
DTSTART:20231105T090000
END:STANDARD
BEGIN:DAYLIGHT
TZOFFSETFROM:-0800
TZOFFSETTO:-0700
TZNAME:PDT
DTSTART:20240310T100000
END:DAYLIGHT
BEGIN:STANDARD
TZOFFSETFROM:-0700
TZOFFSETTO:-0800
TZNAME:PST
DTSTART:20241103T090000
END:STANDARD
END:VTIMEZONE
BEGIN:VEVENT
DTSTART;TZID=America/Los_Angeles:20231023T061500
DTEND;TZID=America/Los_Angeles:20231027T070000
DTSTAMP:20260425T160853
CREATED:20231016T194545Z
LAST-MODIFIED:20231016T201247Z
UID:10000628-1698041700-1698390000@seatoskyhospicesociety.ca
SUMMARY:Yoga for Care Givers
DESCRIPTION:Yoga for Care Givers – Compassionate Communties Online \nTake time to care for yourself as you share your care with others. \nPlease join us and yoga instructor\, Annie Martinello\, online for a week of early morning (gentle) yoga\, to help inspire a practise for your own selfcare. \nOctober 23rd – 27th\, 6:15 – 7 am. Please scan the QR code to register \n \nWe are grateful for the support provided by BC Centre for Palliative Care
URL:https://seatoskyhospicesociety.ca/event/yoga-for-care-givers/
LOCATION:British Columbia
CATEGORIES:Bereavement,Compassionate Communities
ATTACH;FMTTYPE=image/jpeg:https://seatoskyhospicesociety.ca/wp-content/uploads/2023/10/yoga-for-caregivers-.jpg
ORGANIZER;CN="Sea to Sky Hospice Society":MAILTO:info@seatoskyhospicesociety.ca
END:VEVENT
BEGIN:VEVENT
DTSTART;TZID=America/Los_Angeles:20231031T133000
DTEND;TZID=America/Los_Angeles:20231031T143000
DTSTAMP:20260425T160853
CREATED:20231011T155610Z
LAST-MODIFIED:20231023T160540Z
UID:10000579-1698759000-1698762600@seatoskyhospicesociety.ca
SUMMARY:Fall Care Giver Support Drop in Group
DESCRIPTION:Are you a Caregiver? Join us for a cup of tea at our Caregiver Support Drop-in Group. Our Squamish Caregiver Support Group will bring local caregivers together based on a mutual experience of caregiving for a family member or friend. \nThis is a time and space for caregivers to share and reassure each other – you are not alone in your caregiving role! Come out\, connect and share with this compassionate community support group. \nMonthly from 1:30 – 2:30 pm on Tuesdays\, Sept 26th\, Oct. 31st\, and Nov. 28th in the Art Room at the 55 Activity Centre. \nFunded by the BC Centre for Palliative Care through the “All Together Spreading Community Innovation Seeds Grant Program.”
URL:https://seatoskyhospicesociety.ca/event/fall-care-giver-support-drop-in-group-2/2023-10-31/
LOCATION:The Art Room at the 55 Activity Centre\, 1201 Village Green Way\, Squamish\, BC\, V8B 0R7
ATTACH;FMTTYPE=image/jpeg:https://seatoskyhospicesociety.ca/wp-content/uploads/2023/10/Web-Feature-Image-crop-bottom-off-4-e1698077134258.jpg
ORGANIZER;CN="Sea to Sky Hospice Society":MAILTO:info@seatoskyhospicesociety.ca
END:VEVENT
END:VCALENDAR