BEGIN:VCALENDAR
VERSION:2.0
PRODID:-//Sea to Sky Hospice Society - ECPv6.15.12.2//NONSGML v1.0//EN
CALSCALE:GREGORIAN
METHOD:PUBLISH
X-WR-CALNAME:Sea to Sky Hospice Society
X-ORIGINAL-URL:https://seatoskyhospicesociety.ca
X-WR-CALDESC:Events for Sea to Sky Hospice Society
REFRESH-INTERVAL;VALUE=DURATION:PT1H
X-Robots-Tag:noindex
X-PUBLISHED-TTL:PT1H
BEGIN:VTIMEZONE
TZID:America/Los_Angeles
BEGIN:DAYLIGHT
TZOFFSETFROM:-0800
TZOFFSETTO:-0700
TZNAME:PDT
DTSTART:20250309T100000
END:DAYLIGHT
BEGIN:STANDARD
TZOFFSETFROM:-0700
TZOFFSETTO:-0800
TZNAME:PST
DTSTART:20251102T090000
END:STANDARD
BEGIN:DAYLIGHT
TZOFFSETFROM:-0800
TZOFFSETTO:-0700
TZNAME:PDT
DTSTART:20260308T100000
END:DAYLIGHT
BEGIN:STANDARD
TZOFFSETFROM:-0700
TZOFFSETTO:-0800
TZNAME:PST
DTSTART:20261101T090000
END:STANDARD
BEGIN:DAYLIGHT
TZOFFSETFROM:-0800
TZOFFSETTO:-0700
TZNAME:PDT
DTSTART:20270314T100000
END:DAYLIGHT
BEGIN:STANDARD
TZOFFSETFROM:-0700
TZOFFSETTO:-0800
TZNAME:PST
DTSTART:20271107T090000
END:STANDARD
END:VTIMEZONE
BEGIN:VEVENT
DTSTART;TZID=America/Los_Angeles:20260423T130000
DTEND;TZID=America/Los_Angeles:20260423T140000
DTSTAMP:20260423T040429
CREATED:20260318T191300Z
LAST-MODIFIED:20260318T191300Z
UID:10002441-1776949200-1776952800@seatoskyhospicesociety.ca
SUMMARY:Whistler Grief & Bereavement Walking Group
DESCRIPTION:Come join facilitator Shalissa Forestell with the Whistler Community Services Society as she guides participants on an hour-long walk together. All types of grief and bereavement are welcome in this group\, where we chat\, stigma-free\, about how grief is happening in our lives. Whether your loss is recent or many years past\, staff and Hospice volunteers can help to find ways to talk\, or to walk in quiet kindness\, while benefiting from the beauty of the forest and the fresh air it gives. \nWe meet\, rain or shine\, at Alpine Cafe in Alpine Meadows\, Whistler\, every Thursday at 1pm from April 16th to May 21st. We walk for approximately 45 minutes\, and those who wish may continue their conversations over coffee and treats back at the Cafe. \n                                     
URL:https://seatoskyhospicesociety.ca/event/whistler-grief-bereavement-walking-group/2026-04-23/
LOCATION:Alpine Cafe Whistler\, 8104 Mckeevers Pl\, Whistler\, British Columbia\, V8E 1K5\, Canada
ORGANIZER;CN="Sea to Sky Hospice Society":MAILTO:info@seatoskyhospicesociety.ca
END:VEVENT
BEGIN:VEVENT
DTSTART;TZID=America/Los_Angeles:20260430T130000
DTEND;TZID=America/Los_Angeles:20260430T140000
DTSTAMP:20260423T040429
CREATED:20260318T191300Z
LAST-MODIFIED:20260318T191300Z
UID:10002442-1777554000-1777557600@seatoskyhospicesociety.ca
SUMMARY:Whistler Grief & Bereavement Walking Group
DESCRIPTION:Come join facilitator Shalissa Forestell with the Whistler Community Services Society as she guides participants on an hour-long walk together. All types of grief and bereavement are welcome in this group\, where we chat\, stigma-free\, about how grief is happening in our lives. Whether your loss is recent or many years past\, staff and Hospice volunteers can help to find ways to talk\, or to walk in quiet kindness\, while benefiting from the beauty of the forest and the fresh air it gives. \nWe meet\, rain or shine\, at Alpine Cafe in Alpine Meadows\, Whistler\, every Thursday at 1pm from April 16th to May 21st. We walk for approximately 45 minutes\, and those who wish may continue their conversations over coffee and treats back at the Cafe. \n                                     
URL:https://seatoskyhospicesociety.ca/event/whistler-grief-bereavement-walking-group/2026-04-30/
LOCATION:Alpine Cafe Whistler\, 8104 Mckeevers Pl\, Whistler\, British Columbia\, V8E 1K5\, Canada
ORGANIZER;CN="Sea to Sky Hospice Society":MAILTO:info@seatoskyhospicesociety.ca
END:VEVENT
BEGIN:VEVENT
DTSTART;TZID=America/Los_Angeles:20260507T130000
DTEND;TZID=America/Los_Angeles:20260507T140000
DTSTAMP:20260423T040429
CREATED:20260318T191300Z
LAST-MODIFIED:20260318T191300Z
UID:10002443-1778158800-1778162400@seatoskyhospicesociety.ca
SUMMARY:Whistler Grief & Bereavement Walking Group
DESCRIPTION:Come join facilitator Shalissa Forestell with the Whistler Community Services Society as she guides participants on an hour-long walk together. All types of grief and bereavement are welcome in this group\, where we chat\, stigma-free\, about how grief is happening in our lives. Whether your loss is recent or many years past\, staff and Hospice volunteers can help to find ways to talk\, or to walk in quiet kindness\, while benefiting from the beauty of the forest and the fresh air it gives. \nWe meet\, rain or shine\, at Alpine Cafe in Alpine Meadows\, Whistler\, every Thursday at 1pm from April 16th to May 21st. We walk for approximately 45 minutes\, and those who wish may continue their conversations over coffee and treats back at the Cafe. \n                                     
URL:https://seatoskyhospicesociety.ca/event/whistler-grief-bereavement-walking-group/2026-05-07/
LOCATION:Alpine Cafe Whistler\, 8104 Mckeevers Pl\, Whistler\, British Columbia\, V8E 1K5\, Canada
ORGANIZER;CN="Sea to Sky Hospice Society":MAILTO:info@seatoskyhospicesociety.ca
END:VEVENT
BEGIN:VEVENT
DTSTART;TZID=America/Los_Angeles:20260514T130000
DTEND;TZID=America/Los_Angeles:20260514T140000
DTSTAMP:20260423T040429
CREATED:20260318T191300Z
LAST-MODIFIED:20260318T191300Z
UID:10002444-1778763600-1778767200@seatoskyhospicesociety.ca
SUMMARY:Whistler Grief & Bereavement Walking Group
DESCRIPTION:Come join facilitator Shalissa Forestell with the Whistler Community Services Society as she guides participants on an hour-long walk together. All types of grief and bereavement are welcome in this group\, where we chat\, stigma-free\, about how grief is happening in our lives. Whether your loss is recent or many years past\, staff and Hospice volunteers can help to find ways to talk\, or to walk in quiet kindness\, while benefiting from the beauty of the forest and the fresh air it gives. \nWe meet\, rain or shine\, at Alpine Cafe in Alpine Meadows\, Whistler\, every Thursday at 1pm from April 16th to May 21st. We walk for approximately 45 minutes\, and those who wish may continue their conversations over coffee and treats back at the Cafe. \n                                     
URL:https://seatoskyhospicesociety.ca/event/whistler-grief-bereavement-walking-group/2026-05-14/
LOCATION:Alpine Cafe Whistler\, 8104 Mckeevers Pl\, Whistler\, British Columbia\, V8E 1K5\, Canada
ORGANIZER;CN="Sea to Sky Hospice Society":MAILTO:info@seatoskyhospicesociety.ca
END:VEVENT
BEGIN:VEVENT
DTSTART;TZID=America/Los_Angeles:20260521T130000
DTEND;TZID=America/Los_Angeles:20260521T140000
DTSTAMP:20260423T040429
CREATED:20260318T191300Z
LAST-MODIFIED:20260318T191300Z
UID:10002445-1779368400-1779372000@seatoskyhospicesociety.ca
SUMMARY:Whistler Grief & Bereavement Walking Group
DESCRIPTION:Come join facilitator Shalissa Forestell with the Whistler Community Services Society as she guides participants on an hour-long walk together. All types of grief and bereavement are welcome in this group\, where we chat\, stigma-free\, about how grief is happening in our lives. Whether your loss is recent or many years past\, staff and Hospice volunteers can help to find ways to talk\, or to walk in quiet kindness\, while benefiting from the beauty of the forest and the fresh air it gives. \nWe meet\, rain or shine\, at Alpine Cafe in Alpine Meadows\, Whistler\, every Thursday at 1pm from April 16th to May 21st. We walk for approximately 45 minutes\, and those who wish may continue their conversations over coffee and treats back at the Cafe. \n                                     
URL:https://seatoskyhospicesociety.ca/event/whistler-grief-bereavement-walking-group/2026-05-21/
LOCATION:Alpine Cafe Whistler\, 8104 Mckeevers Pl\, Whistler\, British Columbia\, V8E 1K5\, Canada
ORGANIZER;CN="Sea to Sky Hospice Society":MAILTO:info@seatoskyhospicesociety.ca
END:VEVENT
END:VCALENDAR