BEGIN:VCALENDAR
VERSION:2.0
PRODID:-//Sea to Sky Hospice Society - ECPv6.15.12.2//NONSGML v1.0//EN
CALSCALE:GREGORIAN
METHOD:PUBLISH
X-WR-CALNAME:Sea to Sky Hospice Society
X-ORIGINAL-URL:https://seatoskyhospicesociety.ca
X-WR-CALDESC:Events for Sea to Sky Hospice Society
REFRESH-INTERVAL;VALUE=DURATION:PT1H
X-Robots-Tag:noindex
X-PUBLISHED-TTL:PT1H
BEGIN:VTIMEZONE
TZID:America/Los_Angeles
BEGIN:DAYLIGHT
TZOFFSETFROM:-0800
TZOFFSETTO:-0700
TZNAME:PDT
DTSTART:20250309T100000
END:DAYLIGHT
BEGIN:STANDARD
TZOFFSETFROM:-0700
TZOFFSETTO:-0800
TZNAME:PST
DTSTART:20251102T090000
END:STANDARD
BEGIN:DAYLIGHT
TZOFFSETFROM:-0800
TZOFFSETTO:-0700
TZNAME:PDT
DTSTART:20260308T100000
END:DAYLIGHT
BEGIN:STANDARD
TZOFFSETFROM:-0700
TZOFFSETTO:-0800
TZNAME:PST
DTSTART:20261101T090000
END:STANDARD
BEGIN:DAYLIGHT
TZOFFSETFROM:-0800
TZOFFSETTO:-0700
TZNAME:PDT
DTSTART:20270314T100000
END:DAYLIGHT
BEGIN:STANDARD
TZOFFSETFROM:-0700
TZOFFSETTO:-0800
TZNAME:PST
DTSTART:20271107T090000
END:STANDARD
END:VTIMEZONE
BEGIN:VEVENT
DTSTART;TZID=America/Los_Angeles:20260423T180000
DTEND;TZID=America/Los_Angeles:20260423T200000
DTSTAMP:20260423T041158
CREATED:20260210T220533Z
LAST-MODIFIED:20260210T220533Z
UID:10002431-1776967200-1776974400@seatoskyhospicesociety.ca
SUMMARY:Art Exploration for Grief and Loss - in Squamish
DESCRIPTION:When words can’t describe what we are feeling\, using art materials can help. Join us for a five-week peer support program\, taking place every Thursday evening in April from 6-8pm\, in the Art Room at the 55+ Centre. Experienced facilitators guide participants through various materials-based activities to find ways to express grief\, in a safe space with a small (maximum 8) group of participants. \nRegistration is required in order to keep the group small. If you have any questions or would like to register\, please email jody.kramer@seatoskyhospicesociety.ca\, or call 604-892-6051 ext 5.
URL:https://seatoskyhospicesociety.ca/event/art-exploration-for-grief-and-loss-in-squamish/2026-04-23/
LOCATION:55 Activity Centre\, 1201 Village Way\, Squamish\, BC\, V8B 0R7\, Canada
ORGANIZER;CN="Sea to Sky Hospice Society":MAILTO:info@seatoskyhospicesociety.ca
END:VEVENT
BEGIN:VEVENT
DTSTART;TZID=America/Los_Angeles:20260430T180000
DTEND;TZID=America/Los_Angeles:20260430T200000
DTSTAMP:20260423T041158
CREATED:20260210T220533Z
LAST-MODIFIED:20260210T220533Z
UID:10002432-1777572000-1777579200@seatoskyhospicesociety.ca
SUMMARY:Art Exploration for Grief and Loss - in Squamish
DESCRIPTION:When words can’t describe what we are feeling\, using art materials can help. Join us for a five-week peer support program\, taking place every Thursday evening in April from 6-8pm\, in the Art Room at the 55+ Centre. Experienced facilitators guide participants through various materials-based activities to find ways to express grief\, in a safe space with a small (maximum 8) group of participants. \nRegistration is required in order to keep the group small. If you have any questions or would like to register\, please email jody.kramer@seatoskyhospicesociety.ca\, or call 604-892-6051 ext 5.
URL:https://seatoskyhospicesociety.ca/event/art-exploration-for-grief-and-loss-in-squamish/2026-04-30/
LOCATION:55 Activity Centre\, 1201 Village Way\, Squamish\, BC\, V8B 0R7\, Canada
ORGANIZER;CN="Sea to Sky Hospice Society":MAILTO:info@seatoskyhospicesociety.ca
END:VEVENT
END:VCALENDAR