BEGIN:VCALENDAR
VERSION:2.0
PRODID:-//Sea to Sky Hospice Society - ECPv6.15.12.2//NONSGML v1.0//EN
CALSCALE:GREGORIAN
METHOD:PUBLISH
X-WR-CALNAME:Sea to Sky Hospice Society
X-ORIGINAL-URL:https://seatoskyhospicesociety.ca
X-WR-CALDESC:Events for Sea to Sky Hospice Society
REFRESH-INTERVAL;VALUE=DURATION:PT1H
X-Robots-Tag:noindex
X-PUBLISHED-TTL:PT1H
BEGIN:VTIMEZONE
TZID:America/Los_Angeles
BEGIN:DAYLIGHT
TZOFFSETFROM:-0800
TZOFFSETTO:-0700
TZNAME:PDT
DTSTART:20250309T100000
END:DAYLIGHT
BEGIN:STANDARD
TZOFFSETFROM:-0700
TZOFFSETTO:-0800
TZNAME:PST
DTSTART:20251102T090000
END:STANDARD
BEGIN:DAYLIGHT
TZOFFSETFROM:-0800
TZOFFSETTO:-0700
TZNAME:PDT
DTSTART:20260308T100000
END:DAYLIGHT
BEGIN:STANDARD
TZOFFSETFROM:-0700
TZOFFSETTO:-0800
TZNAME:PST
DTSTART:20261101T090000
END:STANDARD
BEGIN:DAYLIGHT
TZOFFSETFROM:-0800
TZOFFSETTO:-0700
TZNAME:PDT
DTSTART:20270314T100000
END:DAYLIGHT
BEGIN:STANDARD
TZOFFSETFROM:-0700
TZOFFSETTO:-0800
TZNAME:PST
DTSTART:20271107T090000
END:STANDARD
END:VTIMEZONE
BEGIN:VEVENT
DTSTART;TZID=America/Los_Angeles:20260101T100000
DTEND;TZID=America/Los_Angeles:20260101T113000
DTSTAMP:20260423T090322
CREATED:20250806T192157Z
LAST-MODIFIED:20250815T170710Z
UID:10002263-1767261600-1767267000@seatoskyhospicesociety.ca
SUMMARY:Thursday morning Walking Group
DESCRIPTION:Every Thursday morning\, we meet at 10am in front of the Squamish Adventure Centre for a 45-minute gentle forest walk\, followed by a casual coffee shop chat at Cafe Garibaldi. Whether your loss is recent or several anniversaries have passed\, our Hospice Volunteers will welcome you to this peer-support group. Volunteer leaders carry Hospice-branded backpacks.
URL:https://seatoskyhospicesociety.ca/event/thursday-morning-walking-group/2026-01-01/
LOCATION:Squamish Adventure Centre\, 38551 Loggers Lane\, Squamish\, BC\, V8B 0H2\, Canada
ATTACH;FMTTYPE=image/png:https://seatoskyhospicesociety.ca/wp-content/uploads/2025/08/Screenshot-2025-08-15-at-10.01.26-AM.png
ORGANIZER;CN="Sea to Sky Hospice Society":MAILTO:info@seatoskyhospicesociety.ca
END:VEVENT
BEGIN:VEVENT
DTSTART;TZID=America/Los_Angeles:20260108T100000
DTEND;TZID=America/Los_Angeles:20260108T113000
DTSTAMP:20260423T090322
CREATED:20250806T192157Z
LAST-MODIFIED:20250815T170710Z
UID:10002264-1767866400-1767871800@seatoskyhospicesociety.ca
SUMMARY:Thursday morning Walking Group
DESCRIPTION:Every Thursday morning\, we meet at 10am in front of the Squamish Adventure Centre for a 45-minute gentle forest walk\, followed by a casual coffee shop chat at Cafe Garibaldi. Whether your loss is recent or several anniversaries have passed\, our Hospice Volunteers will welcome you to this peer-support group. Volunteer leaders carry Hospice-branded backpacks.
URL:https://seatoskyhospicesociety.ca/event/thursday-morning-walking-group/2026-01-08/
LOCATION:Squamish Adventure Centre\, 38551 Loggers Lane\, Squamish\, BC\, V8B 0H2\, Canada
ATTACH;FMTTYPE=image/png:https://seatoskyhospicesociety.ca/wp-content/uploads/2025/08/Screenshot-2025-08-15-at-10.01.26-AM.png
ORGANIZER;CN="Sea to Sky Hospice Society":MAILTO:info@seatoskyhospicesociety.ca
END:VEVENT
BEGIN:VEVENT
DTSTART;TZID=America/Los_Angeles:20260108T180000
DTEND;TZID=America/Los_Angeles:20260108T200000
DTSTAMP:20260423T090322
CREATED:20251121T041324Z
LAST-MODIFIED:20260121T164656Z
UID:10002396-1767895200-1767902400@seatoskyhospicesociety.ca
SUMMARY:Art Exploration for Grief and Loss
DESCRIPTION:Join volunteer Art Exploration facilitators Grace and Jani once a week on Thursday evenings in January for this four-week program\, as they help to “draw out” the expression of grief and loss through the use of mixed art materials. Participants will benefit from facilitated peer support and the opportunity to express grief without words\, in this small group. \nRegistration required. Please contact our Client Services Coordinator at jody.kramer@seatoskyhospicesociety.ca\, or call 604-892-6051 ext 5\, to book your spot in this small group.
URL:https://seatoskyhospicesociety.ca/event/art-exploration-for-grief-and-loss-2/2026-01-08/
LOCATION:55 Activity Centre\, 1201 Village Way\, Squamish\, BC\, V8B 0R7\, Canada
ATTACH;FMTTYPE=image/png:https://seatoskyhospicesociety.ca/wp-content/uploads/2025/11/Screenshot-2026-01-21-at-8.46.02-AM.png
ORGANIZER;CN="Sea to Sky Hospice Society":MAILTO:info@seatoskyhospicesociety.ca
END:VEVENT
BEGIN:VEVENT
DTSTART;TZID=America/Los_Angeles:20260115T080000
DTEND;TZID=America/Los_Angeles:20260115T170000
DTSTAMP:20260423T090322
CREATED:20251223T235613Z
LAST-MODIFIED:20251223T235613Z
UID:10002401-1768464000-1768496400@seatoskyhospicesociety.ca
SUMMARY:Whistler: Grief and Loss Conversations
DESCRIPTION:This drop-in group is a place to explore your own grief and hear shared experiences of others in their journey through loss\, while finding support and a sense of community. \nWhistler Public Library\, Jan 15-Feb 19 (6 weeks)\, 5:30-6:30pm \nNo registration required\, just show up. Questions about the program? shalissa@mywcss.org \nNeed further information about grief support in the Sea to Sky Corridor? jody.kramer@seatoskyhospicesociety.ca
URL:https://seatoskyhospicesociety.ca/event/whistler-grief-and-loss-conversations-2/2026-01-15/1/
LOCATION:Whistler Public Library\, 4329 Main St\,\, Whistler\, BC\, V8E 1B2\, Canada
ORGANIZER;CN="Sea to Sky Hospice Society":MAILTO:info@seatoskyhospicesociety.ca
END:VEVENT
BEGIN:VEVENT
DTSTART;TZID=America/Los_Angeles:20260115T100000
DTEND;TZID=America/Los_Angeles:20260115T113000
DTSTAMP:20260423T090322
CREATED:20250806T192157Z
LAST-MODIFIED:20250815T170710Z
UID:10002265-1768471200-1768476600@seatoskyhospicesociety.ca
SUMMARY:Thursday morning Walking Group
DESCRIPTION:Every Thursday morning\, we meet at 10am in front of the Squamish Adventure Centre for a 45-minute gentle forest walk\, followed by a casual coffee shop chat at Cafe Garibaldi. Whether your loss is recent or several anniversaries have passed\, our Hospice Volunteers will welcome you to this peer-support group. Volunteer leaders carry Hospice-branded backpacks.
URL:https://seatoskyhospicesociety.ca/event/thursday-morning-walking-group/2026-01-15/
LOCATION:Squamish Adventure Centre\, 38551 Loggers Lane\, Squamish\, BC\, V8B 0H2\, Canada
ATTACH;FMTTYPE=image/png:https://seatoskyhospicesociety.ca/wp-content/uploads/2025/08/Screenshot-2025-08-15-at-10.01.26-AM.png
ORGANIZER;CN="Sea to Sky Hospice Society":MAILTO:info@seatoskyhospicesociety.ca
END:VEVENT
BEGIN:VEVENT
DTSTART;TZID=America/Los_Angeles:20260115T173000
DTEND;TZID=America/Los_Angeles:20260115T183000
DTSTAMP:20260423T090322
CREATED:20251223T235613Z
LAST-MODIFIED:20251223T235613Z
UID:10002402-1768498200-1768501800@seatoskyhospicesociety.ca
SUMMARY:Whistler: Grief and Loss Conversations
DESCRIPTION:This drop-in group is a place to explore your own grief and hear shared experiences of others in their journey through loss\, while finding support and a sense of community. \nWhistler Public Library\, Jan 15-Feb 19 (6 weeks)\, 5:30-6:30pm \nNo registration required\, just show up. Questions about the program? shalissa@mywcss.org \nNeed further information about grief support in the Sea to Sky Corridor? jody.kramer@seatoskyhospicesociety.ca
URL:https://seatoskyhospicesociety.ca/event/whistler-grief-and-loss-conversations-2/2026-01-15/2/
LOCATION:Whistler Public Library\, 4329 Main St\,\, Whistler\, BC\, V8E 1B2\, Canada
ORGANIZER;CN="Sea to Sky Hospice Society":MAILTO:info@seatoskyhospicesociety.ca
END:VEVENT
BEGIN:VEVENT
DTSTART;TZID=America/Los_Angeles:20260115T180000
DTEND;TZID=America/Los_Angeles:20260115T200000
DTSTAMP:20260423T090322
CREATED:20251121T041324Z
LAST-MODIFIED:20260121T164656Z
UID:10002397-1768500000-1768507200@seatoskyhospicesociety.ca
SUMMARY:Art Exploration for Grief and Loss
DESCRIPTION:Join volunteer Art Exploration facilitators Grace and Jani once a week on Thursday evenings in January for this four-week program\, as they help to “draw out” the expression of grief and loss through the use of mixed art materials. Participants will benefit from facilitated peer support and the opportunity to express grief without words\, in this small group. \nRegistration required. Please contact our Client Services Coordinator at jody.kramer@seatoskyhospicesociety.ca\, or call 604-892-6051 ext 5\, to book your spot in this small group.
URL:https://seatoskyhospicesociety.ca/event/art-exploration-for-grief-and-loss-2/2026-01-15/
LOCATION:55 Activity Centre\, 1201 Village Way\, Squamish\, BC\, V8B 0R7\, Canada
ATTACH;FMTTYPE=image/png:https://seatoskyhospicesociety.ca/wp-content/uploads/2025/11/Screenshot-2026-01-21-at-8.46.02-AM.png
ORGANIZER;CN="Sea to Sky Hospice Society":MAILTO:info@seatoskyhospicesociety.ca
END:VEVENT
BEGIN:VEVENT
DTSTART;TZID=America/Los_Angeles:20260122T100000
DTEND;TZID=America/Los_Angeles:20260122T113000
DTSTAMP:20260423T090322
CREATED:20250806T192157Z
LAST-MODIFIED:20250815T170710Z
UID:10002266-1769076000-1769081400@seatoskyhospicesociety.ca
SUMMARY:Thursday morning Walking Group
DESCRIPTION:Every Thursday morning\, we meet at 10am in front of the Squamish Adventure Centre for a 45-minute gentle forest walk\, followed by a casual coffee shop chat at Cafe Garibaldi. Whether your loss is recent or several anniversaries have passed\, our Hospice Volunteers will welcome you to this peer-support group. Volunteer leaders carry Hospice-branded backpacks.
URL:https://seatoskyhospicesociety.ca/event/thursday-morning-walking-group/2026-01-22/
LOCATION:Squamish Adventure Centre\, 38551 Loggers Lane\, Squamish\, BC\, V8B 0H2\, Canada
ATTACH;FMTTYPE=image/png:https://seatoskyhospicesociety.ca/wp-content/uploads/2025/08/Screenshot-2025-08-15-at-10.01.26-AM.png
ORGANIZER;CN="Sea to Sky Hospice Society":MAILTO:info@seatoskyhospicesociety.ca
END:VEVENT
BEGIN:VEVENT
DTSTART;TZID=America/Los_Angeles:20260122T173000
DTEND;TZID=America/Los_Angeles:20260122T183000
DTSTAMP:20260423T090322
CREATED:20251223T235613Z
LAST-MODIFIED:20251223T235613Z
UID:10002403-1769103000-1769106600@seatoskyhospicesociety.ca
SUMMARY:Whistler: Grief and Loss Conversations
DESCRIPTION:This drop-in group is a place to explore your own grief and hear shared experiences of others in their journey through loss\, while finding support and a sense of community. \nWhistler Public Library\, Jan 15-Feb 19 (6 weeks)\, 5:30-6:30pm \nNo registration required\, just show up. Questions about the program? shalissa@mywcss.org \nNeed further information about grief support in the Sea to Sky Corridor? jody.kramer@seatoskyhospicesociety.ca
URL:https://seatoskyhospicesociety.ca/event/whistler-grief-and-loss-conversations-2/2026-01-22/
LOCATION:Whistler Public Library\, 4329 Main St\,\, Whistler\, BC\, V8E 1B2\, Canada
ORGANIZER;CN="Sea to Sky Hospice Society":MAILTO:info@seatoskyhospicesociety.ca
END:VEVENT
BEGIN:VEVENT
DTSTART;TZID=America/Los_Angeles:20260122T180000
DTEND;TZID=America/Los_Angeles:20260122T200000
DTSTAMP:20260423T090322
CREATED:20251121T041324Z
LAST-MODIFIED:20260121T164656Z
UID:10002398-1769104800-1769112000@seatoskyhospicesociety.ca
SUMMARY:Art Exploration for Grief and Loss
DESCRIPTION:Join volunteer Art Exploration facilitators Grace and Jani once a week on Thursday evenings in January for this four-week program\, as they help to “draw out” the expression of grief and loss through the use of mixed art materials. Participants will benefit from facilitated peer support and the opportunity to express grief without words\, in this small group. \nRegistration required. Please contact our Client Services Coordinator at jody.kramer@seatoskyhospicesociety.ca\, or call 604-892-6051 ext 5\, to book your spot in this small group.
URL:https://seatoskyhospicesociety.ca/event/art-exploration-for-grief-and-loss-2/2026-01-22/
LOCATION:55 Activity Centre\, 1201 Village Way\, Squamish\, BC\, V8B 0R7\, Canada
ATTACH;FMTTYPE=image/png:https://seatoskyhospicesociety.ca/wp-content/uploads/2025/11/Screenshot-2026-01-21-at-8.46.02-AM.png
ORGANIZER;CN="Sea to Sky Hospice Society":MAILTO:info@seatoskyhospicesociety.ca
END:VEVENT
BEGIN:VEVENT
DTSTART;TZID=America/Los_Angeles:20260127T110000
DTEND;TZID=America/Los_Angeles:20260127T130000
DTSTAMP:20260423T090322
CREATED:20260120T232220Z
LAST-MODIFIED:20260121T160529Z
UID:10002416-1769511600-1769518800@seatoskyhospicesociety.ca
SUMMARY:Caregiver Support Group - Squamish
DESCRIPTION:Caregiver Support group 2026-1 \nAre you caring for someone close to you with a life-limiting illness and/or cognitive/physical decline? Feeling isolated? Please join our experienced volunteer facilitators and a small\, dedicated peer support group of caregivers for this free\, drop-in monthly session to share your journey with others who understand. Lunch is served\, by Mag’s 99. All is provided free of charge. \nQuestions? Please contact our Client Services Coordinator at jody.kramer@seatoskyhospicesociety.ca\, or call 604-892-6051 ext 5.
URL:https://seatoskyhospicesociety.ca/event/caregiver-support-group-squamish/2026-01-27/
LOCATION:Squamish United Church\, 38014 Fourth Avenue\, Squamish\, British Columbia\, V8B 0B7\, Canada
ATTACH;FMTTYPE=image/png:https://seatoskyhospicesociety.ca/wp-content/uploads/2026/01/Screenshot-2026-01-21-at-8.04.55-AM.png
ORGANIZER;CN="Sea to Sky Hospice Society":MAILTO:info@seatoskyhospicesociety.ca
END:VEVENT
BEGIN:VEVENT
DTSTART;TZID=America/Los_Angeles:20260129T100000
DTEND;TZID=America/Los_Angeles:20260129T113000
DTSTAMP:20260423T090322
CREATED:20250806T192157Z
LAST-MODIFIED:20250815T170710Z
UID:10002267-1769680800-1769686200@seatoskyhospicesociety.ca
SUMMARY:Thursday morning Walking Group
DESCRIPTION:Every Thursday morning\, we meet at 10am in front of the Squamish Adventure Centre for a 45-minute gentle forest walk\, followed by a casual coffee shop chat at Cafe Garibaldi. Whether your loss is recent or several anniversaries have passed\, our Hospice Volunteers will welcome you to this peer-support group. Volunteer leaders carry Hospice-branded backpacks.
URL:https://seatoskyhospicesociety.ca/event/thursday-morning-walking-group/2026-01-29/
LOCATION:Squamish Adventure Centre\, 38551 Loggers Lane\, Squamish\, BC\, V8B 0H2\, Canada
ATTACH;FMTTYPE=image/png:https://seatoskyhospicesociety.ca/wp-content/uploads/2025/08/Screenshot-2025-08-15-at-10.01.26-AM.png
ORGANIZER;CN="Sea to Sky Hospice Society":MAILTO:info@seatoskyhospicesociety.ca
END:VEVENT
BEGIN:VEVENT
DTSTART;TZID=America/Los_Angeles:20260129T173000
DTEND;TZID=America/Los_Angeles:20260129T183000
DTSTAMP:20260423T090322
CREATED:20251223T235613Z
LAST-MODIFIED:20251223T235613Z
UID:10002404-1769707800-1769711400@seatoskyhospicesociety.ca
SUMMARY:Whistler: Grief and Loss Conversations
DESCRIPTION:This drop-in group is a place to explore your own grief and hear shared experiences of others in their journey through loss\, while finding support and a sense of community. \nWhistler Public Library\, Jan 15-Feb 19 (6 weeks)\, 5:30-6:30pm \nNo registration required\, just show up. Questions about the program? shalissa@mywcss.org \nNeed further information about grief support in the Sea to Sky Corridor? jody.kramer@seatoskyhospicesociety.ca
URL:https://seatoskyhospicesociety.ca/event/whistler-grief-and-loss-conversations-2/2026-01-29/
LOCATION:Whistler Public Library\, 4329 Main St\,\, Whistler\, BC\, V8E 1B2\, Canada
ORGANIZER;CN="Sea to Sky Hospice Society":MAILTO:info@seatoskyhospicesociety.ca
END:VEVENT
BEGIN:VEVENT
DTSTART;TZID=America/Los_Angeles:20260129T180000
DTEND;TZID=America/Los_Angeles:20260129T200000
DTSTAMP:20260423T090322
CREATED:20251121T041324Z
LAST-MODIFIED:20260121T164656Z
UID:10002399-1769709600-1769716800@seatoskyhospicesociety.ca
SUMMARY:Art Exploration for Grief and Loss
DESCRIPTION:Join volunteer Art Exploration facilitators Grace and Jani once a week on Thursday evenings in January for this four-week program\, as they help to “draw out” the expression of grief and loss through the use of mixed art materials. Participants will benefit from facilitated peer support and the opportunity to express grief without words\, in this small group. \nRegistration required. Please contact our Client Services Coordinator at jody.kramer@seatoskyhospicesociety.ca\, or call 604-892-6051 ext 5\, to book your spot in this small group.
URL:https://seatoskyhospicesociety.ca/event/art-exploration-for-grief-and-loss-2/2026-01-29/
LOCATION:55 Activity Centre\, 1201 Village Way\, Squamish\, BC\, V8B 0R7\, Canada
ATTACH;FMTTYPE=image/png:https://seatoskyhospicesociety.ca/wp-content/uploads/2025/11/Screenshot-2026-01-21-at-8.46.02-AM.png
ORGANIZER;CN="Sea to Sky Hospice Society":MAILTO:info@seatoskyhospicesociety.ca
END:VEVENT
END:VCALENDAR