BEGIN:VCALENDAR
VERSION:2.0
PRODID:-//Sea to Sky Hospice Society - ECPv6.15.12.2//NONSGML v1.0//EN
CALSCALE:GREGORIAN
METHOD:PUBLISH
X-ORIGINAL-URL:https://seatoskyhospicesociety.ca
X-WR-CALDESC:Events for Sea to Sky Hospice Society
REFRESH-INTERVAL;VALUE=DURATION:PT1H
X-Robots-Tag:noindex
X-PUBLISHED-TTL:PT1H
BEGIN:VTIMEZONE
TZID:America/Los_Angeles
BEGIN:DAYLIGHT
TZOFFSETFROM:-0800
TZOFFSETTO:-0700
TZNAME:PDT
DTSTART:20240310T100000
END:DAYLIGHT
BEGIN:STANDARD
TZOFFSETFROM:-0700
TZOFFSETTO:-0800
TZNAME:PST
DTSTART:20241103T090000
END:STANDARD
BEGIN:DAYLIGHT
TZOFFSETFROM:-0800
TZOFFSETTO:-0700
TZNAME:PDT
DTSTART:20250309T100000
END:DAYLIGHT
BEGIN:STANDARD
TZOFFSETFROM:-0700
TZOFFSETTO:-0800
TZNAME:PST
DTSTART:20251102T090000
END:STANDARD
BEGIN:DAYLIGHT
TZOFFSETFROM:-0800
TZOFFSETTO:-0700
TZNAME:PDT
DTSTART:20260308T100000
END:DAYLIGHT
BEGIN:STANDARD
TZOFFSETFROM:-0700
TZOFFSETTO:-0800
TZNAME:PST
DTSTART:20261101T090000
END:STANDARD
END:VTIMEZONE
BEGIN:VEVENT
DTSTART;TZID=America/Los_Angeles:20251202T180000
DTEND;TZID=America/Los_Angeles:20251202T200000
DTSTAMP:20260423T103439
CREATED:20251007T203721Z
LAST-MODIFIED:20251009T183116Z
UID:10002390-1764698400-1764705600@seatoskyhospicesociety.ca
SUMMARY:Pemberton Art Exploration for Grief and Loss
DESCRIPTION:When there are no words\, sometimes art can open the heart. In this small closed group\, Art Therapy practicum student Angela Walsh Noble offers guidance to the grieving. Participants will use a variety of materials for expressing grief and loss. No experience or materials needed. Please register by emailing jody.kramer@seatoskyhospicesociety.ca \n  \n 
URL:https://seatoskyhospicesociety.ca/event/pemberton-art-exploration-for-grief-and-loss/2025-12-02/
LOCATION:Sea to Sky Community Services Pemberton Program House\, 1342 Aster Street\, Pemberton\, BC\, V0N 2L0\, Canada
ATTACH;FMTTYPE=image/png:https://seatoskyhospicesociety.ca/wp-content/uploads/2025/10/Screenshot-2025-10-09-at-11.30.28-AM.png
ORGANIZER;CN="Sea to Sky Hospice Society":MAILTO:info@seatoskyhospicesociety.ca
END:VEVENT
BEGIN:VEVENT
DTSTART;TZID=America/Los_Angeles:20251204T100000
DTEND;TZID=America/Los_Angeles:20251204T113000
DTSTAMP:20260423T103439
CREATED:20250806T192157Z
LAST-MODIFIED:20250815T170710Z
UID:10002259-1764842400-1764847800@seatoskyhospicesociety.ca
SUMMARY:Thursday morning Walking Group
DESCRIPTION:Every Thursday morning\, we meet at 10am in front of the Squamish Adventure Centre for a 45-minute gentle forest walk\, followed by a casual coffee shop chat at Cafe Garibaldi. Whether your loss is recent or several anniversaries have passed\, our Hospice Volunteers will welcome you to this peer-support group. Volunteer leaders carry Hospice-branded backpacks.
URL:https://seatoskyhospicesociety.ca/event/thursday-morning-walking-group/2025-12-04/
LOCATION:Squamish Adventure Centre\, 38551 Loggers Lane\, Squamish\, BC\, V8B 0H2\, Canada
ATTACH;FMTTYPE=image/png:https://seatoskyhospicesociety.ca/wp-content/uploads/2025/08/Screenshot-2025-08-15-at-10.01.26-AM.png
ORGANIZER;CN="Sea to Sky Hospice Society":MAILTO:info@seatoskyhospicesociety.ca
END:VEVENT
BEGIN:VEVENT
DTSTART;TZID=America/Los_Angeles:20251204T170000
DTEND;TZID=America/Los_Angeles:20251204T180000
DTSTAMP:20260423T103439
CREATED:20251112T200920Z
LAST-MODIFIED:20251114T195409Z
UID:10002395-1764867600-1764871200@seatoskyhospicesociety.ca
SUMMARY:Whistler Memory Tree
DESCRIPTION:Memory Tree 2025 – Whistler\nTake time to honour your loved ones who are with us in spirit during this evening of love and light. Join us as we gather in community to remember\, reflect\, and support one another at the start of the holiday season during our outdoor tree lighting ceremonies.\n\n\nThursday\, December 4 | 5–6pm\nFlorence Peterson Park\n\nAll are welcome to remember\, connect\, and share in this meaningful evening.\n\nFor more information:\ninfo@seatoskyhospicesociety.ca | info@mywcss.org
URL:https://seatoskyhospicesociety.ca/event/whistler-memory-tree/
LOCATION:Florence Petersen Park\, 4325-4343 Main St\, Whistler\, BC\, V8E 1B5\, Canada
ATTACH;FMTTYPE=image/png:https://seatoskyhospicesociety.ca/wp-content/uploads/2025/11/Screenshot-2025-11-14-at-11.44.45-AM.png
ORGANIZER;CN="Sea to Sky Hospice Society":MAILTO:info@seatoskyhospicesociety.ca
END:VEVENT
BEGIN:VEVENT
DTSTART;TZID=America/Los_Angeles:20251209T180000
DTEND;TZID=America/Los_Angeles:20251209T200000
DTSTAMP:20260423T103439
CREATED:20251007T203721Z
LAST-MODIFIED:20251009T183116Z
UID:10002391-1765303200-1765310400@seatoskyhospicesociety.ca
SUMMARY:Pemberton Art Exploration for Grief and Loss
DESCRIPTION:When there are no words\, sometimes art can open the heart. In this small closed group\, Art Therapy practicum student Angela Walsh Noble offers guidance to the grieving. Participants will use a variety of materials for expressing grief and loss. No experience or materials needed. Please register by emailing jody.kramer@seatoskyhospicesociety.ca \n  \n 
URL:https://seatoskyhospicesociety.ca/event/pemberton-art-exploration-for-grief-and-loss/2025-12-09/
LOCATION:Sea to Sky Community Services Pemberton Program House\, 1342 Aster Street\, Pemberton\, BC\, V0N 2L0\, Canada
ATTACH;FMTTYPE=image/png:https://seatoskyhospicesociety.ca/wp-content/uploads/2025/10/Screenshot-2025-10-09-at-11.30.28-AM.png
ORGANIZER;CN="Sea to Sky Hospice Society":MAILTO:info@seatoskyhospicesociety.ca
END:VEVENT
BEGIN:VEVENT
DTSTART;TZID=America/Los_Angeles:20251211T100000
DTEND;TZID=America/Los_Angeles:20251211T113000
DTSTAMP:20260423T103439
CREATED:20250806T192157Z
LAST-MODIFIED:20250815T170710Z
UID:10002260-1765447200-1765452600@seatoskyhospicesociety.ca
SUMMARY:Thursday morning Walking Group
DESCRIPTION:Every Thursday morning\, we meet at 10am in front of the Squamish Adventure Centre for a 45-minute gentle forest walk\, followed by a casual coffee shop chat at Cafe Garibaldi. Whether your loss is recent or several anniversaries have passed\, our Hospice Volunteers will welcome you to this peer-support group. Volunteer leaders carry Hospice-branded backpacks.
URL:https://seatoskyhospicesociety.ca/event/thursday-morning-walking-group/2025-12-11/
LOCATION:Squamish Adventure Centre\, 38551 Loggers Lane\, Squamish\, BC\, V8B 0H2\, Canada
ATTACH;FMTTYPE=image/png:https://seatoskyhospicesociety.ca/wp-content/uploads/2025/08/Screenshot-2025-08-15-at-10.01.26-AM.png
ORGANIZER;CN="Sea to Sky Hospice Society":MAILTO:info@seatoskyhospicesociety.ca
END:VEVENT
BEGIN:VEVENT
DTSTART;TZID=America/Los_Angeles:20251216T190000
DTEND;TZID=America/Los_Angeles:20251216T203000
DTSTAMP:20260423T103439
CREATED:20250730T212118Z
LAST-MODIFIED:20250911T172144Z
UID:10002008-1765911600-1765917000@seatoskyhospicesociety.ca
SUMMARY:Whistler Grief & Loss Book Circle
DESCRIPTION:There is such a wealth of writing around caregiving\, mortality\, grief and loss. In this casual discussion group\, we share our thoughts and experiences around these topics through the guidance of these books. \nFor our Fall Equinox Book Circle\, we will discuss “When Breath Becomes Air\, by Paul Kalanathi”. Those experiencing grief or loss or facing serious illness themselves are encouraged to join us\, although everyone is welcome. Registration required. \nNote also the date for the Winter Solstice Book Circle\, coming up on December 16th. Most people have questions about Assisted Dying\, and Stefanie Green\, MD has laid out her knowledge and experience in this compassionate and transformative memoir. \nPlease email publicservices@whistlerlibrary.ca to sign up.
URL:https://seatoskyhospicesociety.ca/event/whistler-grief-loss-book-circle/2025-12-16/
LOCATION:Whistler Public Library\, 4329 Main St\,\, Whistler\, BC\, V8E 1B2\, Canada
ATTACH;FMTTYPE=image/png:https://seatoskyhospicesociety.ca/wp-content/uploads/2025/07/Screenshot-2025-09-11-at-10.20.30-AM-scaled.png
ORGANIZER;CN="Sea to Sky Hospice Society":MAILTO:info@seatoskyhospicesociety.ca
END:VEVENT
BEGIN:VEVENT
DTSTART;TZID=America/Los_Angeles:20251218T100000
DTEND;TZID=America/Los_Angeles:20251218T113000
DTSTAMP:20260423T103439
CREATED:20250806T192157Z
LAST-MODIFIED:20250815T170710Z
UID:10002261-1766052000-1766057400@seatoskyhospicesociety.ca
SUMMARY:Thursday morning Walking Group
DESCRIPTION:Every Thursday morning\, we meet at 10am in front of the Squamish Adventure Centre for a 45-minute gentle forest walk\, followed by a casual coffee shop chat at Cafe Garibaldi. Whether your loss is recent or several anniversaries have passed\, our Hospice Volunteers will welcome you to this peer-support group. Volunteer leaders carry Hospice-branded backpacks.
URL:https://seatoskyhospicesociety.ca/event/thursday-morning-walking-group/2025-12-18/
LOCATION:Squamish Adventure Centre\, 38551 Loggers Lane\, Squamish\, BC\, V8B 0H2\, Canada
ATTACH;FMTTYPE=image/png:https://seatoskyhospicesociety.ca/wp-content/uploads/2025/08/Screenshot-2025-08-15-at-10.01.26-AM.png
ORGANIZER;CN="Sea to Sky Hospice Society":MAILTO:info@seatoskyhospicesociety.ca
END:VEVENT
BEGIN:VEVENT
DTSTART;TZID=America/Los_Angeles:20251218T190000
DTEND;TZID=America/Los_Angeles:20251218T210000
DTSTAMP:20260423T103439
CREATED:20251211T172540Z
LAST-MODIFIED:20251211T172540Z
UID:10002400-1766084400-1766091600@seatoskyhospicesociety.ca
SUMMARY:Squamish Winter Solstice Book Circle
DESCRIPTION:Join us on Dec 18th as the Squamish Winter Solstice Book Circle discusses grief through the lens of contemporary and untraditional community care through the stories in three books; Rebellious Mourning by Cindy Milstein\, Falling In Love With Being Human by Kai Cheng Thom\, and Signs by Laura Lynne Jackson. Haven’t had a chance to read these titles? Come and listen as volunteer facilitators\, Aubrey & Georgia discuss their insights and inspirations from these books.
URL:https://seatoskyhospicesociety.ca/event/squamish-winter-solstice-book-circle/
LOCATION:Gather\, Books & Lovely Things\, 38041 2nd Avenue\, Squamish\, BC\, V8B 0C3\, Canada
CATEGORIES:Educational
ATTACH;FMTTYPE=image/png:https://seatoskyhospicesociety.ca/wp-content/uploads/2025/12/Screenshot-2025-12-11-at-9.23.38-AM.png
ORGANIZER;CN="Sea to Sky Hospice Society":MAILTO:info@seatoskyhospicesociety.ca
END:VEVENT
BEGIN:VEVENT
DTSTART;TZID=America/Los_Angeles:20251225T100000
DTEND;TZID=America/Los_Angeles:20251225T113000
DTSTAMP:20260423T103439
CREATED:20250806T192157Z
LAST-MODIFIED:20250815T170710Z
UID:10002262-1766656800-1766662200@seatoskyhospicesociety.ca
SUMMARY:Thursday morning Walking Group
DESCRIPTION:Every Thursday morning\, we meet at 10am in front of the Squamish Adventure Centre for a 45-minute gentle forest walk\, followed by a casual coffee shop chat at Cafe Garibaldi. Whether your loss is recent or several anniversaries have passed\, our Hospice Volunteers will welcome you to this peer-support group. Volunteer leaders carry Hospice-branded backpacks.
URL:https://seatoskyhospicesociety.ca/event/thursday-morning-walking-group/2025-12-25/
LOCATION:Squamish Adventure Centre\, 38551 Loggers Lane\, Squamish\, BC\, V8B 0H2\, Canada
ATTACH;FMTTYPE=image/png:https://seatoskyhospicesociety.ca/wp-content/uploads/2025/08/Screenshot-2025-08-15-at-10.01.26-AM.png
ORGANIZER;CN="Sea to Sky Hospice Society":MAILTO:info@seatoskyhospicesociety.ca
END:VEVENT
END:VCALENDAR