BEGIN:VCALENDAR
VERSION:2.0
PRODID:-//Sea to Sky Hospice Society - ECPv6.15.12.2//NONSGML v1.0//EN
CALSCALE:GREGORIAN
METHOD:PUBLISH
X-WR-CALNAME:Sea to Sky Hospice Society
X-ORIGINAL-URL:https://seatoskyhospicesociety.ca
X-WR-CALDESC:Events for Sea to Sky Hospice Society
REFRESH-INTERVAL;VALUE=DURATION:PT1H
X-Robots-Tag:noindex
X-PUBLISHED-TTL:PT1H
BEGIN:VTIMEZONE
TZID:America/Los_Angeles
BEGIN:DAYLIGHT
TZOFFSETFROM:-0800
TZOFFSETTO:-0700
TZNAME:PDT
DTSTART:20240310T100000
END:DAYLIGHT
BEGIN:STANDARD
TZOFFSETFROM:-0700
TZOFFSETTO:-0800
TZNAME:PST
DTSTART:20241103T090000
END:STANDARD
BEGIN:DAYLIGHT
TZOFFSETFROM:-0800
TZOFFSETTO:-0700
TZNAME:PDT
DTSTART:20250309T100000
END:DAYLIGHT
BEGIN:STANDARD
TZOFFSETFROM:-0700
TZOFFSETTO:-0800
TZNAME:PST
DTSTART:20251102T090000
END:STANDARD
BEGIN:DAYLIGHT
TZOFFSETFROM:-0800
TZOFFSETTO:-0700
TZNAME:PDT
DTSTART:20260308T100000
END:DAYLIGHT
BEGIN:STANDARD
TZOFFSETFROM:-0700
TZOFFSETTO:-0800
TZNAME:PST
DTSTART:20261101T090000
END:STANDARD
END:VTIMEZONE
BEGIN:VEVENT
DTSTART;TZID=America/Los_Angeles:20251106T100000
DTEND;TZID=America/Los_Angeles:20251106T113000
DTSTAMP:20260423T120745
CREATED:20250806T192157Z
LAST-MODIFIED:20250815T170710Z
UID:10002255-1762423200-1762428600@seatoskyhospicesociety.ca
SUMMARY:Thursday morning Walking Group
DESCRIPTION:Every Thursday morning\, we meet at 10am in front of the Squamish Adventure Centre for a 45-minute gentle forest walk\, followed by a casual coffee shop chat at Cafe Garibaldi. Whether your loss is recent or several anniversaries have passed\, our Hospice Volunteers will welcome you to this peer-support group. Volunteer leaders carry Hospice-branded backpacks.
URL:https://seatoskyhospicesociety.ca/event/thursday-morning-walking-group/2025-11-06/
LOCATION:Squamish Adventure Centre\, 38551 Loggers Lane\, Squamish\, BC\, V8B 0H2\, Canada
ATTACH;FMTTYPE=image/png:https://seatoskyhospicesociety.ca/wp-content/uploads/2025/08/Screenshot-2025-08-15-at-10.01.26-AM.png
ORGANIZER;CN="Sea to Sky Hospice Society":MAILTO:info@seatoskyhospicesociety.ca
END:VEVENT
BEGIN:VEVENT
DTSTART;TZID=America/Los_Angeles:20251106T180000
DTEND;TZID=America/Los_Angeles:20251106T193000
DTSTAMP:20260423T120745
CREATED:20250811T210205Z
LAST-MODIFIED:20250911T170325Z
UID:10002373-1762452000-1762457400@seatoskyhospicesociety.ca
SUMMARY:Grief and Loss Conversations and Workshop Series
DESCRIPTION:This 8-week program provides brief workshops on special topics to do with grief and loss. Conversations are centred around a different topic each week\, with a guest speaker who works with the facilitators to share information and lead conversations around different topics. Weekly topics to be announced in early September. Drop-ins welcome but registration is encouraged.
URL:https://seatoskyhospicesociety.ca/event/grief-and-loss-conversations-and-workshop-series/2025-11-06/
ATTACH;FMTTYPE=image/png:https://seatoskyhospicesociety.ca/wp-content/uploads/2025/08/Screenshot-2025-09-11-at-9.57.10-AM-scaled.png
ORGANIZER;CN="Sea to Sky Hospice Society":MAILTO:info@seatoskyhospicesociety.ca
END:VEVENT
BEGIN:VEVENT
DTSTART;TZID=America/Los_Angeles:20251111T180000
DTEND;TZID=America/Los_Angeles:20251111T200000
DTSTAMP:20260423T120745
CREATED:20251007T203721Z
LAST-MODIFIED:20251009T183116Z
UID:10002387-1762884000-1762891200@seatoskyhospicesociety.ca
SUMMARY:Pemberton Art Exploration for Grief and Loss
DESCRIPTION:When there are no words\, sometimes art can open the heart. In this small closed group\, Art Therapy practicum student Angela Walsh Noble offers guidance to the grieving. Participants will use a variety of materials for expressing grief and loss. No experience or materials needed. Please register by emailing jody.kramer@seatoskyhospicesociety.ca \n  \n 
URL:https://seatoskyhospicesociety.ca/event/pemberton-art-exploration-for-grief-and-loss/2025-11-11/
LOCATION:Sea to Sky Community Services Pemberton Program House\, 1342 Aster Street\, Pemberton\, BC\, V0N 2L0\, Canada
ATTACH;FMTTYPE=image/png:https://seatoskyhospicesociety.ca/wp-content/uploads/2025/10/Screenshot-2025-10-09-at-11.30.28-AM.png
ORGANIZER;CN="Sea to Sky Hospice Society":MAILTO:info@seatoskyhospicesociety.ca
END:VEVENT
BEGIN:VEVENT
DTSTART;TZID=America/Los_Angeles:20251113T100000
DTEND;TZID=America/Los_Angeles:20251113T113000
DTSTAMP:20260423T120745
CREATED:20250806T192157Z
LAST-MODIFIED:20250815T170710Z
UID:10002256-1763028000-1763033400@seatoskyhospicesociety.ca
SUMMARY:Thursday morning Walking Group
DESCRIPTION:Every Thursday morning\, we meet at 10am in front of the Squamish Adventure Centre for a 45-minute gentle forest walk\, followed by a casual coffee shop chat at Cafe Garibaldi. Whether your loss is recent or several anniversaries have passed\, our Hospice Volunteers will welcome you to this peer-support group. Volunteer leaders carry Hospice-branded backpacks.
URL:https://seatoskyhospicesociety.ca/event/thursday-morning-walking-group/2025-11-13/
LOCATION:Squamish Adventure Centre\, 38551 Loggers Lane\, Squamish\, BC\, V8B 0H2\, Canada
ATTACH;FMTTYPE=image/png:https://seatoskyhospicesociety.ca/wp-content/uploads/2025/08/Screenshot-2025-08-15-at-10.01.26-AM.png
ORGANIZER;CN="Sea to Sky Hospice Society":MAILTO:info@seatoskyhospicesociety.ca
END:VEVENT
BEGIN:VEVENT
DTSTART;TZID=America/Los_Angeles:20251113T180000
DTEND;TZID=America/Los_Angeles:20251113T193000
DTSTAMP:20260423T120745
CREATED:20250811T210205Z
LAST-MODIFIED:20250911T170325Z
UID:10002374-1763056800-1763062200@seatoskyhospicesociety.ca
SUMMARY:Grief and Loss Conversations and Workshop Series
DESCRIPTION:This 8-week program provides brief workshops on special topics to do with grief and loss. Conversations are centred around a different topic each week\, with a guest speaker who works with the facilitators to share information and lead conversations around different topics. Weekly topics to be announced in early September. Drop-ins welcome but registration is encouraged.
URL:https://seatoskyhospicesociety.ca/event/grief-and-loss-conversations-and-workshop-series/2025-11-13/
ATTACH;FMTTYPE=image/png:https://seatoskyhospicesociety.ca/wp-content/uploads/2025/08/Screenshot-2025-09-11-at-9.57.10-AM-scaled.png
ORGANIZER;CN="Sea to Sky Hospice Society":MAILTO:info@seatoskyhospicesociety.ca
END:VEVENT
BEGIN:VEVENT
DTSTART;TZID=America/Los_Angeles:20251118T180000
DTEND;TZID=America/Los_Angeles:20251118T200000
DTSTAMP:20260423T120745
CREATED:20251007T203721Z
LAST-MODIFIED:20251009T183116Z
UID:10002388-1763488800-1763496000@seatoskyhospicesociety.ca
SUMMARY:Pemberton Art Exploration for Grief and Loss
DESCRIPTION:When there are no words\, sometimes art can open the heart. In this small closed group\, Art Therapy practicum student Angela Walsh Noble offers guidance to the grieving. Participants will use a variety of materials for expressing grief and loss. No experience or materials needed. Please register by emailing jody.kramer@seatoskyhospicesociety.ca \n  \n 
URL:https://seatoskyhospicesociety.ca/event/pemberton-art-exploration-for-grief-and-loss/2025-11-18/
LOCATION:Sea to Sky Community Services Pemberton Program House\, 1342 Aster Street\, Pemberton\, BC\, V0N 2L0\, Canada
ATTACH;FMTTYPE=image/png:https://seatoskyhospicesociety.ca/wp-content/uploads/2025/10/Screenshot-2025-10-09-at-11.30.28-AM.png
ORGANIZER;CN="Sea to Sky Hospice Society":MAILTO:info@seatoskyhospicesociety.ca
END:VEVENT
BEGIN:VEVENT
DTSTART;TZID=America/Los_Angeles:20251120T100000
DTEND;TZID=America/Los_Angeles:20251120T113000
DTSTAMP:20260423T120745
CREATED:20250806T192157Z
LAST-MODIFIED:20250815T170710Z
UID:10002257-1763632800-1763638200@seatoskyhospicesociety.ca
SUMMARY:Thursday morning Walking Group
DESCRIPTION:Every Thursday morning\, we meet at 10am in front of the Squamish Adventure Centre for a 45-minute gentle forest walk\, followed by a casual coffee shop chat at Cafe Garibaldi. Whether your loss is recent or several anniversaries have passed\, our Hospice Volunteers will welcome you to this peer-support group. Volunteer leaders carry Hospice-branded backpacks.
URL:https://seatoskyhospicesociety.ca/event/thursday-morning-walking-group/2025-11-20/
LOCATION:Squamish Adventure Centre\, 38551 Loggers Lane\, Squamish\, BC\, V8B 0H2\, Canada
ATTACH;FMTTYPE=image/png:https://seatoskyhospicesociety.ca/wp-content/uploads/2025/08/Screenshot-2025-08-15-at-10.01.26-AM.png
ORGANIZER;CN="Sea to Sky Hospice Society":MAILTO:info@seatoskyhospicesociety.ca
END:VEVENT
BEGIN:VEVENT
DTSTART;TZID=America/Los_Angeles:20251120T180000
DTEND;TZID=America/Los_Angeles:20251120T193000
DTSTAMP:20260423T120745
CREATED:20250811T210205Z
LAST-MODIFIED:20250911T170325Z
UID:10002375-1763661600-1763667000@seatoskyhospicesociety.ca
SUMMARY:Grief and Loss Conversations and Workshop Series
DESCRIPTION:This 8-week program provides brief workshops on special topics to do with grief and loss. Conversations are centred around a different topic each week\, with a guest speaker who works with the facilitators to share information and lead conversations around different topics. Weekly topics to be announced in early September. Drop-ins welcome but registration is encouraged.
URL:https://seatoskyhospicesociety.ca/event/grief-and-loss-conversations-and-workshop-series/2025-11-20/
ATTACH;FMTTYPE=image/png:https://seatoskyhospicesociety.ca/wp-content/uploads/2025/08/Screenshot-2025-09-11-at-9.57.10-AM-scaled.png
ORGANIZER;CN="Sea to Sky Hospice Society":MAILTO:info@seatoskyhospicesociety.ca
END:VEVENT
BEGIN:VEVENT
DTSTART;TZID=America/Los_Angeles:20251125T110000
DTEND;TZID=America/Los_Angeles:20251125T130000
DTSTAMP:20260423T120745
CREATED:20250910T180200Z
LAST-MODIFIED:20251002T160923Z
UID:10002385-1764068400-1764075600@seatoskyhospicesociety.ca
SUMMARY:Caregiver Support Group
DESCRIPTION:Join our volunteer facilitator and a small\, dedicated peer support group of caregivers. This free session is open to all who are caring for someone close to them with a life-limiting illness and/or cognitive/physical decline. \nDrop-in between 11 and 1pm\, no registration necessary. \nLunch generously provided by Mag’s 99. \nNote our NEW location\, quieter\, more private\, interruption-free\, at the United Church Sanctuary at 38014 Fourth Avenue\, Squamish.
URL:https://seatoskyhospicesociety.ca/event/caregiver-support-group-4/2025-11-25/
LOCATION:Squamish United Church\, 38014 Fourth Avenue\, Squamish\, British Columbia\, V8B 0B7\, Canada
ATTACH;FMTTYPE=image/png:https://seatoskyhospicesociety.ca/wp-content/uploads/2025/09/Screenshot-2025-09-12-at-11.00.33-AM-scaled.png
ORGANIZER;CN="Sea to Sky Hospice Society":MAILTO:info@seatoskyhospicesociety.ca
END:VEVENT
BEGIN:VEVENT
DTSTART;TZID=America/Los_Angeles:20251125T180000
DTEND;TZID=America/Los_Angeles:20251125T200000
DTSTAMP:20260423T120745
CREATED:20251007T203721Z
LAST-MODIFIED:20251009T183116Z
UID:10002389-1764093600-1764100800@seatoskyhospicesociety.ca
SUMMARY:Pemberton Art Exploration for Grief and Loss
DESCRIPTION:When there are no words\, sometimes art can open the heart. In this small closed group\, Art Therapy practicum student Angela Walsh Noble offers guidance to the grieving. Participants will use a variety of materials for expressing grief and loss. No experience or materials needed. Please register by emailing jody.kramer@seatoskyhospicesociety.ca \n  \n 
URL:https://seatoskyhospicesociety.ca/event/pemberton-art-exploration-for-grief-and-loss/2025-11-25/
LOCATION:Sea to Sky Community Services Pemberton Program House\, 1342 Aster Street\, Pemberton\, BC\, V0N 2L0\, Canada
ATTACH;FMTTYPE=image/png:https://seatoskyhospicesociety.ca/wp-content/uploads/2025/10/Screenshot-2025-10-09-at-11.30.28-AM.png
ORGANIZER;CN="Sea to Sky Hospice Society":MAILTO:info@seatoskyhospicesociety.ca
END:VEVENT
BEGIN:VEVENT
DTSTART;TZID=America/Los_Angeles:20251127T100000
DTEND;TZID=America/Los_Angeles:20251127T113000
DTSTAMP:20260423T120745
CREATED:20250806T192157Z
LAST-MODIFIED:20250815T170710Z
UID:10002258-1764237600-1764243000@seatoskyhospicesociety.ca
SUMMARY:Thursday morning Walking Group
DESCRIPTION:Every Thursday morning\, we meet at 10am in front of the Squamish Adventure Centre for a 45-minute gentle forest walk\, followed by a casual coffee shop chat at Cafe Garibaldi. Whether your loss is recent or several anniversaries have passed\, our Hospice Volunteers will welcome you to this peer-support group. Volunteer leaders carry Hospice-branded backpacks.
URL:https://seatoskyhospicesociety.ca/event/thursday-morning-walking-group/2025-11-27/
LOCATION:Squamish Adventure Centre\, 38551 Loggers Lane\, Squamish\, BC\, V8B 0H2\, Canada
ATTACH;FMTTYPE=image/png:https://seatoskyhospicesociety.ca/wp-content/uploads/2025/08/Screenshot-2025-08-15-at-10.01.26-AM.png
ORGANIZER;CN="Sea to Sky Hospice Society":MAILTO:info@seatoskyhospicesociety.ca
END:VEVENT
BEGIN:VEVENT
DTSTART;TZID=America/Los_Angeles:20251128T180000
DTEND;TZID=America/Los_Angeles:20251128T190000
DTSTAMP:20260423T120745
CREATED:20251112T200509Z
LAST-MODIFIED:20251114T195051Z
UID:10002394-1764352800-1764356400@seatoskyhospicesociety.ca
SUMMARY:Squamish Memory Tree
DESCRIPTION:Memory Tree 2025 – Squamish\n\n\nTake time to honour your loved ones who are with us in spirit during this evening of love and light. Join us as we gather in community to remember\, reflect\, and support one another at the start of the holiday season during our outdoor tree lighting ceremonies.\n\n\nFriday\, November 28 | 6–7pm\nSquamish Town Hub (adjacent to Cloudburst Café)\n\n\nAll are welcome to remember\, connect\, and share in this meaningful evening.\n\n\nFor more information:\ninfo@seatoskyhospicesociety.ca | info@mywcss.org
URL:https://seatoskyhospicesociety.ca/event/squamish-memory-tree/
LOCATION:Squamish Town Hub\, 1861 Mamquam Rd.\, Squamish\, BC\, V8B 0G2\, Canada
ATTACH;FMTTYPE=image/png:https://seatoskyhospicesociety.ca/wp-content/uploads/2025/11/Screenshot-2025-11-14-at-11.44.45-AM.png
ORGANIZER;CN="Sea to Sky Hospice Society":MAILTO:info@seatoskyhospicesociety.ca
END:VEVENT
END:VCALENDAR