BEGIN:VCALENDAR
VERSION:2.0
PRODID:-//Sea to Sky Hospice Society - ECPv6.15.12.2//NONSGML v1.0//EN
CALSCALE:GREGORIAN
METHOD:PUBLISH
X-ORIGINAL-URL:https://seatoskyhospicesociety.ca
X-WR-CALDESC:Events for Sea to Sky Hospice Society
REFRESH-INTERVAL;VALUE=DURATION:PT1H
X-Robots-Tag:noindex
X-PUBLISHED-TTL:PT1H
BEGIN:VTIMEZONE
TZID:America/Los_Angeles
BEGIN:DAYLIGHT
TZOFFSETFROM:-0800
TZOFFSETTO:-0700
TZNAME:PDT
DTSTART:20240310T100000
END:DAYLIGHT
BEGIN:STANDARD
TZOFFSETFROM:-0700
TZOFFSETTO:-0800
TZNAME:PST
DTSTART:20241103T090000
END:STANDARD
BEGIN:DAYLIGHT
TZOFFSETFROM:-0800
TZOFFSETTO:-0700
TZNAME:PDT
DTSTART:20250309T100000
END:DAYLIGHT
BEGIN:STANDARD
TZOFFSETFROM:-0700
TZOFFSETTO:-0800
TZNAME:PST
DTSTART:20251102T090000
END:STANDARD
BEGIN:DAYLIGHT
TZOFFSETFROM:-0800
TZOFFSETTO:-0700
TZNAME:PDT
DTSTART:20260308T100000
END:DAYLIGHT
BEGIN:STANDARD
TZOFFSETFROM:-0700
TZOFFSETTO:-0800
TZNAME:PST
DTSTART:20261101T090000
END:STANDARD
END:VTIMEZONE
BEGIN:VEVENT
DTSTART;TZID=America/Los_Angeles:20250904T100000
DTEND;TZID=America/Los_Angeles:20250904T113000
DTSTAMP:20260423T151025
CREATED:20250806T192157Z
LAST-MODIFIED:20250815T170710Z
UID:10002246-1756980000-1756985400@seatoskyhospicesociety.ca
SUMMARY:Thursday morning Walking Group
DESCRIPTION:Every Thursday morning\, we meet at 10am in front of the Squamish Adventure Centre for a 45-minute gentle forest walk\, followed by a casual coffee shop chat at Cafe Garibaldi. Whether your loss is recent or several anniversaries have passed\, our Hospice Volunteers will welcome you to this peer-support group. Volunteer leaders carry Hospice-branded backpacks.
URL:https://seatoskyhospicesociety.ca/event/thursday-morning-walking-group/2025-09-04/
LOCATION:Squamish Adventure Centre\, 38551 Loggers Lane\, Squamish\, BC\, V8B 0H2\, Canada
ATTACH;FMTTYPE=image/png:https://seatoskyhospicesociety.ca/wp-content/uploads/2025/08/Screenshot-2025-08-15-at-10.01.26-AM.png
ORGANIZER;CN="Sea to Sky Hospice Society":MAILTO:info@seatoskyhospicesociety.ca
END:VEVENT
BEGIN:VEVENT
DTSTART;TZID=America/Los_Angeles:20250904T180000
DTEND;TZID=America/Los_Angeles:20250904T200000
DTSTAMP:20260423T151025
CREATED:20250730T192913Z
LAST-MODIFIED:20250815T170756Z
UID:10001951-1757008800-1757016000@seatoskyhospicesociety.ca
SUMMARY:Art Exploration for Grief and Loss
DESCRIPTION:Join volunteer Art Exploration facilitators Grace and Jani for four sessions as they help to “draw out” the expression of grief and loss through the use of mixed art materials. Participants will benefit from facilitated peer support and the opportunity to express grief without words\, in this small group.
URL:https://seatoskyhospicesociety.ca/event/art-exploration-for-grief-and-loss/2025-09-04/
LOCATION:55 Activity Centre\, 1201 Village Way\, Squamish\, BC\, V8B 0R7\, Canada
ATTACH;FMTTYPE=image/png:https://seatoskyhospicesociety.ca/wp-content/uploads/2025/07/Screenshot-2025-08-15-at-10.06.01-AM.png
ORGANIZER;CN="Sea to Sky Hospice Society":MAILTO:info@seatoskyhospicesociety.ca
END:VEVENT
BEGIN:VEVENT
DTSTART;TZID=America/Los_Angeles:20250911T100000
DTEND;TZID=America/Los_Angeles:20250911T113000
DTSTAMP:20260423T151025
CREATED:20250806T192157Z
LAST-MODIFIED:20250815T170710Z
UID:10002247-1757584800-1757590200@seatoskyhospicesociety.ca
SUMMARY:Thursday morning Walking Group
DESCRIPTION:Every Thursday morning\, we meet at 10am in front of the Squamish Adventure Centre for a 45-minute gentle forest walk\, followed by a casual coffee shop chat at Cafe Garibaldi. Whether your loss is recent or several anniversaries have passed\, our Hospice Volunteers will welcome you to this peer-support group. Volunteer leaders carry Hospice-branded backpacks.
URL:https://seatoskyhospicesociety.ca/event/thursday-morning-walking-group/2025-09-11/
LOCATION:Squamish Adventure Centre\, 38551 Loggers Lane\, Squamish\, BC\, V8B 0H2\, Canada
ATTACH;FMTTYPE=image/png:https://seatoskyhospicesociety.ca/wp-content/uploads/2025/08/Screenshot-2025-08-15-at-10.01.26-AM.png
ORGANIZER;CN="Sea to Sky Hospice Society":MAILTO:info@seatoskyhospicesociety.ca
END:VEVENT
BEGIN:VEVENT
DTSTART;TZID=America/Los_Angeles:20250911T180000
DTEND;TZID=America/Los_Angeles:20250911T200000
DTSTAMP:20260423T151025
CREATED:20250730T192913Z
LAST-MODIFIED:20250815T170756Z
UID:10001952-1757613600-1757620800@seatoskyhospicesociety.ca
SUMMARY:Art Exploration for Grief and Loss
DESCRIPTION:Join volunteer Art Exploration facilitators Grace and Jani for four sessions as they help to “draw out” the expression of grief and loss through the use of mixed art materials. Participants will benefit from facilitated peer support and the opportunity to express grief without words\, in this small group.
URL:https://seatoskyhospicesociety.ca/event/art-exploration-for-grief-and-loss/2025-09-11/
LOCATION:55 Activity Centre\, 1201 Village Way\, Squamish\, BC\, V8B 0R7\, Canada
ATTACH;FMTTYPE=image/png:https://seatoskyhospicesociety.ca/wp-content/uploads/2025/07/Screenshot-2025-08-15-at-10.06.01-AM.png
ORGANIZER;CN="Sea to Sky Hospice Society":MAILTO:info@seatoskyhospicesociety.ca
END:VEVENT
BEGIN:VEVENT
DTSTART;TZID=America/Los_Angeles:20250916T190000
DTEND;TZID=America/Los_Angeles:20250916T203000
DTSTAMP:20260423T151025
CREATED:20250730T212118Z
LAST-MODIFIED:20250911T172144Z
UID:10002007-1758049200-1758054600@seatoskyhospicesociety.ca
SUMMARY:Whistler Grief & Loss Book Circle
DESCRIPTION:There is such a wealth of writing around caregiving\, mortality\, grief and loss. In this casual discussion group\, we share our thoughts and experiences around these topics through the guidance of these books. \nFor our Fall Equinox Book Circle\, we will discuss “When Breath Becomes Air\, by Paul Kalanathi”. Those experiencing grief or loss or facing serious illness themselves are encouraged to join us\, although everyone is welcome. Registration required. \nNote also the date for the Winter Solstice Book Circle\, coming up on December 16th. Most people have questions about Assisted Dying\, and Stefanie Green\, MD has laid out her knowledge and experience in this compassionate and transformative memoir. \nPlease email publicservices@whistlerlibrary.ca to sign up.
URL:https://seatoskyhospicesociety.ca/event/whistler-grief-loss-book-circle/2025-09-16/
LOCATION:Whistler Public Library\, 4329 Main St\,\, Whistler\, BC\, V8E 1B2\, Canada
ATTACH;FMTTYPE=image/png:https://seatoskyhospicesociety.ca/wp-content/uploads/2025/07/Screenshot-2025-09-11-at-10.20.30-AM-scaled.png
ORGANIZER;CN="Sea to Sky Hospice Society":MAILTO:info@seatoskyhospicesociety.ca
END:VEVENT
BEGIN:VEVENT
DTSTART;TZID=America/Los_Angeles:20250918T100000
DTEND;TZID=America/Los_Angeles:20250918T113000
DTSTAMP:20260423T151025
CREATED:20250806T192157Z
LAST-MODIFIED:20250815T170710Z
UID:10002248-1758189600-1758195000@seatoskyhospicesociety.ca
SUMMARY:Thursday morning Walking Group
DESCRIPTION:Every Thursday morning\, we meet at 10am in front of the Squamish Adventure Centre for a 45-minute gentle forest walk\, followed by a casual coffee shop chat at Cafe Garibaldi. Whether your loss is recent or several anniversaries have passed\, our Hospice Volunteers will welcome you to this peer-support group. Volunteer leaders carry Hospice-branded backpacks.
URL:https://seatoskyhospicesociety.ca/event/thursday-morning-walking-group/2025-09-18/
LOCATION:Squamish Adventure Centre\, 38551 Loggers Lane\, Squamish\, BC\, V8B 0H2\, Canada
ATTACH;FMTTYPE=image/png:https://seatoskyhospicesociety.ca/wp-content/uploads/2025/08/Screenshot-2025-08-15-at-10.01.26-AM.png
ORGANIZER;CN="Sea to Sky Hospice Society":MAILTO:info@seatoskyhospicesociety.ca
END:VEVENT
BEGIN:VEVENT
DTSTART;TZID=America/Los_Angeles:20250918T130000
DTEND;TZID=America/Los_Angeles:20250918T143000
DTSTAMP:20260423T151025
CREATED:20250811T211858Z
LAST-MODIFIED:20250903T161858Z
UID:10002376-1758200400-1758205800@seatoskyhospicesociety.ca
SUMMARY:Whistler Walking Conversations for Grief and Loss
DESCRIPTION:Walking together on the beautiful trails that surround Whistler\, participants will experience a “Forest Bath” while sharing their grief journey in this peer support group\, co-facilitated by WCSS Outreach workers and Hospice Society Bereavement volunteers. Wherever you may be in your grief journey\, all are welcome and no registration is required.\n\nThursday afternoons from 1-2:30\, beginning September 18th\, until October 23rd. We will meet outside Alpine Cafe at 1pm. Coffee and chat to follow.
URL:https://seatoskyhospicesociety.ca/event/whistler-walking-conversations-for-grief-and-loss/2025-09-18/
CATEGORIES:Bereavement
ATTACH;FMTTYPE=image/png:https://seatoskyhospicesociety.ca/wp-content/uploads/2025/08/Screenshot-2025-09-03-at-9.17.31-AM.png
ORGANIZER;CN="Sea to Sky Hospice Society":MAILTO:info@seatoskyhospicesociety.ca
END:VEVENT
BEGIN:VEVENT
DTSTART;TZID=America/Los_Angeles:20250918T180000
DTEND;TZID=America/Los_Angeles:20250918T200000
DTSTAMP:20260423T151025
CREATED:20250730T192913Z
LAST-MODIFIED:20250815T170756Z
UID:10001953-1758218400-1758225600@seatoskyhospicesociety.ca
SUMMARY:Art Exploration for Grief and Loss
DESCRIPTION:Join volunteer Art Exploration facilitators Grace and Jani for four sessions as they help to “draw out” the expression of grief and loss through the use of mixed art materials. Participants will benefit from facilitated peer support and the opportunity to express grief without words\, in this small group.
URL:https://seatoskyhospicesociety.ca/event/art-exploration-for-grief-and-loss/2025-09-18/
LOCATION:55 Activity Centre\, 1201 Village Way\, Squamish\, BC\, V8B 0R7\, Canada
ATTACH;FMTTYPE=image/png:https://seatoskyhospicesociety.ca/wp-content/uploads/2025/07/Screenshot-2025-08-15-at-10.06.01-AM.png
ORGANIZER;CN="Sea to Sky Hospice Society":MAILTO:info@seatoskyhospicesociety.ca
END:VEVENT
BEGIN:VEVENT
DTSTART;TZID=America/Los_Angeles:20250918T190000
DTEND;TZID=America/Los_Angeles:20250918T210000
DTSTAMP:20260423T151025
CREATED:20250806T191424Z
LAST-MODIFIED:20250911T173123Z
UID:10002009-1758222000-1758229200@seatoskyhospicesociety.ca
SUMMARY:Fall Equinox Book Circle - Squamish
DESCRIPTION:For our Fall Equinox Book Circle\, we are looking at grief through the lens of contemporary and untraditional community care:\nRebellious Mourning is a collection of writings that look at how we grieve very public losses\, such as from war and natural disasters\, in the arena of the social justice movement.\nFalling In Love With Being Human: Chinese Canadian transgender author Kai Cheng Thom knows that the world can be hostile. Clinging to her values of compassion\, forgiveness and self-acceptance\, she gathers her rage and grief\, and writes this blueprint for falling back in love with being human. \n 
URL:https://seatoskyhospicesociety.ca/event/fall-equinox-book-circle-squamish/
LOCATION:Gather\, Books & Lovely Things\, 38041 2nd Avenue\, Squamish\, BC\, V8B 0C3\, Canada
ATTACH;FMTTYPE=image/png:https://seatoskyhospicesociety.ca/wp-content/uploads/2025/08/Screenshot-2025-09-11-at-10.25.47-AM-scaled.png
ORGANIZER;CN="Sea to Sky Hospice Society":MAILTO:info@seatoskyhospicesociety.ca
END:VEVENT
BEGIN:VEVENT
DTSTART;TZID=America/Los_Angeles:20250923T110000
DTEND;TZID=America/Los_Angeles:20250923T130000
DTSTAMP:20260423T151025
CREATED:20250910T180200Z
LAST-MODIFIED:20251002T160923Z
UID:10002383-1758625200-1758632400@seatoskyhospicesociety.ca
SUMMARY:Caregiver Support Group
DESCRIPTION:Join our volunteer facilitator and a small\, dedicated peer support group of caregivers. This free session is open to all who are caring for someone close to them with a life-limiting illness and/or cognitive/physical decline. \nDrop-in between 11 and 1pm\, no registration necessary. \nLunch generously provided by Mag’s 99. \nNote our NEW location\, quieter\, more private\, interruption-free\, at the United Church Sanctuary at 38014 Fourth Avenue\, Squamish.
URL:https://seatoskyhospicesociety.ca/event/caregiver-support-group-4/2025-09-23/
LOCATION:Squamish United Church\, 38014 Fourth Avenue\, Squamish\, British Columbia\, V8B 0B7\, Canada
ATTACH;FMTTYPE=image/png:https://seatoskyhospicesociety.ca/wp-content/uploads/2025/09/Screenshot-2025-09-12-at-11.00.33-AM-scaled.png
ORGANIZER;CN="Sea to Sky Hospice Society":MAILTO:info@seatoskyhospicesociety.ca
END:VEVENT
BEGIN:VEVENT
DTSTART;TZID=America/Los_Angeles:20250925T100000
DTEND;TZID=America/Los_Angeles:20250925T113000
DTSTAMP:20260423T151025
CREATED:20250806T192157Z
LAST-MODIFIED:20250815T170710Z
UID:10002249-1758794400-1758799800@seatoskyhospicesociety.ca
SUMMARY:Thursday morning Walking Group
DESCRIPTION:Every Thursday morning\, we meet at 10am in front of the Squamish Adventure Centre for a 45-minute gentle forest walk\, followed by a casual coffee shop chat at Cafe Garibaldi. Whether your loss is recent or several anniversaries have passed\, our Hospice Volunteers will welcome you to this peer-support group. Volunteer leaders carry Hospice-branded backpacks.
URL:https://seatoskyhospicesociety.ca/event/thursday-morning-walking-group/2025-09-25/
LOCATION:Squamish Adventure Centre\, 38551 Loggers Lane\, Squamish\, BC\, V8B 0H2\, Canada
ATTACH;FMTTYPE=image/png:https://seatoskyhospicesociety.ca/wp-content/uploads/2025/08/Screenshot-2025-08-15-at-10.01.26-AM.png
ORGANIZER;CN="Sea to Sky Hospice Society":MAILTO:info@seatoskyhospicesociety.ca
END:VEVENT
BEGIN:VEVENT
DTSTART;TZID=America/Los_Angeles:20250925T130000
DTEND;TZID=America/Los_Angeles:20250925T143000
DTSTAMP:20260423T151025
CREATED:20250811T211858Z
LAST-MODIFIED:20250903T161858Z
UID:10002377-1758805200-1758810600@seatoskyhospicesociety.ca
SUMMARY:Whistler Walking Conversations for Grief and Loss
DESCRIPTION:Walking together on the beautiful trails that surround Whistler\, participants will experience a “Forest Bath” while sharing their grief journey in this peer support group\, co-facilitated by WCSS Outreach workers and Hospice Society Bereavement volunteers. Wherever you may be in your grief journey\, all are welcome and no registration is required.\n\nThursday afternoons from 1-2:30\, beginning September 18th\, until October 23rd. We will meet outside Alpine Cafe at 1pm. Coffee and chat to follow.
URL:https://seatoskyhospicesociety.ca/event/whistler-walking-conversations-for-grief-and-loss/2025-09-25/
CATEGORIES:Bereavement
ATTACH;FMTTYPE=image/png:https://seatoskyhospicesociety.ca/wp-content/uploads/2025/08/Screenshot-2025-09-03-at-9.17.31-AM.png
ORGANIZER;CN="Sea to Sky Hospice Society":MAILTO:info@seatoskyhospicesociety.ca
END:VEVENT
BEGIN:VEVENT
DTSTART;TZID=America/Los_Angeles:20250925T180000
DTEND;TZID=America/Los_Angeles:20250925T200000
DTSTAMP:20260423T151025
CREATED:20250730T192913Z
LAST-MODIFIED:20250815T170756Z
UID:10001954-1758823200-1758830400@seatoskyhospicesociety.ca
SUMMARY:Art Exploration for Grief and Loss
DESCRIPTION:Join volunteer Art Exploration facilitators Grace and Jani for four sessions as they help to “draw out” the expression of grief and loss through the use of mixed art materials. Participants will benefit from facilitated peer support and the opportunity to express grief without words\, in this small group.
URL:https://seatoskyhospicesociety.ca/event/art-exploration-for-grief-and-loss/2025-09-25/
LOCATION:55 Activity Centre\, 1201 Village Way\, Squamish\, BC\, V8B 0R7\, Canada
ATTACH;FMTTYPE=image/png:https://seatoskyhospicesociety.ca/wp-content/uploads/2025/07/Screenshot-2025-08-15-at-10.06.01-AM.png
ORGANIZER;CN="Sea to Sky Hospice Society":MAILTO:info@seatoskyhospicesociety.ca
END:VEVENT
END:VCALENDAR