BEGIN:VCALENDAR
VERSION:2.0
PRODID:-//Sea to Sky Hospice Society - ECPv6.15.12.2//NONSGML v1.0//EN
CALSCALE:GREGORIAN
METHOD:PUBLISH
X-WR-CALNAME:Sea to Sky Hospice Society
X-ORIGINAL-URL:https://seatoskyhospicesociety.ca
X-WR-CALDESC:Events for Sea to Sky Hospice Society
REFRESH-INTERVAL;VALUE=DURATION:PT1H
X-Robots-Tag:noindex
X-PUBLISHED-TTL:PT1H
BEGIN:VTIMEZONE
TZID:America/Los_Angeles
BEGIN:DAYLIGHT
TZOFFSETFROM:-0800
TZOFFSETTO:-0700
TZNAME:PDT
DTSTART:20240310T100000
END:DAYLIGHT
BEGIN:STANDARD
TZOFFSETFROM:-0700
TZOFFSETTO:-0800
TZNAME:PST
DTSTART:20241103T090000
END:STANDARD
BEGIN:DAYLIGHT
TZOFFSETFROM:-0800
TZOFFSETTO:-0700
TZNAME:PDT
DTSTART:20250309T100000
END:DAYLIGHT
BEGIN:STANDARD
TZOFFSETFROM:-0700
TZOFFSETTO:-0800
TZNAME:PST
DTSTART:20251102T090000
END:STANDARD
BEGIN:DAYLIGHT
TZOFFSETFROM:-0800
TZOFFSETTO:-0700
TZNAME:PDT
DTSTART:20260308T100000
END:DAYLIGHT
BEGIN:STANDARD
TZOFFSETFROM:-0700
TZOFFSETTO:-0800
TZNAME:PST
DTSTART:20261101T090000
END:STANDARD
END:VTIMEZONE
BEGIN:VEVENT
DTSTART;TZID=America/Los_Angeles:20250812T130000
DTEND;TZID=America/Los_Angeles:20250812T150000
DTSTAMP:20260423T163432
CREATED:20250808T191031Z
LAST-MODIFIED:20250811T160649Z
UID:10002367-1755003600-1755010800@seatoskyhospicesociety.ca
SUMMARY:Fabric Cutting Session
DESCRIPTION:Please join us to cut up some “kits” of fabric to create Celestial Bags for our patients’ families. After a loved one passes away\, our medical staff give them a handmade quilted bag\, with grief resource materials and any of the patient’s items from their room. It’s a gentle way to help mourners transition from anticipatory grief to bereavement grief.\n\n\nPlease contact jody.kramer@seatoskyhospicesociety.ca\, or call 604-892-6051 ext 5\, to let us know if you’ll join us to make up some fabric kits for our dedicated sewing volunteers.
URL:https://seatoskyhospicesociety.ca/event/fabric-cutting-session/
LOCATION:Hospice Society Program Room\, 38140 Behrner Drive\, Squamish\, BC V8B 0J3\, 38140 Behrner Drive\, Squamish\, British Columbia\, V8B 0J3\, Canada
ATTACH;FMTTYPE=image/png:https://seatoskyhospicesociety.ca/wp-content/uploads/2025/08/Screenshot-2025-08-11-at-9.05.58-AM.png
ORGANIZER;CN="Sea to Sky Hospice Society":MAILTO:info@seatoskyhospicesociety.ca
END:VEVENT
END:VCALENDAR