BEGIN:VCALENDAR
VERSION:2.0
PRODID:-//Sea to Sky Hospice Society - ECPv6.15.12.2//NONSGML v1.0//EN
CALSCALE:GREGORIAN
METHOD:PUBLISH
X-ORIGINAL-URL:https://seatoskyhospicesociety.ca
X-WR-CALDESC:Events for Sea to Sky Hospice Society
REFRESH-INTERVAL;VALUE=DURATION:PT1H
X-Robots-Tag:noindex
X-PUBLISHED-TTL:PT1H
BEGIN:VTIMEZONE
TZID:America/Los_Angeles
BEGIN:DAYLIGHT
TZOFFSETFROM:-0800
TZOFFSETTO:-0700
TZNAME:PDT
DTSTART:20240310T100000
END:DAYLIGHT
BEGIN:STANDARD
TZOFFSETFROM:-0700
TZOFFSETTO:-0800
TZNAME:PST
DTSTART:20241103T090000
END:STANDARD
BEGIN:DAYLIGHT
TZOFFSETFROM:-0800
TZOFFSETTO:-0700
TZNAME:PDT
DTSTART:20250309T100000
END:DAYLIGHT
BEGIN:STANDARD
TZOFFSETFROM:-0700
TZOFFSETTO:-0800
TZNAME:PST
DTSTART:20251102T090000
END:STANDARD
BEGIN:DAYLIGHT
TZOFFSETFROM:-0800
TZOFFSETTO:-0700
TZNAME:PDT
DTSTART:20260308T100000
END:DAYLIGHT
BEGIN:STANDARD
TZOFFSETFROM:-0700
TZOFFSETTO:-0800
TZNAME:PST
DTSTART:20261101T090000
END:STANDARD
END:VTIMEZONE
BEGIN:VEVENT
DTSTART;TZID=America/Los_Angeles:20250102T100000
DTEND;TZID=America/Los_Angeles:20250102T110000
DTSTAMP:20260424T034534
CREATED:20241214T000711Z
LAST-MODIFIED:20241217T003335Z
UID:10001368-1735812000-1735815600@seatoskyhospicesociety.ca
SUMMARY:Winter Drop In Walking Group
DESCRIPTION:Are you Grieving the Loss of a Loved One?\n\n\nJoin us Thursday morning at 10AM for our Winter Drop-In Walking Group.\n\n\n \n\n\nParticipate in this relaxing and supportive walk for those grieving or anticpating the loss of a loved one. Be supported in a compassionate community who understands bereavement.\n\n\n \n\n\nWe will be walking Thursdays\, at 10AM weekly\, Weekly on Thursday mornings at 10 am starting January 2nd.\n\n\n \n\n\nMeet at the Squamish Adventure Centre for a walk followed by coffee and snacks together. New walkers always welcome. Look for the volunteers with the Hospice-branded backpacks!\n\n\n \n\n\nFor more information please email: info@seatoskyhospicesociety.ca\n\n\nor call (604) 892-6051 ext. 5
URL:https://seatoskyhospicesociety.ca/event/winter-drop-in-walking-group/
LOCATION:Squamish Adventure Centre\, 38551 Loggers Lane\, Squamish\, BC\, V8B 0H2\, Canada
ATTACH;FMTTYPE=image/png:https://seatoskyhospicesociety.ca/wp-content/uploads/2024/12/winter-walk-in-web-1.png
ORGANIZER;CN="Sea to Sky Hospice Society":MAILTO:info@seatoskyhospicesociety.ca
END:VEVENT
BEGIN:VEVENT
DTSTART;TZID=America/Los_Angeles:20250102T100000
DTEND;TZID=America/Los_Angeles:20250102T113000
DTSTAMP:20260424T034534
CREATED:20250318T164604Z
LAST-MODIFIED:20250318T164604Z
UID:10001691-1735812000-1735817400@seatoskyhospicesociety.ca
SUMMARY:Squamish Grief & Bereavement Walks
DESCRIPTION:Grief & Bereavement Walks: \nJoin us for a gentle forest walk where your grief is welcome. Whether your loss is recent or several anniversaries have passed\, our Hospice Volunteers will welcome you into this peer support group. Look for the Hospice-branded backpacks and/or hats. No registration required. \nThursday Mornings (10-11:30) January through June 2025: Meet at the Adventure Centre (Coffee chat at Cafe Garibaldi following the walk) \nTuesday evenings (6-7pm) meet at the Squamish Public Library \nFor Questions and Registration:  jody.kramer@seatoskyhospicesociety.ca / 604-892-6051\, ext 5
URL:https://seatoskyhospicesociety.ca/event/squamish-grief-bereavement-walks/2025-01-02/
LOCATION:Squamish Adventure Centre\, 38551 Loggers Lane\, Squamish\, BC\, V8B 0H2\, Canada
CATEGORIES:Bereavement
ATTACH;FMTTYPE=image/png:https://seatoskyhospicesociety.ca/wp-content/uploads/2025/03/walking-group-web-image.png
ORGANIZER;CN="Sea to Sky Hospice Society":MAILTO:info@seatoskyhospicesociety.ca
END:VEVENT
BEGIN:VEVENT
DTSTART;TZID=America/Los_Angeles:20250109T100000
DTEND;TZID=America/Los_Angeles:20250109T113000
DTSTAMP:20260424T034534
CREATED:20250318T164604Z
LAST-MODIFIED:20250318T164604Z
UID:10001692-1736416800-1736422200@seatoskyhospicesociety.ca
SUMMARY:Squamish Grief & Bereavement Walks
DESCRIPTION:Grief & Bereavement Walks: \nJoin us for a gentle forest walk where your grief is welcome. Whether your loss is recent or several anniversaries have passed\, our Hospice Volunteers will welcome you into this peer support group. Look for the Hospice-branded backpacks and/or hats. No registration required. \nThursday Mornings (10-11:30) January through June 2025: Meet at the Adventure Centre (Coffee chat at Cafe Garibaldi following the walk) \nTuesday evenings (6-7pm) meet at the Squamish Public Library \nFor Questions and Registration:  jody.kramer@seatoskyhospicesociety.ca / 604-892-6051\, ext 5
URL:https://seatoskyhospicesociety.ca/event/squamish-grief-bereavement-walks/2025-01-09/
LOCATION:Squamish Adventure Centre\, 38551 Loggers Lane\, Squamish\, BC\, V8B 0H2\, Canada
CATEGORIES:Bereavement
ATTACH;FMTTYPE=image/png:https://seatoskyhospicesociety.ca/wp-content/uploads/2025/03/walking-group-web-image.png
ORGANIZER;CN="Sea to Sky Hospice Society":MAILTO:info@seatoskyhospicesociety.ca
END:VEVENT
BEGIN:VEVENT
DTSTART;TZID=America/Los_Angeles:20250109T173000
DTEND;TZID=America/Los_Angeles:20250109T183000
DTSTAMP:20260424T034534
CREATED:20241218T232306Z
LAST-MODIFIED:20241218T232306Z
UID:10001661-1736443800-1736447400@seatoskyhospicesociety.ca
SUMMARY:Whistler Grief and Loss Conversations
DESCRIPTION:  \nAre you in need of support?  Please join us for our in person Grief and Loss Conversations in Whistler. \nIn partnership with the Whistler Community Services\, these drop in sessions will begin Thursday evenings\, January 9 – February 13 from 5:30 – 6:30 pm in the Whister Public Library. \nFor questions or additional information\, please contact Shalissa Forestell at shalissa@mywcss.org \n  \n 
URL:https://seatoskyhospicesociety.ca/event/whistler-grief-and-loss-conversations/2025-01-09/
LOCATION:Whistler Public Library\, 4329 Main St\,\, Whistler\, BC\, V8E 1B2\, Canada
CATEGORIES:Bereavement
ATTACH;FMTTYPE=image/png:https://seatoskyhospicesociety.ca/wp-content/uploads/2024/12/whistler-grief-loss-event-feature.png
ORGANIZER;CN="Sea to Sky Hospice Society":MAILTO:info@seatoskyhospicesociety.ca
END:VEVENT
BEGIN:VEVENT
DTSTART;TZID=America/Los_Angeles:20250110T120000
DTEND;TZID=America/Los_Angeles:20250110T130000
DTSTAMP:20260424T034534
CREATED:20241217T010659Z
LAST-MODIFIED:20241217T010659Z
UID:10001649-1736510400-1736514000@seatoskyhospicesociety.ca
SUMMARY:Online Grief & Bereavement Conversations
DESCRIPTION:Online  Grief and Bereavement Conversations with Carolyn Green\, each Friday beginning January 10th and running through February 28th. \nThese supportive one hour sessions begin at 12 pm and last one hour\, ending at 1 pm. \nPlease email Jody.Kramer@seatoskyhospicesociety.ca to register and receive a zoom link. \n 
URL:https://seatoskyhospicesociety.ca/event/online-grief-bereavement-conversations/2025-01-10/
LOCATION:Online – contact Jody to register\, Canada
CATEGORIES:Bereavement
ATTACH;FMTTYPE=image/png:https://seatoskyhospicesociety.ca/wp-content/uploads/2024/12/online-grief-berevement-conversations-web-version.png
ORGANIZER;CN="Sea to Sky Hospice Society":MAILTO:info@seatoskyhospicesociety.ca
END:VEVENT
BEGIN:VEVENT
DTSTART;TZID=America/Los_Angeles:20250116T100000
DTEND;TZID=America/Los_Angeles:20250116T113000
DTSTAMP:20260424T034534
CREATED:20250318T164604Z
LAST-MODIFIED:20250318T164604Z
UID:10001693-1737021600-1737027000@seatoskyhospicesociety.ca
SUMMARY:Squamish Grief & Bereavement Walks
DESCRIPTION:Grief & Bereavement Walks: \nJoin us for a gentle forest walk where your grief is welcome. Whether your loss is recent or several anniversaries have passed\, our Hospice Volunteers will welcome you into this peer support group. Look for the Hospice-branded backpacks and/or hats. No registration required. \nThursday Mornings (10-11:30) January through June 2025: Meet at the Adventure Centre (Coffee chat at Cafe Garibaldi following the walk) \nTuesday evenings (6-7pm) meet at the Squamish Public Library \nFor Questions and Registration:  jody.kramer@seatoskyhospicesociety.ca / 604-892-6051\, ext 5
URL:https://seatoskyhospicesociety.ca/event/squamish-grief-bereavement-walks/2025-01-16/
LOCATION:Squamish Adventure Centre\, 38551 Loggers Lane\, Squamish\, BC\, V8B 0H2\, Canada
CATEGORIES:Bereavement
ATTACH;FMTTYPE=image/png:https://seatoskyhospicesociety.ca/wp-content/uploads/2025/03/walking-group-web-image.png
ORGANIZER;CN="Sea to Sky Hospice Society":MAILTO:info@seatoskyhospicesociety.ca
END:VEVENT
BEGIN:VEVENT
DTSTART;TZID=America/Los_Angeles:20250116T173000
DTEND;TZID=America/Los_Angeles:20250116T183000
DTSTAMP:20260424T034534
CREATED:20241218T232306Z
LAST-MODIFIED:20241218T232306Z
UID:10001662-1737048600-1737052200@seatoskyhospicesociety.ca
SUMMARY:Whistler Grief and Loss Conversations
DESCRIPTION:  \nAre you in need of support?  Please join us for our in person Grief and Loss Conversations in Whistler. \nIn partnership with the Whistler Community Services\, these drop in sessions will begin Thursday evenings\, January 9 – February 13 from 5:30 – 6:30 pm in the Whister Public Library. \nFor questions or additional information\, please contact Shalissa Forestell at shalissa@mywcss.org \n  \n 
URL:https://seatoskyhospicesociety.ca/event/whistler-grief-and-loss-conversations/2025-01-16/
LOCATION:Whistler Public Library\, 4329 Main St\,\, Whistler\, BC\, V8E 1B2\, Canada
CATEGORIES:Bereavement
ATTACH;FMTTYPE=image/png:https://seatoskyhospicesociety.ca/wp-content/uploads/2024/12/whistler-grief-loss-event-feature.png
ORGANIZER;CN="Sea to Sky Hospice Society":MAILTO:info@seatoskyhospicesociety.ca
END:VEVENT
BEGIN:VEVENT
DTSTART;TZID=America/Los_Angeles:20250116T180000
DTEND;TZID=America/Los_Angeles:20250116T193000
DTSTAMP:20260424T034534
CREATED:20241216T200930Z
LAST-MODIFIED:20241216T221207Z
UID:10001641-1737050400-1737055800@seatoskyhospicesociety.ca
SUMMARY:Grief and Bereavement Conversations
DESCRIPTION:Join Us for 8-Week Evening Sessions \nStarting January 16th through March 6th\, we invite you to attend our weekly evening sessions every Thursday from 6:00 PM to 7:30 PM\, in the Hospice Society Program Room. \n\nDates: January 16th – March 6th\nTime: Thursdays\, 6:00 PM – 7:30 PM\nLocation: Hospice Society Program Room\nDrop-ins Welcome: Registration is highly encouraged for a better experience.\n\nWe look forward to seeing you there! \nPlease email jody.kramer@seatoskyhospicesociety.ca to get directions and/or register. \nDrop-ins are welcome but registration is highly encouraged.
URL:https://seatoskyhospicesociety.ca/event/grief-and-bereavement-conversations/2025-01-16/
LOCATION:Hospice Society Program Room\, 38140 Behrner Drive\, Squamish\, BC V8B 0J3\, 38140 Behrner Drive\, Squamish\, British Columbia\, V8B 0J3\, Canada
CATEGORIES:Bereavement
ATTACH;FMTTYPE=image/png:https://seatoskyhospicesociety.ca/wp-content/uploads/2024/12/griefloss.png
ORGANIZER;CN="Sea to Sky Hospice Society":MAILTO:info@seatoskyhospicesociety.ca
END:VEVENT
BEGIN:VEVENT
DTSTART;TZID=America/Los_Angeles:20250117T120000
DTEND;TZID=America/Los_Angeles:20250117T130000
DTSTAMP:20260424T034534
CREATED:20241217T010659Z
LAST-MODIFIED:20241217T010659Z
UID:10001650-1737115200-1737118800@seatoskyhospicesociety.ca
SUMMARY:Online Grief & Bereavement Conversations
DESCRIPTION:Online  Grief and Bereavement Conversations with Carolyn Green\, each Friday beginning January 10th and running through February 28th. \nThese supportive one hour sessions begin at 12 pm and last one hour\, ending at 1 pm. \nPlease email Jody.Kramer@seatoskyhospicesociety.ca to register and receive a zoom link. \n 
URL:https://seatoskyhospicesociety.ca/event/online-grief-bereavement-conversations/2025-01-17/
LOCATION:Online – contact Jody to register\, Canada
CATEGORIES:Bereavement
ATTACH;FMTTYPE=image/png:https://seatoskyhospicesociety.ca/wp-content/uploads/2024/12/online-grief-berevement-conversations-web-version.png
ORGANIZER;CN="Sea to Sky Hospice Society":MAILTO:info@seatoskyhospicesociety.ca
END:VEVENT
BEGIN:VEVENT
DTSTART;TZID=America/Los_Angeles:20250117T130000
DTEND;TZID=America/Los_Angeles:20250117T143000
DTSTAMP:20260424T034534
CREATED:20250104T182437Z
LAST-MODIFIED:20250104T184946Z
UID:10001668-1737118800-1737124200@seatoskyhospicesociety.ca
SUMMARY:Whistler Care Giver Support Group
DESCRIPTION:Whistler Caregiver Support Group: January 17th\, 1-2:30pm at the Whistler Public Library \nThis group provides caregivers with an opportunity to take a break\, share a cup of coffee and meet with other caregivers. All caregivers welcome\, regardless of the disease or disability of the person they are taking care of. Parents of young children who feel isolated or stressed are also welcome. \nWhistler Public Library Community Room \nNo cost and refreshments are provided. \nFollow up sessions to depend on attendance…  Registration encouraged but not required. Email Jody.Kramer@seatoskyhospicesociety.ca to register or for additional information\, please contact Dr. Valerie Whiffen at caregivers@whiffen.ca  \nPresented by the Sea to Sky Hospice Society\, Mature Action Committee of Whistler and the Whistler Public Library
URL:https://seatoskyhospicesociety.ca/event/whistler-care-giver-support-group-2/
LOCATION:Whistler Public Library\, 4329 Main St\,\, Whistler\, BC\, V8E 1B2\, Canada
CATEGORIES:Compassionate Communities
ATTACH;FMTTYPE=image/png:https://seatoskyhospicesociety.ca/wp-content/uploads/2025/01/feature-Whistler-Care-Giver-Support-Group.png
ORGANIZER;CN="Sea to Sky Hospice Society":MAILTO:info@seatoskyhospicesociety.ca
END:VEVENT
BEGIN:VEVENT
DTSTART;TZID=America/Los_Angeles:20250123T100000
DTEND;TZID=America/Los_Angeles:20250123T113000
DTSTAMP:20260424T034534
CREATED:20250318T164604Z
LAST-MODIFIED:20250318T164604Z
UID:10001694-1737626400-1737631800@seatoskyhospicesociety.ca
SUMMARY:Squamish Grief & Bereavement Walks
DESCRIPTION:Grief & Bereavement Walks: \nJoin us for a gentle forest walk where your grief is welcome. Whether your loss is recent or several anniversaries have passed\, our Hospice Volunteers will welcome you into this peer support group. Look for the Hospice-branded backpacks and/or hats. No registration required. \nThursday Mornings (10-11:30) January through June 2025: Meet at the Adventure Centre (Coffee chat at Cafe Garibaldi following the walk) \nTuesday evenings (6-7pm) meet at the Squamish Public Library \nFor Questions and Registration:  jody.kramer@seatoskyhospicesociety.ca / 604-892-6051\, ext 5
URL:https://seatoskyhospicesociety.ca/event/squamish-grief-bereavement-walks/2025-01-23/
LOCATION:Squamish Adventure Centre\, 38551 Loggers Lane\, Squamish\, BC\, V8B 0H2\, Canada
CATEGORIES:Bereavement
ATTACH;FMTTYPE=image/png:https://seatoskyhospicesociety.ca/wp-content/uploads/2025/03/walking-group-web-image.png
ORGANIZER;CN="Sea to Sky Hospice Society":MAILTO:info@seatoskyhospicesociety.ca
END:VEVENT
BEGIN:VEVENT
DTSTART;TZID=America/Los_Angeles:20250123T173000
DTEND;TZID=America/Los_Angeles:20250123T183000
DTSTAMP:20260424T034534
CREATED:20241218T232306Z
LAST-MODIFIED:20241218T232306Z
UID:10001663-1737653400-1737657000@seatoskyhospicesociety.ca
SUMMARY:Whistler Grief and Loss Conversations
DESCRIPTION:  \nAre you in need of support?  Please join us for our in person Grief and Loss Conversations in Whistler. \nIn partnership with the Whistler Community Services\, these drop in sessions will begin Thursday evenings\, January 9 – February 13 from 5:30 – 6:30 pm in the Whister Public Library. \nFor questions or additional information\, please contact Shalissa Forestell at shalissa@mywcss.org \n  \n 
URL:https://seatoskyhospicesociety.ca/event/whistler-grief-and-loss-conversations/2025-01-23/
LOCATION:Whistler Public Library\, 4329 Main St\,\, Whistler\, BC\, V8E 1B2\, Canada
CATEGORIES:Bereavement
ATTACH;FMTTYPE=image/png:https://seatoskyhospicesociety.ca/wp-content/uploads/2024/12/whistler-grief-loss-event-feature.png
ORGANIZER;CN="Sea to Sky Hospice Society":MAILTO:info@seatoskyhospicesociety.ca
END:VEVENT
BEGIN:VEVENT
DTSTART;TZID=America/Los_Angeles:20250123T180000
DTEND;TZID=America/Los_Angeles:20250123T193000
DTSTAMP:20260424T034534
CREATED:20241216T200930Z
LAST-MODIFIED:20241216T221207Z
UID:10001642-1737655200-1737660600@seatoskyhospicesociety.ca
SUMMARY:Grief and Bereavement Conversations
DESCRIPTION:Join Us for 8-Week Evening Sessions \nStarting January 16th through March 6th\, we invite you to attend our weekly evening sessions every Thursday from 6:00 PM to 7:30 PM\, in the Hospice Society Program Room. \n\nDates: January 16th – March 6th\nTime: Thursdays\, 6:00 PM – 7:30 PM\nLocation: Hospice Society Program Room\nDrop-ins Welcome: Registration is highly encouraged for a better experience.\n\nWe look forward to seeing you there! \nPlease email jody.kramer@seatoskyhospicesociety.ca to get directions and/or register. \nDrop-ins are welcome but registration is highly encouraged.
URL:https://seatoskyhospicesociety.ca/event/grief-and-bereavement-conversations/2025-01-23/
LOCATION:Hospice Society Program Room\, 38140 Behrner Drive\, Squamish\, BC V8B 0J3\, 38140 Behrner Drive\, Squamish\, British Columbia\, V8B 0J3\, Canada
CATEGORIES:Bereavement
ATTACH;FMTTYPE=image/png:https://seatoskyhospicesociety.ca/wp-content/uploads/2024/12/griefloss.png
ORGANIZER;CN="Sea to Sky Hospice Society":MAILTO:info@seatoskyhospicesociety.ca
END:VEVENT
BEGIN:VEVENT
DTSTART;TZID=America/Los_Angeles:20250124T120000
DTEND;TZID=America/Los_Angeles:20250124T130000
DTSTAMP:20260424T034534
CREATED:20241217T010659Z
LAST-MODIFIED:20241217T010659Z
UID:10001651-1737720000-1737723600@seatoskyhospicesociety.ca
SUMMARY:Online Grief & Bereavement Conversations
DESCRIPTION:Online  Grief and Bereavement Conversations with Carolyn Green\, each Friday beginning January 10th and running through February 28th. \nThese supportive one hour sessions begin at 12 pm and last one hour\, ending at 1 pm. \nPlease email Jody.Kramer@seatoskyhospicesociety.ca to register and receive a zoom link. \n 
URL:https://seatoskyhospicesociety.ca/event/online-grief-bereavement-conversations/2025-01-24/
LOCATION:Online – contact Jody to register\, Canada
CATEGORIES:Bereavement
ATTACH;FMTTYPE=image/png:https://seatoskyhospicesociety.ca/wp-content/uploads/2024/12/online-grief-berevement-conversations-web-version.png
ORGANIZER;CN="Sea to Sky Hospice Society":MAILTO:info@seatoskyhospicesociety.ca
END:VEVENT
BEGIN:VEVENT
DTSTART;TZID=America/Los_Angeles:20250128T114500
DTEND;TZID=America/Los_Angeles:20250128T131500
DTSTAMP:20260424T034534
CREATED:20250104T190208Z
LAST-MODIFIED:20250104T190208Z
UID:10001669-1738064700-1738070100@seatoskyhospicesociety.ca
SUMMARY:Squamish Caregiver Support Group
DESCRIPTION:Squamish Caregiver Support Group \nFor the Caregivers in the area\, we are offering this supportive group once a month beginning Tuesday January 28\, February 25\, and March 25 \nFrom 11:45am to 1:15pm\, at the Westwinds multipurpose room. \nRegistration encouraged but not required! \nEmail Jody.Kramer@seatoskyhospicesociety.ca with any questions.
URL:https://seatoskyhospicesociety.ca/event/squamish-caregiver-support-group/2025-01-28/
LOCATION:Westwinds\, 38275 3 Ave.\, Squamish\, BC\, V8B 0Z6\, Canada
CATEGORIES:Compassionate Communities
ATTACH;FMTTYPE=image/png:https://seatoskyhospicesociety.ca/wp-content/uploads/2025/01/feature-Squamish-Care-Giver-Support-Group.png
ORGANIZER;CN="Sea to Sky Hospice Society":MAILTO:info@seatoskyhospicesociety.ca
END:VEVENT
BEGIN:VEVENT
DTSTART;TZID=America/Los_Angeles:20250130T100000
DTEND;TZID=America/Los_Angeles:20250130T113000
DTSTAMP:20260424T034534
CREATED:20250318T164604Z
LAST-MODIFIED:20250318T164604Z
UID:10001695-1738231200-1738236600@seatoskyhospicesociety.ca
SUMMARY:Squamish Grief & Bereavement Walks
DESCRIPTION:Grief & Bereavement Walks: \nJoin us for a gentle forest walk where your grief is welcome. Whether your loss is recent or several anniversaries have passed\, our Hospice Volunteers will welcome you into this peer support group. Look for the Hospice-branded backpacks and/or hats. No registration required. \nThursday Mornings (10-11:30) January through June 2025: Meet at the Adventure Centre (Coffee chat at Cafe Garibaldi following the walk) \nTuesday evenings (6-7pm) meet at the Squamish Public Library \nFor Questions and Registration:  jody.kramer@seatoskyhospicesociety.ca / 604-892-6051\, ext 5
URL:https://seatoskyhospicesociety.ca/event/squamish-grief-bereavement-walks/2025-01-30/
LOCATION:Squamish Adventure Centre\, 38551 Loggers Lane\, Squamish\, BC\, V8B 0H2\, Canada
CATEGORIES:Bereavement
ATTACH;FMTTYPE=image/png:https://seatoskyhospicesociety.ca/wp-content/uploads/2025/03/walking-group-web-image.png
ORGANIZER;CN="Sea to Sky Hospice Society":MAILTO:info@seatoskyhospicesociety.ca
END:VEVENT
BEGIN:VEVENT
DTSTART;TZID=America/Los_Angeles:20250130T173000
DTEND;TZID=America/Los_Angeles:20250130T183000
DTSTAMP:20260424T034534
CREATED:20241218T232306Z
LAST-MODIFIED:20241218T232306Z
UID:10001664-1738258200-1738261800@seatoskyhospicesociety.ca
SUMMARY:Whistler Grief and Loss Conversations
DESCRIPTION:  \nAre you in need of support?  Please join us for our in person Grief and Loss Conversations in Whistler. \nIn partnership with the Whistler Community Services\, these drop in sessions will begin Thursday evenings\, January 9 – February 13 from 5:30 – 6:30 pm in the Whister Public Library. \nFor questions or additional information\, please contact Shalissa Forestell at shalissa@mywcss.org \n  \n 
URL:https://seatoskyhospicesociety.ca/event/whistler-grief-and-loss-conversations/2025-01-30/
LOCATION:Whistler Public Library\, 4329 Main St\,\, Whistler\, BC\, V8E 1B2\, Canada
CATEGORIES:Bereavement
ATTACH;FMTTYPE=image/png:https://seatoskyhospicesociety.ca/wp-content/uploads/2024/12/whistler-grief-loss-event-feature.png
ORGANIZER;CN="Sea to Sky Hospice Society":MAILTO:info@seatoskyhospicesociety.ca
END:VEVENT
BEGIN:VEVENT
DTSTART;TZID=America/Los_Angeles:20250130T180000
DTEND;TZID=America/Los_Angeles:20250130T193000
DTSTAMP:20260424T034534
CREATED:20241216T200930Z
LAST-MODIFIED:20241216T221207Z
UID:10001643-1738260000-1738265400@seatoskyhospicesociety.ca
SUMMARY:Grief and Bereavement Conversations
DESCRIPTION:Join Us for 8-Week Evening Sessions \nStarting January 16th through March 6th\, we invite you to attend our weekly evening sessions every Thursday from 6:00 PM to 7:30 PM\, in the Hospice Society Program Room. \n\nDates: January 16th – March 6th\nTime: Thursdays\, 6:00 PM – 7:30 PM\nLocation: Hospice Society Program Room\nDrop-ins Welcome: Registration is highly encouraged for a better experience.\n\nWe look forward to seeing you there! \nPlease email jody.kramer@seatoskyhospicesociety.ca to get directions and/or register. \nDrop-ins are welcome but registration is highly encouraged.
URL:https://seatoskyhospicesociety.ca/event/grief-and-bereavement-conversations/2025-01-30/
LOCATION:Hospice Society Program Room\, 38140 Behrner Drive\, Squamish\, BC V8B 0J3\, 38140 Behrner Drive\, Squamish\, British Columbia\, V8B 0J3\, Canada
CATEGORIES:Bereavement
ATTACH;FMTTYPE=image/png:https://seatoskyhospicesociety.ca/wp-content/uploads/2024/12/griefloss.png
ORGANIZER;CN="Sea to Sky Hospice Society":MAILTO:info@seatoskyhospicesociety.ca
END:VEVENT
BEGIN:VEVENT
DTSTART;TZID=America/Los_Angeles:20250130T180000
DTEND;TZID=America/Los_Angeles:20250130T193000
DTSTAMP:20260424T034534
CREATED:20241218T205801Z
LAST-MODIFIED:20241218T205801Z
UID:10001657-1738260000-1738265400@seatoskyhospicesociety.ca
SUMMARY:Grief and Loss through Art Exploration
DESCRIPTION:THIS SERIES IS NOW FULL. Please check back in February for dates of the next sessions. \nJoin us for a 4 – week\, Thursday evening program. \nStarting January 30 – February 20 \nThursdays 6:00 – 7:30 pm \nHeld at the 55 Activity Centre
URL:https://seatoskyhospicesociety.ca/event/grief-and-loss-through-art-exploration/2025-01-30/
LOCATION:55 Activity Centre\, 1201 Village Way\, Squamish\, BC\, V8B 0R7\, Canada
CATEGORIES:Bereavement
ATTACH;FMTTYPE=image/png:https://seatoskyhospicesociety.ca/wp-content/uploads/2024/12/Grief-and-Loss-through-Art-Exploration-web-feature.png
ORGANIZER;CN="Sea to Sky Hospice Society":MAILTO:info@seatoskyhospicesociety.ca
END:VEVENT
BEGIN:VEVENT
DTSTART;TZID=America/Los_Angeles:20250131T120000
DTEND;TZID=America/Los_Angeles:20250131T130000
DTSTAMP:20260424T034534
CREATED:20241217T010659Z
LAST-MODIFIED:20241217T010659Z
UID:10001652-1738324800-1738328400@seatoskyhospicesociety.ca
SUMMARY:Online Grief & Bereavement Conversations
DESCRIPTION:Online  Grief and Bereavement Conversations with Carolyn Green\, each Friday beginning January 10th and running through February 28th. \nThese supportive one hour sessions begin at 12 pm and last one hour\, ending at 1 pm. \nPlease email Jody.Kramer@seatoskyhospicesociety.ca to register and receive a zoom link. \n 
URL:https://seatoskyhospicesociety.ca/event/online-grief-bereavement-conversations/2025-01-31/
LOCATION:Online – contact Jody to register\, Canada
CATEGORIES:Bereavement
ATTACH;FMTTYPE=image/png:https://seatoskyhospicesociety.ca/wp-content/uploads/2024/12/online-grief-berevement-conversations-web-version.png
ORGANIZER;CN="Sea to Sky Hospice Society":MAILTO:info@seatoskyhospicesociety.ca
END:VEVENT
END:VCALENDAR