BEGIN:VCALENDAR
VERSION:2.0
PRODID:-//Sea to Sky Hospice Society - ECPv6.15.12.2//NONSGML v1.0//EN
CALSCALE:GREGORIAN
METHOD:PUBLISH
X-ORIGINAL-URL:https://seatoskyhospicesociety.ca
X-WR-CALDESC:Events for Sea to Sky Hospice Society
REFRESH-INTERVAL;VALUE=DURATION:PT1H
X-Robots-Tag:noindex
X-PUBLISHED-TTL:PT1H
BEGIN:VTIMEZONE
TZID:America/Los_Angeles
BEGIN:DAYLIGHT
TZOFFSETFROM:-0800
TZOFFSETTO:-0700
TZNAME:PDT
DTSTART:20230312T100000
END:DAYLIGHT
BEGIN:STANDARD
TZOFFSETFROM:-0700
TZOFFSETTO:-0800
TZNAME:PST
DTSTART:20231105T090000
END:STANDARD
BEGIN:DAYLIGHT
TZOFFSETFROM:-0800
TZOFFSETTO:-0700
TZNAME:PDT
DTSTART:20240310T100000
END:DAYLIGHT
BEGIN:STANDARD
TZOFFSETFROM:-0700
TZOFFSETTO:-0800
TZNAME:PST
DTSTART:20241103T090000
END:STANDARD
BEGIN:DAYLIGHT
TZOFFSETFROM:-0800
TZOFFSETTO:-0700
TZNAME:PDT
DTSTART:20250309T100000
END:DAYLIGHT
BEGIN:STANDARD
TZOFFSETFROM:-0700
TZOFFSETTO:-0800
TZNAME:PST
DTSTART:20251102T090000
END:STANDARD
END:VTIMEZONE
BEGIN:VEVENT
DTSTART;TZID=America/Los_Angeles:20241101T130000
DTEND;TZID=America/Los_Angeles:20241101T143000
DTSTAMP:20260424T063812
CREATED:20240828T231253Z
LAST-MODIFIED:20241216T210909Z
UID:10000945-1730466000-1730471400@seatoskyhospicesociety.ca
SUMMARY:Whistler Care Giver Support Group
DESCRIPTION:This group provides caregivers with an opportunity to take a break\, share a cup of coffee and meet with other caregivers. All caregivers welcome\, regardless of the disease or disability of the person they are taking care of. Parents of young children who feel isolated or stressed are also welcome. \nFirst and third Friday of every month 1 – 2:30pm every month. \nWhistler Public Library Community Room \nNo cost and refreshments are provided. \nRegistration is required as space is limited. \nEmail publicservices@whistlerlibrary.ca to sign up. \nFor additional information\, please contact Dr. Valerie Whiffen at caregivers@whiffen.ca \nPresented by the Sea to Sky Hospice Society\, Mature Action Committee of Whistler\, Whistler Public Library\, and the Whistler Community Services Society
URL:https://seatoskyhospicesociety.ca/event/whistler-care-giver-support-group/2024-11-01/
LOCATION:Whistler Public Library\, 4329 Main St\,\, Whistler\, BC\, V8E 1B2\, Canada
CATEGORIES:Compassionate Communities
ATTACH;FMTTYPE=image/jpeg:https://seatoskyhospicesociety.ca/wp-content/uploads/2024/08/caregiver-support-group-1.jpg
ORGANIZER;CN="Sea to Sky Hospice Society":MAILTO:info@seatoskyhospicesociety.ca
END:VEVENT
BEGIN:VEVENT
DTSTART;TZID=America/Los_Angeles:20241106T183000
DTEND;TZID=America/Los_Angeles:20241106T203000
DTSTAMP:20260424T063813
CREATED:20241214T002417Z
LAST-MODIFIED:20241216T193943Z
UID:10001250-1730917800-1730925000@seatoskyhospicesociety.ca
SUMMARY:Grief and Loss Art Therapy Workshop
DESCRIPTION:Join us for our Grief and Loss Art Therapy workshop series. \nThis 4 week program is for adults anticipating or grieving the loss of a loved one. When there are no words\, art and creative expression may be supportive. \nNo previous art experience necessary! \nRegistration is required\, (no drop-ins) \n6:30 – 8:30 pm\, November 6th – November 27th . \n55 Activity Centre \nFacilitated by volunteers – (Art Therapist Student and Sea to Sky Hospice Society Volunteer) \nThis Group is now full\, please contact the email below to be notified about the next one in the new year. \nFor more information\, please email Bereavement@seatoskyhospicesociety.ca \n 
URL:https://seatoskyhospicesociety.ca/event/grief-and-loss-art-therapy-workshop-2/2024-11-06/
LOCATION:55 Activity Centre\, 1201 Village Way\, Squamish\, BC\, V8B 0R7\, Canada
CATEGORIES:Bereavement
ATTACH;FMTTYPE=image/jpeg:https://seatoskyhospicesociety.ca/wp-content/uploads/2024/08/grief-loass-art-web.jpg
ORGANIZER;CN="Sea to Sky Hospice Society":MAILTO:info@seatoskyhospicesociety.ca
END:VEVENT
BEGIN:VEVENT
DTSTART;TZID=America/Los_Angeles:20241107T100000
DTEND;TZID=America/Los_Angeles:20241107T110000
DTSTAMP:20260424T063813
CREATED:20240820T232925Z
LAST-MODIFIED:20241214T002614Z
UID:10000822-1730973600-1730977200@seatoskyhospicesociety.ca
SUMMARY:The Fall Drop In Grief Walks are Beginning Soon!
DESCRIPTION:The Fall Drop In Grief and Bereavement Walking Group is beginning Thursday\, September 5th. \nLed by experienced volunteer facilitators\, this walk is a support group for those who have lost a loved one and are experiencing grief\, offering a supportive space to talk and share while taking a gentle walk in the company of others. \nThese walks occur every Thursday beginning September 5th and run through November 28th. \nMeet on the steps outside the Squamish Adventure Centre at 10am for an hour. \nLook for the volunteer with the Sea to Sky Hospice Society backpack. \nNo preregistration necessary.
URL:https://seatoskyhospicesociety.ca/event/the-fall-drop-in-grief-walks-are-beginning-soon/2024-11-07/
CATEGORIES:Bereavement
ATTACH;FMTTYPE=image/jpeg:https://seatoskyhospicesociety.ca/wp-content/uploads/2024/08/fall-dropin-walking-group.jpg
ORGANIZER;CN="Sea to Sky Hospice Society":MAILTO:info@seatoskyhospicesociety.ca
END:VEVENT
BEGIN:VEVENT
DTSTART;TZID=America/Los_Angeles:20241107T170000
DTEND;TZID=America/Los_Angeles:20241107T180000
DTSTAMP:20260424T063813
CREATED:20241214T005125Z
LAST-MODIFIED:20241216T194430Z
UID:10001579-1730998800-1731002400@seatoskyhospicesociety.ca
SUMMARY:Online Grief and Loss Support Group
DESCRIPTION:Are you in need of support to assist you with your grief or loss? Join Carolyn for this online weekly group. \nThis is an 8 – week online Grief and Loss Conversation Group\, led by highly skilled Hospice Volunteer Caroly Green. \nIt takes place Thursday evenings from 5-6 pm\, beginning October 3rd and running through November 28th. \nThe meetings will be held on Zoom. \nEmail Jody.Kramer@seatoskyhospicesociety.ca to register or for more information.
URL:https://seatoskyhospicesociety.ca/event/online-grief-and-loss-support-group-2-2/2024-11-07/
LOCATION:By Zoom
CATEGORIES:Bereavement
ATTACH;FMTTYPE=image/jpeg:https://seatoskyhospicesociety.ca/wp-content/uploads/2024/09/online-grief-loss-web.jpg
ORGANIZER;CN="Sea to Sky Hospice Society":MAILTO:info@seatoskyhospicesociety.ca
END:VEVENT
BEGIN:VEVENT
DTSTART;TZID=America/Los_Angeles:20241113T183000
DTEND;TZID=America/Los_Angeles:20241113T203000
DTSTAMP:20260424T063813
CREATED:20241214T002417Z
LAST-MODIFIED:20241216T193943Z
UID:10001586-1731522600-1731529800@seatoskyhospicesociety.ca
SUMMARY:Grief and Loss Art Therapy Workshop
DESCRIPTION:Join us for our Grief and Loss Art Therapy workshop series. \nThis 4 week program is for adults anticipating or grieving the loss of a loved one. When there are no words\, art and creative expression may be supportive. \nNo previous art experience necessary! \nRegistration is required\, (no drop-ins) \n6:30 – 8:30 pm\, November 6th – November 27th . \n55 Activity Centre \nFacilitated by volunteers – (Art Therapist Student and Sea to Sky Hospice Society Volunteer) \nThis Group is now full\, please contact the email below to be notified about the next one in the new year. \nFor more information\, please email Bereavement@seatoskyhospicesociety.ca \n 
URL:https://seatoskyhospicesociety.ca/event/grief-and-loss-art-therapy-workshop-2/2024-11-13/
LOCATION:55 Activity Centre\, 1201 Village Way\, Squamish\, BC\, V8B 0R7\, Canada
CATEGORIES:Bereavement
ATTACH;FMTTYPE=image/jpeg:https://seatoskyhospicesociety.ca/wp-content/uploads/2024/08/grief-loass-art-web.jpg
ORGANIZER;CN="Sea to Sky Hospice Society":MAILTO:info@seatoskyhospicesociety.ca
END:VEVENT
BEGIN:VEVENT
DTSTART;TZID=America/Los_Angeles:20241114T100000
DTEND;TZID=America/Los_Angeles:20241114T110000
DTSTAMP:20260424T063813
CREATED:20240820T232925Z
LAST-MODIFIED:20241214T002614Z
UID:10000823-1731578400-1731582000@seatoskyhospicesociety.ca
SUMMARY:The Fall Drop In Grief Walks are Beginning Soon!
DESCRIPTION:The Fall Drop In Grief and Bereavement Walking Group is beginning Thursday\, September 5th. \nLed by experienced volunteer facilitators\, this walk is a support group for those who have lost a loved one and are experiencing grief\, offering a supportive space to talk and share while taking a gentle walk in the company of others. \nThese walks occur every Thursday beginning September 5th and run through November 28th. \nMeet on the steps outside the Squamish Adventure Centre at 10am for an hour. \nLook for the volunteer with the Sea to Sky Hospice Society backpack. \nNo preregistration necessary.
URL:https://seatoskyhospicesociety.ca/event/the-fall-drop-in-grief-walks-are-beginning-soon/2024-11-14/
CATEGORIES:Bereavement
ATTACH;FMTTYPE=image/jpeg:https://seatoskyhospicesociety.ca/wp-content/uploads/2024/08/fall-dropin-walking-group.jpg
ORGANIZER;CN="Sea to Sky Hospice Society":MAILTO:info@seatoskyhospicesociety.ca
END:VEVENT
BEGIN:VEVENT
DTSTART;TZID=America/Los_Angeles:20241114T170000
DTEND;TZID=America/Los_Angeles:20241114T180000
DTSTAMP:20260424T063813
CREATED:20241214T005125Z
LAST-MODIFIED:20241216T194430Z
UID:10001580-1731603600-1731607200@seatoskyhospicesociety.ca
SUMMARY:Online Grief and Loss Support Group
DESCRIPTION:Are you in need of support to assist you with your grief or loss? Join Carolyn for this online weekly group. \nThis is an 8 – week online Grief and Loss Conversation Group\, led by highly skilled Hospice Volunteer Caroly Green. \nIt takes place Thursday evenings from 5-6 pm\, beginning October 3rd and running through November 28th. \nThe meetings will be held on Zoom. \nEmail Jody.Kramer@seatoskyhospicesociety.ca to register or for more information.
URL:https://seatoskyhospicesociety.ca/event/online-grief-and-loss-support-group-2-2/2024-11-14/
LOCATION:By Zoom
CATEGORIES:Bereavement
ATTACH;FMTTYPE=image/jpeg:https://seatoskyhospicesociety.ca/wp-content/uploads/2024/09/online-grief-loss-web.jpg
ORGANIZER;CN="Sea to Sky Hospice Society":MAILTO:info@seatoskyhospicesociety.ca
END:VEVENT
BEGIN:VEVENT
DTSTART;TZID=America/Los_Angeles:20241120T183000
DTEND;TZID=America/Los_Angeles:20241120T203000
DTSTAMP:20260424T063813
CREATED:20241214T002417Z
LAST-MODIFIED:20241216T193943Z
UID:10001587-1732127400-1732134600@seatoskyhospicesociety.ca
SUMMARY:Grief and Loss Art Therapy Workshop
DESCRIPTION:Join us for our Grief and Loss Art Therapy workshop series. \nThis 4 week program is for adults anticipating or grieving the loss of a loved one. When there are no words\, art and creative expression may be supportive. \nNo previous art experience necessary! \nRegistration is required\, (no drop-ins) \n6:30 – 8:30 pm\, November 6th – November 27th . \n55 Activity Centre \nFacilitated by volunteers – (Art Therapist Student and Sea to Sky Hospice Society Volunteer) \nThis Group is now full\, please contact the email below to be notified about the next one in the new year. \nFor more information\, please email Bereavement@seatoskyhospicesociety.ca \n 
URL:https://seatoskyhospicesociety.ca/event/grief-and-loss-art-therapy-workshop-2/2024-11-20/
LOCATION:55 Activity Centre\, 1201 Village Way\, Squamish\, BC\, V8B 0R7\, Canada
CATEGORIES:Bereavement
ATTACH;FMTTYPE=image/jpeg:https://seatoskyhospicesociety.ca/wp-content/uploads/2024/08/grief-loass-art-web.jpg
ORGANIZER;CN="Sea to Sky Hospice Society":MAILTO:info@seatoskyhospicesociety.ca
END:VEVENT
BEGIN:VEVENT
DTSTART;TZID=America/Los_Angeles:20241121T100000
DTEND;TZID=America/Los_Angeles:20241121T110000
DTSTAMP:20260424T063813
CREATED:20240820T232925Z
LAST-MODIFIED:20241214T002614Z
UID:10000824-1732183200-1732186800@seatoskyhospicesociety.ca
SUMMARY:The Fall Drop In Grief Walks are Beginning Soon!
DESCRIPTION:The Fall Drop In Grief and Bereavement Walking Group is beginning Thursday\, September 5th. \nLed by experienced volunteer facilitators\, this walk is a support group for those who have lost a loved one and are experiencing grief\, offering a supportive space to talk and share while taking a gentle walk in the company of others. \nThese walks occur every Thursday beginning September 5th and run through November 28th. \nMeet on the steps outside the Squamish Adventure Centre at 10am for an hour. \nLook for the volunteer with the Sea to Sky Hospice Society backpack. \nNo preregistration necessary.
URL:https://seatoskyhospicesociety.ca/event/the-fall-drop-in-grief-walks-are-beginning-soon/2024-11-21/
CATEGORIES:Bereavement
ATTACH;FMTTYPE=image/jpeg:https://seatoskyhospicesociety.ca/wp-content/uploads/2024/08/fall-dropin-walking-group.jpg
ORGANIZER;CN="Sea to Sky Hospice Society":MAILTO:info@seatoskyhospicesociety.ca
END:VEVENT
BEGIN:VEVENT
DTSTART;TZID=America/Los_Angeles:20241121T170000
DTEND;TZID=America/Los_Angeles:20241121T180000
DTSTAMP:20260424T063813
CREATED:20241214T005125Z
LAST-MODIFIED:20241216T194430Z
UID:10001581-1732208400-1732212000@seatoskyhospicesociety.ca
SUMMARY:Online Grief and Loss Support Group
DESCRIPTION:Are you in need of support to assist you with your grief or loss? Join Carolyn for this online weekly group. \nThis is an 8 – week online Grief and Loss Conversation Group\, led by highly skilled Hospice Volunteer Caroly Green. \nIt takes place Thursday evenings from 5-6 pm\, beginning October 3rd and running through November 28th. \nThe meetings will be held on Zoom. \nEmail Jody.Kramer@seatoskyhospicesociety.ca to register or for more information.
URL:https://seatoskyhospicesociety.ca/event/online-grief-and-loss-support-group-2-2/2024-11-21/
LOCATION:By Zoom
CATEGORIES:Bereavement
ATTACH;FMTTYPE=image/jpeg:https://seatoskyhospicesociety.ca/wp-content/uploads/2024/09/online-grief-loss-web.jpg
ORGANIZER;CN="Sea to Sky Hospice Society":MAILTO:info@seatoskyhospicesociety.ca
END:VEVENT
BEGIN:VEVENT
DTSTART;TZID=America/Los_Angeles:20241126T113000
DTEND;TZID=America/Los_Angeles:20241126T133000
DTSTAMP:20260424T063813
CREATED:20240918T220446Z
LAST-MODIFIED:20241216T194234Z
UID:10001303-1732620600-1732627800@seatoskyhospicesociety.ca
SUMMARY:Squamish Monthly Care Giver Support Group
DESCRIPTION:Caregiving can be challenging\, but you don’t have to do it alone. Our Caregiver Support Group provides practical and emotional support from trained volunteers in a welcoming space where you can connect with others. Join us one Tuesday a month at Westwinds\, 38275 3rd Ave\, Squamish from 11:30 AM – 1:30 PM.\n\n\n \n\n\nDates:\n\n\nTuesday\, September 24th\n\n\nTuesday\, October 29th\n\n\nTuesday\, November 26th\n\n\n \n\n\nDrop in and find support\, share experiences\, and socialize with fellow caregivers.\n\n\n \n\n\nFor more information\, contact: Jody Kramer\, Client Services Coordinator\n\n\n778-319-7934 | jody.kramer@seatoskyhospicesociety.ca
URL:https://seatoskyhospicesociety.ca/event/squamish-monthly-care-giver-support-group/2024-11-26/
LOCATION:Westwinds\, 38275 3 Ave.\, Squamish\, BC\, V8B 0Z6\, Canada
ATTACH;FMTTYPE=image/jpeg:https://seatoskyhospicesociety.ca/wp-content/uploads/2024/09/care-giver-support.jpg
ORGANIZER;CN="Sea to Sky Hospice Society":MAILTO:info@seatoskyhospicesociety.ca
END:VEVENT
BEGIN:VEVENT
DTSTART;TZID=America/Los_Angeles:20241127T183000
DTEND;TZID=America/Los_Angeles:20241127T203000
DTSTAMP:20260424T063813
CREATED:20241214T002417Z
LAST-MODIFIED:20241216T193943Z
UID:10001588-1732732200-1732739400@seatoskyhospicesociety.ca
SUMMARY:Grief and Loss Art Therapy Workshop
DESCRIPTION:Join us for our Grief and Loss Art Therapy workshop series. \nThis 4 week program is for adults anticipating or grieving the loss of a loved one. When there are no words\, art and creative expression may be supportive. \nNo previous art experience necessary! \nRegistration is required\, (no drop-ins) \n6:30 – 8:30 pm\, November 6th – November 27th . \n55 Activity Centre \nFacilitated by volunteers – (Art Therapist Student and Sea to Sky Hospice Society Volunteer) \nThis Group is now full\, please contact the email below to be notified about the next one in the new year. \nFor more information\, please email Bereavement@seatoskyhospicesociety.ca \n 
URL:https://seatoskyhospicesociety.ca/event/grief-and-loss-art-therapy-workshop-2/2024-11-27/
LOCATION:55 Activity Centre\, 1201 Village Way\, Squamish\, BC\, V8B 0R7\, Canada
CATEGORIES:Bereavement
ATTACH;FMTTYPE=image/jpeg:https://seatoskyhospicesociety.ca/wp-content/uploads/2024/08/grief-loass-art-web.jpg
ORGANIZER;CN="Sea to Sky Hospice Society":MAILTO:info@seatoskyhospicesociety.ca
END:VEVENT
BEGIN:VEVENT
DTSTART;TZID=America/Los_Angeles:20241128T100000
DTEND;TZID=America/Los_Angeles:20241128T110000
DTSTAMP:20260424T063813
CREATED:20240820T232925Z
LAST-MODIFIED:20241214T002614Z
UID:10000825-1732788000-1732791600@seatoskyhospicesociety.ca
SUMMARY:The Fall Drop In Grief Walks are Beginning Soon!
DESCRIPTION:The Fall Drop In Grief and Bereavement Walking Group is beginning Thursday\, September 5th. \nLed by experienced volunteer facilitators\, this walk is a support group for those who have lost a loved one and are experiencing grief\, offering a supportive space to talk and share while taking a gentle walk in the company of others. \nThese walks occur every Thursday beginning September 5th and run through November 28th. \nMeet on the steps outside the Squamish Adventure Centre at 10am for an hour. \nLook for the volunteer with the Sea to Sky Hospice Society backpack. \nNo preregistration necessary.
URL:https://seatoskyhospicesociety.ca/event/the-fall-drop-in-grief-walks-are-beginning-soon/2024-11-28/
CATEGORIES:Bereavement
ATTACH;FMTTYPE=image/jpeg:https://seatoskyhospicesociety.ca/wp-content/uploads/2024/08/fall-dropin-walking-group.jpg
ORGANIZER;CN="Sea to Sky Hospice Society":MAILTO:info@seatoskyhospicesociety.ca
END:VEVENT
BEGIN:VEVENT
DTSTART;TZID=America/Los_Angeles:20241128T170000
DTEND;TZID=America/Los_Angeles:20241128T180000
DTSTAMP:20260424T063813
CREATED:20241214T005125Z
LAST-MODIFIED:20241216T194430Z
UID:10001582-1732813200-1732816800@seatoskyhospicesociety.ca
SUMMARY:Online Grief and Loss Support Group
DESCRIPTION:Are you in need of support to assist you with your grief or loss? Join Carolyn for this online weekly group. \nThis is an 8 – week online Grief and Loss Conversation Group\, led by highly skilled Hospice Volunteer Caroly Green. \nIt takes place Thursday evenings from 5-6 pm\, beginning October 3rd and running through November 28th. \nThe meetings will be held on Zoom. \nEmail Jody.Kramer@seatoskyhospicesociety.ca to register or for more information.
URL:https://seatoskyhospicesociety.ca/event/online-grief-and-loss-support-group-2-2/2024-11-28/
LOCATION:By Zoom
CATEGORIES:Bereavement
ATTACH;FMTTYPE=image/jpeg:https://seatoskyhospicesociety.ca/wp-content/uploads/2024/09/online-grief-loss-web.jpg
ORGANIZER;CN="Sea to Sky Hospice Society":MAILTO:info@seatoskyhospicesociety.ca
END:VEVENT
BEGIN:VEVENT
DTSTART;TZID=America/Los_Angeles:20241129T170000
DTEND;TZID=America/Los_Angeles:20241129T180000
DTSTAMP:20260424T063813
CREATED:20241106T210225Z
LAST-MODIFIED:20241107T173153Z
UID:10001367-1732899600-1732903200@seatoskyhospicesociety.ca
SUMMARY:12th Annual Memory Tree Event
DESCRIPTION:Share a tradition and gather in community for the 12th annual Memory Tree Event. \nThe holidays can prove to be a difficult time of year for anyone grieving. Take time to honour your loved ones that are with us in spirit\, during this evening of love and light. This gathering will be a supportive community event. There will be a candle lighting ceremony\, and a brief memorial for those grieving the death of a loved one. \nCeremony begins at 5:15 pm\, Friday\, November 29th\, at the Squamish Town Hub (behind Cloudburst Cafe). \nCo-hosted by the Sea to Sky Hospice Society and the Squamish Funeral Chapel. \nWe would like acknowledge the generous support of Home Depot for the trees\, our amazing volunteers for installing the lights and to Cloudburst Cafe for the delicious hot chocolate! Thank you\, your support means so much to us! \n 
URL:https://seatoskyhospicesociety.ca/event/12th-annual-memory-tree-event/
LOCATION:Squamish Town Hub\, 1861 Mamquam Rd.\, Squamish\, BC\, V8B 0G2\, Canada
CATEGORIES:Bereavement
ATTACH;FMTTYPE=image/png:https://seatoskyhospicesociety.ca/wp-content/uploads/2024/11/memory-tree.png
ORGANIZER;CN="Sea to Sky Hospice Society":MAILTO:info@seatoskyhospicesociety.ca
END:VEVENT
END:VCALENDAR