BEGIN:VCALENDAR
VERSION:2.0
PRODID:-//Sea to Sky Hospice Society - ECPv6.15.12.2//NONSGML v1.0//EN
CALSCALE:GREGORIAN
METHOD:PUBLISH
X-ORIGINAL-URL:https://seatoskyhospicesociety.ca
X-WR-CALDESC:Events for Sea to Sky Hospice Society
REFRESH-INTERVAL;VALUE=DURATION:PT1H
X-Robots-Tag:noindex
X-PUBLISHED-TTL:PT1H
BEGIN:VTIMEZONE
TZID:America/Los_Angeles
BEGIN:DAYLIGHT
TZOFFSETFROM:-0800
TZOFFSETTO:-0700
TZNAME:PDT
DTSTART:20230312T100000
END:DAYLIGHT
BEGIN:STANDARD
TZOFFSETFROM:-0700
TZOFFSETTO:-0800
TZNAME:PST
DTSTART:20231105T090000
END:STANDARD
BEGIN:DAYLIGHT
TZOFFSETFROM:-0800
TZOFFSETTO:-0700
TZNAME:PDT
DTSTART:20240310T100000
END:DAYLIGHT
BEGIN:STANDARD
TZOFFSETFROM:-0700
TZOFFSETTO:-0800
TZNAME:PST
DTSTART:20241103T090000
END:STANDARD
BEGIN:DAYLIGHT
TZOFFSETFROM:-0800
TZOFFSETTO:-0700
TZNAME:PDT
DTSTART:20250309T100000
END:DAYLIGHT
BEGIN:STANDARD
TZOFFSETFROM:-0700
TZOFFSETTO:-0800
TZNAME:PST
DTSTART:20251102T090000
END:STANDARD
END:VTIMEZONE
BEGIN:VEVENT
DTSTART;TZID=America/Los_Angeles:20241003T100000
DTEND;TZID=America/Los_Angeles:20241003T110000
DTSTAMP:20260424T082823
CREATED:20240820T232925Z
LAST-MODIFIED:20241214T002614Z
UID:10000817-1727949600-1727953200@seatoskyhospicesociety.ca
SUMMARY:The Fall Drop In Grief Walks are Beginning Soon!
DESCRIPTION:The Fall Drop In Grief and Bereavement Walking Group is beginning Thursday\, September 5th. \nLed by experienced volunteer facilitators\, this walk is a support group for those who have lost a loved one and are experiencing grief\, offering a supportive space to talk and share while taking a gentle walk in the company of others. \nThese walks occur every Thursday beginning September 5th and run through November 28th. \nMeet on the steps outside the Squamish Adventure Centre at 10am for an hour. \nLook for the volunteer with the Sea to Sky Hospice Society backpack. \nNo preregistration necessary.
URL:https://seatoskyhospicesociety.ca/event/the-fall-drop-in-grief-walks-are-beginning-soon/2024-10-03/
CATEGORIES:Bereavement
ATTACH;FMTTYPE=image/jpeg:https://seatoskyhospicesociety.ca/wp-content/uploads/2024/08/fall-dropin-walking-group.jpg
ORGANIZER;CN="Sea to Sky Hospice Society":MAILTO:info@seatoskyhospicesociety.ca
END:VEVENT
BEGIN:VEVENT
DTSTART;TZID=America/Los_Angeles:20241003T113000
DTEND;TZID=America/Los_Angeles:20241003T123000
DTSTAMP:20260424T082823
CREATED:20240826T175544Z
LAST-MODIFIED:20241216T211117Z
UID:10000886-1727955000-1727958600@seatoskyhospicesociety.ca
SUMMARY:Whistler Weekly Bereavement Walk
DESCRIPTION:Spend time in the company of others on your grief and bereavement journey\, and all are welcome\, at any stage of your journey. \nWe will come together to walk\, rain or shine. \nThis is a drop in walk\, no pre-registration required. \nCo- Sponsored by the Whistler Community Services Society & the Sea to Sky Hospice Society \nFor more information please contact Shalissa Forestell – shalissa@mywcss.org \n 
URL:https://seatoskyhospicesociety.ca/event/whistler-weekly-bereavement-walk/2024-10-03/
LOCATION:Whistler Public Library\, 4329 Main St\,\, Whistler\, BC\, V8E 1B2\, Canada
CATEGORIES:Bereavement
ATTACH;FMTTYPE=image/jpeg:https://seatoskyhospicesociety.ca/wp-content/uploads/2024/08/whistler-walks-web.jpg
ORGANIZER;CN="Sea to Sky Hospice Society":MAILTO:info@seatoskyhospicesociety.ca
END:VEVENT
BEGIN:VEVENT
DTSTART;TZID=America/Los_Angeles:20241003T170000
DTEND;TZID=America/Los_Angeles:20241003T180000
DTSTAMP:20260424T082823
CREATED:20241214T005125Z
LAST-MODIFIED:20241216T194430Z
UID:10001194-1727974800-1727978400@seatoskyhospicesociety.ca
SUMMARY:Online Grief and Loss Support Group
DESCRIPTION:Are you in need of support to assist you with your grief or loss? Join Carolyn for this online weekly group. \nThis is an 8 – week online Grief and Loss Conversation Group\, led by highly skilled Hospice Volunteer Caroly Green. \nIt takes place Thursday evenings from 5-6 pm\, beginning October 3rd and running through November 28th. \nThe meetings will be held on Zoom. \nEmail Jody.Kramer@seatoskyhospicesociety.ca to register or for more information.
URL:https://seatoskyhospicesociety.ca/event/online-grief-and-loss-support-group-2-2/2024-10-03/
LOCATION:By Zoom
CATEGORIES:Bereavement
ATTACH;FMTTYPE=image/jpeg:https://seatoskyhospicesociety.ca/wp-content/uploads/2024/09/online-grief-loss-web.jpg
ORGANIZER;CN="Sea to Sky Hospice Society":MAILTO:info@seatoskyhospicesociety.ca
END:VEVENT
BEGIN:VEVENT
DTSTART;TZID=America/Los_Angeles:20241003T170000
DTEND;TZID=America/Los_Angeles:20241003T180000
DTSTAMP:20260424T082823
CREATED:20241214T005533Z
LAST-MODIFIED:20241214T005709Z
UID:10001585-1727974800-1727978400@seatoskyhospicesociety.ca
SUMMARY:Online Grief and Loss Support Group
DESCRIPTION:Are you in need of support to assist you with your grief or loss? Join Carolyn for this online weekly group. \nThis is an 8 – week online Grief and Loss Conversation Group\, led by highly skilled Hospice Volunteer Caroly Green. \nIt takes place Thursday evenings from 5-6 pm\, beginning October 3rd and running through November 28th. \nThe meetings will be held on Zoom. \nEmail Jody.Kramer@seatoskyhospicesociety.ca to register or for more information.
URL:https://seatoskyhospicesociety.ca/event/online-grief-and-loss-support-group-2-2-2/
LOCATION:By Zoom
CATEGORIES:Bereavement
ATTACH;FMTTYPE=image/jpeg:https://seatoskyhospicesociety.ca/wp-content/uploads/2024/09/online-grief-loss-web.jpg
ORGANIZER;CN="Sea to Sky Hospice Society":MAILTO:info@seatoskyhospicesociety.ca
END:VEVENT
BEGIN:VEVENT
DTSTART;TZID=America/Los_Angeles:20241004T130000
DTEND;TZID=America/Los_Angeles:20241004T143000
DTSTAMP:20260424T082823
CREATED:20240828T231253Z
LAST-MODIFIED:20241216T210909Z
UID:10000944-1728046800-1728052200@seatoskyhospicesociety.ca
SUMMARY:Whistler Care Giver Support Group
DESCRIPTION:This group provides caregivers with an opportunity to take a break\, share a cup of coffee and meet with other caregivers. All caregivers welcome\, regardless of the disease or disability of the person they are taking care of. Parents of young children who feel isolated or stressed are also welcome. \nFirst and third Friday of every month 1 – 2:30pm every month. \nWhistler Public Library Community Room \nNo cost and refreshments are provided. \nRegistration is required as space is limited. \nEmail publicservices@whistlerlibrary.ca to sign up. \nFor additional information\, please contact Dr. Valerie Whiffen at caregivers@whiffen.ca \nPresented by the Sea to Sky Hospice Society\, Mature Action Committee of Whistler\, Whistler Public Library\, and the Whistler Community Services Society
URL:https://seatoskyhospicesociety.ca/event/whistler-care-giver-support-group/2024-10-04/
LOCATION:Whistler Public Library\, 4329 Main St\,\, Whistler\, BC\, V8E 1B2\, Canada
CATEGORIES:Compassionate Communities
ATTACH;FMTTYPE=image/jpeg:https://seatoskyhospicesociety.ca/wp-content/uploads/2024/08/caregiver-support-group-1.jpg
ORGANIZER;CN="Sea to Sky Hospice Society":MAILTO:info@seatoskyhospicesociety.ca
END:VEVENT
BEGIN:VEVENT
DTSTART;TZID=America/Los_Angeles:20241010T100000
DTEND;TZID=America/Los_Angeles:20241010T110000
DTSTAMP:20260424T082823
CREATED:20240820T232925Z
LAST-MODIFIED:20241214T002614Z
UID:10000818-1728554400-1728558000@seatoskyhospicesociety.ca
SUMMARY:The Fall Drop In Grief Walks are Beginning Soon!
DESCRIPTION:The Fall Drop In Grief and Bereavement Walking Group is beginning Thursday\, September 5th. \nLed by experienced volunteer facilitators\, this walk is a support group for those who have lost a loved one and are experiencing grief\, offering a supportive space to talk and share while taking a gentle walk in the company of others. \nThese walks occur every Thursday beginning September 5th and run through November 28th. \nMeet on the steps outside the Squamish Adventure Centre at 10am for an hour. \nLook for the volunteer with the Sea to Sky Hospice Society backpack. \nNo preregistration necessary.
URL:https://seatoskyhospicesociety.ca/event/the-fall-drop-in-grief-walks-are-beginning-soon/2024-10-10/
CATEGORIES:Bereavement
ATTACH;FMTTYPE=image/jpeg:https://seatoskyhospicesociety.ca/wp-content/uploads/2024/08/fall-dropin-walking-group.jpg
ORGANIZER;CN="Sea to Sky Hospice Society":MAILTO:info@seatoskyhospicesociety.ca
END:VEVENT
BEGIN:VEVENT
DTSTART;TZID=America/Los_Angeles:20241010T113000
DTEND;TZID=America/Los_Angeles:20241010T123000
DTSTAMP:20260424T082823
CREATED:20240826T175544Z
LAST-MODIFIED:20241216T211117Z
UID:10000887-1728559800-1728563400@seatoskyhospicesociety.ca
SUMMARY:Whistler Weekly Bereavement Walk
DESCRIPTION:Spend time in the company of others on your grief and bereavement journey\, and all are welcome\, at any stage of your journey. \nWe will come together to walk\, rain or shine. \nThis is a drop in walk\, no pre-registration required. \nCo- Sponsored by the Whistler Community Services Society & the Sea to Sky Hospice Society \nFor more information please contact Shalissa Forestell – shalissa@mywcss.org \n 
URL:https://seatoskyhospicesociety.ca/event/whistler-weekly-bereavement-walk/2024-10-10/
LOCATION:Whistler Public Library\, 4329 Main St\,\, Whistler\, BC\, V8E 1B2\, Canada
CATEGORIES:Bereavement
ATTACH;FMTTYPE=image/jpeg:https://seatoskyhospicesociety.ca/wp-content/uploads/2024/08/whistler-walks-web.jpg
ORGANIZER;CN="Sea to Sky Hospice Society":MAILTO:info@seatoskyhospicesociety.ca
END:VEVENT
BEGIN:VEVENT
DTSTART;TZID=America/Los_Angeles:20241010T170000
DTEND;TZID=America/Los_Angeles:20241010T180000
DTSTAMP:20260424T082823
CREATED:20241214T005125Z
LAST-MODIFIED:20241216T194430Z
UID:10001575-1728579600-1728583200@seatoskyhospicesociety.ca
SUMMARY:Online Grief and Loss Support Group
DESCRIPTION:Are you in need of support to assist you with your grief or loss? Join Carolyn for this online weekly group. \nThis is an 8 – week online Grief and Loss Conversation Group\, led by highly skilled Hospice Volunteer Caroly Green. \nIt takes place Thursday evenings from 5-6 pm\, beginning October 3rd and running through November 28th. \nThe meetings will be held on Zoom. \nEmail Jody.Kramer@seatoskyhospicesociety.ca to register or for more information.
URL:https://seatoskyhospicesociety.ca/event/online-grief-and-loss-support-group-2-2/2024-10-10/
LOCATION:By Zoom
CATEGORIES:Bereavement
ATTACH;FMTTYPE=image/jpeg:https://seatoskyhospicesociety.ca/wp-content/uploads/2024/09/online-grief-loss-web.jpg
ORGANIZER;CN="Sea to Sky Hospice Society":MAILTO:info@seatoskyhospicesociety.ca
END:VEVENT
BEGIN:VEVENT
DTSTART;TZID=America/Los_Angeles:20241017T100000
DTEND;TZID=America/Los_Angeles:20241017T110000
DTSTAMP:20260424T082823
CREATED:20240820T232925Z
LAST-MODIFIED:20241214T002614Z
UID:10000819-1729159200-1729162800@seatoskyhospicesociety.ca
SUMMARY:The Fall Drop In Grief Walks are Beginning Soon!
DESCRIPTION:The Fall Drop In Grief and Bereavement Walking Group is beginning Thursday\, September 5th. \nLed by experienced volunteer facilitators\, this walk is a support group for those who have lost a loved one and are experiencing grief\, offering a supportive space to talk and share while taking a gentle walk in the company of others. \nThese walks occur every Thursday beginning September 5th and run through November 28th. \nMeet on the steps outside the Squamish Adventure Centre at 10am for an hour. \nLook for the volunteer with the Sea to Sky Hospice Society backpack. \nNo preregistration necessary.
URL:https://seatoskyhospicesociety.ca/event/the-fall-drop-in-grief-walks-are-beginning-soon/2024-10-17/
CATEGORIES:Bereavement
ATTACH;FMTTYPE=image/jpeg:https://seatoskyhospicesociety.ca/wp-content/uploads/2024/08/fall-dropin-walking-group.jpg
ORGANIZER;CN="Sea to Sky Hospice Society":MAILTO:info@seatoskyhospicesociety.ca
END:VEVENT
BEGIN:VEVENT
DTSTART;TZID=America/Los_Angeles:20241017T113000
DTEND;TZID=America/Los_Angeles:20241017T123000
DTSTAMP:20260424T082823
CREATED:20240826T175544Z
LAST-MODIFIED:20241216T211117Z
UID:10000888-1729164600-1729168200@seatoskyhospicesociety.ca
SUMMARY:Whistler Weekly Bereavement Walk
DESCRIPTION:Spend time in the company of others on your grief and bereavement journey\, and all are welcome\, at any stage of your journey. \nWe will come together to walk\, rain or shine. \nThis is a drop in walk\, no pre-registration required. \nCo- Sponsored by the Whistler Community Services Society & the Sea to Sky Hospice Society \nFor more information please contact Shalissa Forestell – shalissa@mywcss.org \n 
URL:https://seatoskyhospicesociety.ca/event/whistler-weekly-bereavement-walk/2024-10-17/
LOCATION:Whistler Public Library\, 4329 Main St\,\, Whistler\, BC\, V8E 1B2\, Canada
CATEGORIES:Bereavement
ATTACH;FMTTYPE=image/jpeg:https://seatoskyhospicesociety.ca/wp-content/uploads/2024/08/whistler-walks-web.jpg
ORGANIZER;CN="Sea to Sky Hospice Society":MAILTO:info@seatoskyhospicesociety.ca
END:VEVENT
BEGIN:VEVENT
DTSTART;TZID=America/Los_Angeles:20241017T170000
DTEND;TZID=America/Los_Angeles:20241017T180000
DTSTAMP:20260424T082823
CREATED:20241214T005125Z
LAST-MODIFIED:20241216T194430Z
UID:10001576-1729184400-1729188000@seatoskyhospicesociety.ca
SUMMARY:Online Grief and Loss Support Group
DESCRIPTION:Are you in need of support to assist you with your grief or loss? Join Carolyn for this online weekly group. \nThis is an 8 – week online Grief and Loss Conversation Group\, led by highly skilled Hospice Volunteer Caroly Green. \nIt takes place Thursday evenings from 5-6 pm\, beginning October 3rd and running through November 28th. \nThe meetings will be held on Zoom. \nEmail Jody.Kramer@seatoskyhospicesociety.ca to register or for more information.
URL:https://seatoskyhospicesociety.ca/event/online-grief-and-loss-support-group-2-2/2024-10-17/
LOCATION:By Zoom
CATEGORIES:Bereavement
ATTACH;FMTTYPE=image/jpeg:https://seatoskyhospicesociety.ca/wp-content/uploads/2024/09/online-grief-loss-web.jpg
ORGANIZER;CN="Sea to Sky Hospice Society":MAILTO:info@seatoskyhospicesociety.ca
END:VEVENT
BEGIN:VEVENT
DTSTART;TZID=America/Los_Angeles:20241022T113000
DTEND;TZID=America/Los_Angeles:20241022T133000
DTSTAMP:20260424T082823
CREATED:20240918T220446Z
LAST-MODIFIED:20241216T194234Z
UID:10001302-1729596600-1729603800@seatoskyhospicesociety.ca
SUMMARY:Squamish Monthly Care Giver Support Group
DESCRIPTION:Caregiving can be challenging\, but you don’t have to do it alone. Our Caregiver Support Group provides practical and emotional support from trained volunteers in a welcoming space where you can connect with others. Join us one Tuesday a month at Westwinds\, 38275 3rd Ave\, Squamish from 11:30 AM – 1:30 PM.\n\n\n \n\n\nDates:\n\n\nTuesday\, September 24th\n\n\nTuesday\, October 29th\n\n\nTuesday\, November 26th\n\n\n \n\n\nDrop in and find support\, share experiences\, and socialize with fellow caregivers.\n\n\n \n\n\nFor more information\, contact: Jody Kramer\, Client Services Coordinator\n\n\n778-319-7934 | jody.kramer@seatoskyhospicesociety.ca
URL:https://seatoskyhospicesociety.ca/event/squamish-monthly-care-giver-support-group/2024-10-22/
LOCATION:Westwinds\, 38275 3 Ave.\, Squamish\, BC\, V8B 0Z6\, Canada
ATTACH;FMTTYPE=image/jpeg:https://seatoskyhospicesociety.ca/wp-content/uploads/2024/09/care-giver-support.jpg
ORGANIZER;CN="Sea to Sky Hospice Society":MAILTO:info@seatoskyhospicesociety.ca
END:VEVENT
BEGIN:VEVENT
DTSTART;TZID=America/Los_Angeles:20241024T100000
DTEND;TZID=America/Los_Angeles:20241024T110000
DTSTAMP:20260424T082823
CREATED:20240820T232925Z
LAST-MODIFIED:20241214T002614Z
UID:10000820-1729764000-1729767600@seatoskyhospicesociety.ca
SUMMARY:The Fall Drop In Grief Walks are Beginning Soon!
DESCRIPTION:The Fall Drop In Grief and Bereavement Walking Group is beginning Thursday\, September 5th. \nLed by experienced volunteer facilitators\, this walk is a support group for those who have lost a loved one and are experiencing grief\, offering a supportive space to talk and share while taking a gentle walk in the company of others. \nThese walks occur every Thursday beginning September 5th and run through November 28th. \nMeet on the steps outside the Squamish Adventure Centre at 10am for an hour. \nLook for the volunteer with the Sea to Sky Hospice Society backpack. \nNo preregistration necessary.
URL:https://seatoskyhospicesociety.ca/event/the-fall-drop-in-grief-walks-are-beginning-soon/2024-10-24/
CATEGORIES:Bereavement
ATTACH;FMTTYPE=image/jpeg:https://seatoskyhospicesociety.ca/wp-content/uploads/2024/08/fall-dropin-walking-group.jpg
ORGANIZER;CN="Sea to Sky Hospice Society":MAILTO:info@seatoskyhospicesociety.ca
END:VEVENT
BEGIN:VEVENT
DTSTART;TZID=America/Los_Angeles:20241024T113000
DTEND;TZID=America/Los_Angeles:20241024T123000
DTSTAMP:20260424T082823
CREATED:20240826T175544Z
LAST-MODIFIED:20241216T211117Z
UID:10000889-1729769400-1729773000@seatoskyhospicesociety.ca
SUMMARY:Whistler Weekly Bereavement Walk
DESCRIPTION:Spend time in the company of others on your grief and bereavement journey\, and all are welcome\, at any stage of your journey. \nWe will come together to walk\, rain or shine. \nThis is a drop in walk\, no pre-registration required. \nCo- Sponsored by the Whistler Community Services Society & the Sea to Sky Hospice Society \nFor more information please contact Shalissa Forestell – shalissa@mywcss.org \n 
URL:https://seatoskyhospicesociety.ca/event/whistler-weekly-bereavement-walk/2024-10-24/
LOCATION:Whistler Public Library\, 4329 Main St\,\, Whistler\, BC\, V8E 1B2\, Canada
CATEGORIES:Bereavement
ATTACH;FMTTYPE=image/jpeg:https://seatoskyhospicesociety.ca/wp-content/uploads/2024/08/whistler-walks-web.jpg
ORGANIZER;CN="Sea to Sky Hospice Society":MAILTO:info@seatoskyhospicesociety.ca
END:VEVENT
BEGIN:VEVENT
DTSTART;TZID=America/Los_Angeles:20241024T170000
DTEND;TZID=America/Los_Angeles:20241024T180000
DTSTAMP:20260424T082823
CREATED:20241214T005125Z
LAST-MODIFIED:20241216T194430Z
UID:10001577-1729789200-1729792800@seatoskyhospicesociety.ca
SUMMARY:Online Grief and Loss Support Group
DESCRIPTION:Are you in need of support to assist you with your grief or loss? Join Carolyn for this online weekly group. \nThis is an 8 – week online Grief and Loss Conversation Group\, led by highly skilled Hospice Volunteer Caroly Green. \nIt takes place Thursday evenings from 5-6 pm\, beginning October 3rd and running through November 28th. \nThe meetings will be held on Zoom. \nEmail Jody.Kramer@seatoskyhospicesociety.ca to register or for more information.
URL:https://seatoskyhospicesociety.ca/event/online-grief-and-loss-support-group-2-2/2024-10-24/
LOCATION:By Zoom
CATEGORIES:Bereavement
ATTACH;FMTTYPE=image/jpeg:https://seatoskyhospicesociety.ca/wp-content/uploads/2024/09/online-grief-loss-web.jpg
ORGANIZER;CN="Sea to Sky Hospice Society":MAILTO:info@seatoskyhospicesociety.ca
END:VEVENT
BEGIN:VEVENT
DTSTART;TZID=America/Los_Angeles:20241028T180000
DTEND;TZID=America/Los_Angeles:20241028T203000
DTSTAMP:20260424T082823
CREATED:20240918T201634Z
LAST-MODIFIED:20240918T201634Z
UID:10001300-1730138400-1730147400@seatoskyhospicesociety.ca
SUMMARY:Save the Date!
DESCRIPTION:  \nJoin us at the upcoming Annual General Meeting to watch a presentation about the new 8 bed hospice that is part of the planned long term care facility being built by Vancouver Coastal Health. In addition to the presentation\, there will be the election of the Board of Directors\, annual reports presented and new business as needed. \nRefreshments to be served after the meeting.
URL:https://seatoskyhospicesociety.ca/event/save-the-date/
LOCATION:Squamish Funeral Chapel\, 40440 Tantalus Rd\, Garibaldi Highlands\, BC\, V0N 1T0\, Canada
CATEGORIES:Educational
ATTACH;FMTTYPE=image/jpeg:https://seatoskyhospicesociety.ca/wp-content/uploads/2024/09/save-the-date-AGM-web.jpg
ORGANIZER;CN="Sea to Sky Hospice Society":MAILTO:info@seatoskyhospicesociety.ca
END:VEVENT
BEGIN:VEVENT
DTSTART;TZID=America/Los_Angeles:20241029T100000
DTEND;TZID=America/Los_Angeles:20241029T113000
DTSTAMP:20260424T082823
CREATED:20240930T194558Z
LAST-MODIFIED:20241021T161944Z
UID:10001361-1730196000-1730201400@seatoskyhospicesociety.ca
SUMMARY:Introduction to Estate Planning
DESCRIPTION:Join Eddie Carter of Race & Co and James Sparling of Vocari Financial Services for an insightful introduction to Estate Planning and the Tax Benenfits of Charitable Giving. \nDiscover why this crucial planning is essential for your financial future. Eddie and James will cover topics such as acting as an executor\, attorney\, and a healthcare representative\, as well as the legal and tax aspects of estate planning and all avenues of charitable donation planning. \nDon’t miss this opportunity to learn how to protect your assets and support your loved ones! \n  \nAbout Eddie: \nEddie Carter grew up in Vancouver\, enjoying the surrounding outdoors in Squamish and Whistler. After graduating from Bishop’s University in Quebec\, he worked in the tourism industry in Whistler for several years before attending law school at the University of Saskatchewan. \nAfter moving to Squamish in 2010 and articling at a local law firm\, he worked at a boutique North Vancouver law firm specializing in solicitors’ practice. Eddie joined Race & Company LLP in January 2020\, and was extremely grateful to cut out his commute to spend more time in his adopted hometown. He’s passionate about helping his clients navigate buying their first home\, scaling up their business and making important decisions about their estate planning. \nWhen not working\, Eddie can be found (laboriously) towing his two small children in a chariot while nordic skiing\, backcountry snowboarding\, mountain biking\, and playing hockey. He is a proud and active member of the Squamish business community\, and is a director of the Downtown Squamish Business Improvement Association. He also spent five years as a volunteer firefighter with Squamish Fire Rescue. \nAbout James: \nAs a former professional cyclist on our national team\, I know it takes determination to reach your goals. I’m proud to be part of a team that helps clients achieve their financial goals and I provide clients with excellent service. With a deep understanding of the Squamish lifestyle\, I take pride in helping people live life on their terms. My diverse background in the financial industry sets me apart when helping people find the holistic insurance and investment solutions that are right for them.
URL:https://seatoskyhospicesociety.ca/event/introduction-to-estate-planning/
LOCATION:Squamish Adventure Centre\, 38551 Loggers Lane\, Squamish\, BC\, V8B 0H2\, Canada
ATTACH;FMTTYPE=image/jpeg:https://seatoskyhospicesociety.ca/wp-content/uploads/2024/09/Introduction-to-Estate-Planning-web.jpg
ORGANIZER;CN="Sea to Sky Hospice Society":MAILTO:info@seatoskyhospicesociety.ca
END:VEVENT
BEGIN:VEVENT
DTSTART;TZID=America/Los_Angeles:20241031T100000
DTEND;TZID=America/Los_Angeles:20241031T110000
DTSTAMP:20260424T082823
CREATED:20240820T232925Z
LAST-MODIFIED:20241214T002614Z
UID:10000821-1730368800-1730372400@seatoskyhospicesociety.ca
SUMMARY:The Fall Drop In Grief Walks are Beginning Soon!
DESCRIPTION:The Fall Drop In Grief and Bereavement Walking Group is beginning Thursday\, September 5th. \nLed by experienced volunteer facilitators\, this walk is a support group for those who have lost a loved one and are experiencing grief\, offering a supportive space to talk and share while taking a gentle walk in the company of others. \nThese walks occur every Thursday beginning September 5th and run through November 28th. \nMeet on the steps outside the Squamish Adventure Centre at 10am for an hour. \nLook for the volunteer with the Sea to Sky Hospice Society backpack. \nNo preregistration necessary.
URL:https://seatoskyhospicesociety.ca/event/the-fall-drop-in-grief-walks-are-beginning-soon/2024-10-31/
CATEGORIES:Bereavement
ATTACH;FMTTYPE=image/jpeg:https://seatoskyhospicesociety.ca/wp-content/uploads/2024/08/fall-dropin-walking-group.jpg
ORGANIZER;CN="Sea to Sky Hospice Society":MAILTO:info@seatoskyhospicesociety.ca
END:VEVENT
BEGIN:VEVENT
DTSTART;TZID=America/Los_Angeles:20241031T113000
DTEND;TZID=America/Los_Angeles:20241031T123000
DTSTAMP:20260424T082823
CREATED:20240826T175544Z
LAST-MODIFIED:20241216T211117Z
UID:10000890-1730374200-1730377800@seatoskyhospicesociety.ca
SUMMARY:Whistler Weekly Bereavement Walk
DESCRIPTION:Spend time in the company of others on your grief and bereavement journey\, and all are welcome\, at any stage of your journey. \nWe will come together to walk\, rain or shine. \nThis is a drop in walk\, no pre-registration required. \nCo- Sponsored by the Whistler Community Services Society & the Sea to Sky Hospice Society \nFor more information please contact Shalissa Forestell – shalissa@mywcss.org \n 
URL:https://seatoskyhospicesociety.ca/event/whistler-weekly-bereavement-walk/2024-10-31/
LOCATION:Whistler Public Library\, 4329 Main St\,\, Whistler\, BC\, V8E 1B2\, Canada
CATEGORIES:Bereavement
ATTACH;FMTTYPE=image/jpeg:https://seatoskyhospicesociety.ca/wp-content/uploads/2024/08/whistler-walks-web.jpg
ORGANIZER;CN="Sea to Sky Hospice Society":MAILTO:info@seatoskyhospicesociety.ca
END:VEVENT
BEGIN:VEVENT
DTSTART;TZID=America/Los_Angeles:20241031T170000
DTEND;TZID=America/Los_Angeles:20241031T180000
DTSTAMP:20260424T082823
CREATED:20241214T005125Z
LAST-MODIFIED:20241216T194430Z
UID:10001578-1730394000-1730397600@seatoskyhospicesociety.ca
SUMMARY:Online Grief and Loss Support Group
DESCRIPTION:Are you in need of support to assist you with your grief or loss? Join Carolyn for this online weekly group. \nThis is an 8 – week online Grief and Loss Conversation Group\, led by highly skilled Hospice Volunteer Caroly Green. \nIt takes place Thursday evenings from 5-6 pm\, beginning October 3rd and running through November 28th. \nThe meetings will be held on Zoom. \nEmail Jody.Kramer@seatoskyhospicesociety.ca to register or for more information.
URL:https://seatoskyhospicesociety.ca/event/online-grief-and-loss-support-group-2-2/2024-10-31/
LOCATION:By Zoom
CATEGORIES:Bereavement
ATTACH;FMTTYPE=image/jpeg:https://seatoskyhospicesociety.ca/wp-content/uploads/2024/09/online-grief-loss-web.jpg
ORGANIZER;CN="Sea to Sky Hospice Society":MAILTO:info@seatoskyhospicesociety.ca
END:VEVENT
END:VCALENDAR