BEGIN:VCALENDAR
VERSION:2.0
PRODID:-//Sea to Sky Hospice Society - ECPv6.15.12.2//NONSGML v1.0//EN
CALSCALE:GREGORIAN
METHOD:PUBLISH
X-WR-CALNAME:Sea to Sky Hospice Society
X-ORIGINAL-URL:https://seatoskyhospicesociety.ca
X-WR-CALDESC:Events for Sea to Sky Hospice Society
REFRESH-INTERVAL;VALUE=DURATION:PT1H
X-Robots-Tag:noindex
X-PUBLISHED-TTL:PT1H
BEGIN:VTIMEZONE
TZID:America/Los_Angeles
BEGIN:DAYLIGHT
TZOFFSETFROM:-0800
TZOFFSETTO:-0700
TZNAME:PDT
DTSTART:20230312T100000
END:DAYLIGHT
BEGIN:STANDARD
TZOFFSETFROM:-0700
TZOFFSETTO:-0800
TZNAME:PST
DTSTART:20231105T090000
END:STANDARD
BEGIN:DAYLIGHT
TZOFFSETFROM:-0800
TZOFFSETTO:-0700
TZNAME:PDT
DTSTART:20240310T100000
END:DAYLIGHT
BEGIN:STANDARD
TZOFFSETFROM:-0700
TZOFFSETTO:-0800
TZNAME:PST
DTSTART:20241103T090000
END:STANDARD
BEGIN:DAYLIGHT
TZOFFSETFROM:-0800
TZOFFSETTO:-0700
TZNAME:PDT
DTSTART:20250309T100000
END:DAYLIGHT
BEGIN:STANDARD
TZOFFSETFROM:-0700
TZOFFSETTO:-0800
TZNAME:PST
DTSTART:20251102T090000
END:STANDARD
END:VTIMEZONE
BEGIN:VEVENT
DTSTART;TZID=America/Los_Angeles:20240305T163000
DTEND;TZID=America/Los_Angeles:20240305T173000
DTSTAMP:20260424T193612
CREATED:20231219T202332Z
LAST-MODIFIED:20231230T033019Z
UID:10000734-1709656200-1709659800@seatoskyhospicesociety.ca
SUMMARY:Online Grief and Loss Support Group
DESCRIPTION:Whistler / Pemberton Sea to Sky Programs \nOnline Grief and Loss Support Group \nStarting Tuesday\, January 30th and running weekly through to Tuesday\, March 5th. \nJoin us from the comfort of your own space for an online grief and loss support group. \nThis volunteer facilitated\, peer support group is a place for individuals to safely explore their own grief\, share in the experiences of others\, and learn through their loss journey. Connect via Zoom and find support within a compassionate community. \nPreregister here: REGISTER HERE \n 
URL:https://seatoskyhospicesociety.ca/event/online-grief-and-loss-support-group/2024-03-05/
LOCATION:BC
CATEGORIES:Bereavement,Compassionate Communities
ATTACH;FMTTYPE=image/png:https://seatoskyhospicesociety.ca/wp-content/uploads/2023/12/online-grief-and-loss-group-1.png
ORGANIZER;CN="Sea to Sky Hospice Society":MAILTO:info@seatoskyhospicesociety.ca
END:VEVENT
BEGIN:VEVENT
DTSTART;TZID=America/Los_Angeles:20240307T100000
DTEND;TZID=America/Los_Angeles:20240307T113000
DTSTAMP:20260424T193612
CREATED:20240314T005651Z
LAST-MODIFIED:20240509T222156Z
UID:10000786-1709805600-1709811000@seatoskyhospicesociety.ca
SUMMARY:Weekly Drop In Bereavement Walks
DESCRIPTION:Join us Thursday mornings at 10am at the stairs in front of the Squamish Adventure Centre for our weekly Bereavement Walk. \nNo preregistration is needed. \n 
URL:https://seatoskyhospicesociety.ca/event/weekly-drop-in-bereavement-walks/2024-03-07/
LOCATION:Squamish Adventure Centre\, 38551 Loggers Lane\, Squamish\, BC\, V8B 0H2\, Canada
ATTACH;FMTTYPE=image/png:https://seatoskyhospicesociety.ca/wp-content/uploads/2024/05/Bereavement-Walk-June-2.png
ORGANIZER;CN="Sea to Sky Hospice Society":MAILTO:info@seatoskyhospicesociety.ca
END:VEVENT
BEGIN:VEVENT
DTSTART;TZID=America/Los_Angeles:20240307T173000
DTEND;TZID=America/Los_Angeles:20240307T183000
DTSTAMP:20260424T193612
CREATED:20240123T184833Z
LAST-MODIFIED:20240123T184833Z
UID:10000738-1709832600-1709836200@seatoskyhospicesociety.ca
SUMMARY:Drop in Grief and Loss Conversations at the Whistler Public Library!
DESCRIPTION:This peer support group is a place for individuals to safely explore their own grief\, hear shared experiences of others on their loss journey\, and to find support within community. \nSnacks and refreshments provided and no registration required.
URL:https://seatoskyhospicesociety.ca/event/drop-in-grief-and-loss-conversations-at-the-whistler-public-library/2024-03-07/
LOCATION:Whistler Public Library\, 4329 Main St\,\, Whistler\, BC\, V8E 1B2\, Canada
CATEGORIES:Bereavement
ATTACH;FMTTYPE=image/jpeg:https://seatoskyhospicesociety.ca/wp-content/uploads/2024/01/2024-03-Grief-and-Loss-Support-Group-scaled.jpg
ORGANIZER;CN="Sea to Sky Hospice Society":MAILTO:info@seatoskyhospicesociety.ca
END:VEVENT
BEGIN:VEVENT
DTSTART;TZID=America/Los_Angeles:20240314T100000
DTEND;TZID=America/Los_Angeles:20240314T113000
DTSTAMP:20260424T193612
CREATED:20240314T005651Z
LAST-MODIFIED:20240509T222156Z
UID:10000787-1710410400-1710415800@seatoskyhospicesociety.ca
SUMMARY:Weekly Drop In Bereavement Walks
DESCRIPTION:Join us Thursday mornings at 10am at the stairs in front of the Squamish Adventure Centre for our weekly Bereavement Walk. \nNo preregistration is needed. \n 
URL:https://seatoskyhospicesociety.ca/event/weekly-drop-in-bereavement-walks/2024-03-14/
LOCATION:Squamish Adventure Centre\, 38551 Loggers Lane\, Squamish\, BC\, V8B 0H2\, Canada
ATTACH;FMTTYPE=image/png:https://seatoskyhospicesociety.ca/wp-content/uploads/2024/05/Bereavement-Walk-June-2.png
ORGANIZER;CN="Sea to Sky Hospice Society":MAILTO:info@seatoskyhospicesociety.ca
END:VEVENT
BEGIN:VEVENT
DTSTART;TZID=America/Los_Angeles:20240314T173000
DTEND;TZID=America/Los_Angeles:20240314T183000
DTSTAMP:20260424T193612
CREATED:20240123T184833Z
LAST-MODIFIED:20240123T184833Z
UID:10000739-1710437400-1710441000@seatoskyhospicesociety.ca
SUMMARY:Drop in Grief and Loss Conversations at the Whistler Public Library!
DESCRIPTION:This peer support group is a place for individuals to safely explore their own grief\, hear shared experiences of others on their loss journey\, and to find support within community. \nSnacks and refreshments provided and no registration required.
URL:https://seatoskyhospicesociety.ca/event/drop-in-grief-and-loss-conversations-at-the-whistler-public-library/2024-03-14/
LOCATION:Whistler Public Library\, 4329 Main St\,\, Whistler\, BC\, V8E 1B2\, Canada
CATEGORIES:Bereavement
ATTACH;FMTTYPE=image/jpeg:https://seatoskyhospicesociety.ca/wp-content/uploads/2024/01/2024-03-Grief-and-Loss-Support-Group-scaled.jpg
ORGANIZER;CN="Sea to Sky Hospice Society":MAILTO:info@seatoskyhospicesociety.ca
END:VEVENT
BEGIN:VEVENT
DTSTART;TZID=America/Los_Angeles:20240321T100000
DTEND;TZID=America/Los_Angeles:20240321T113000
DTSTAMP:20260424T193612
CREATED:20240314T005651Z
LAST-MODIFIED:20240509T222156Z
UID:10000788-1711015200-1711020600@seatoskyhospicesociety.ca
SUMMARY:Weekly Drop In Bereavement Walks
DESCRIPTION:Join us Thursday mornings at 10am at the stairs in front of the Squamish Adventure Centre for our weekly Bereavement Walk. \nNo preregistration is needed. \n 
URL:https://seatoskyhospicesociety.ca/event/weekly-drop-in-bereavement-walks/2024-03-21/
LOCATION:Squamish Adventure Centre\, 38551 Loggers Lane\, Squamish\, BC\, V8B 0H2\, Canada
ATTACH;FMTTYPE=image/png:https://seatoskyhospicesociety.ca/wp-content/uploads/2024/05/Bereavement-Walk-June-2.png
ORGANIZER;CN="Sea to Sky Hospice Society":MAILTO:info@seatoskyhospicesociety.ca
END:VEVENT
BEGIN:VEVENT
DTSTART;TZID=America/Los_Angeles:20240321T173000
DTEND;TZID=America/Los_Angeles:20240321T183000
DTSTAMP:20260424T193612
CREATED:20240123T184833Z
LAST-MODIFIED:20240123T184833Z
UID:10000740-1711042200-1711045800@seatoskyhospicesociety.ca
SUMMARY:Drop in Grief and Loss Conversations at the Whistler Public Library!
DESCRIPTION:This peer support group is a place for individuals to safely explore their own grief\, hear shared experiences of others on their loss journey\, and to find support within community. \nSnacks and refreshments provided and no registration required.
URL:https://seatoskyhospicesociety.ca/event/drop-in-grief-and-loss-conversations-at-the-whistler-public-library/2024-03-21/
LOCATION:Whistler Public Library\, 4329 Main St\,\, Whistler\, BC\, V8E 1B2\, Canada
CATEGORIES:Bereavement
ATTACH;FMTTYPE=image/jpeg:https://seatoskyhospicesociety.ca/wp-content/uploads/2024/01/2024-03-Grief-and-Loss-Support-Group-scaled.jpg
ORGANIZER;CN="Sea to Sky Hospice Society":MAILTO:info@seatoskyhospicesociety.ca
END:VEVENT
BEGIN:VEVENT
DTSTART;TZID=America/Los_Angeles:20240321T190000
DTEND;TZID=America/Los_Angeles:20240321T203000
DTSTAMP:20260424T193612
CREATED:20240201T231658Z
LAST-MODIFIED:20240207T184433Z
UID:10000744-1711047600-1711053000@seatoskyhospicesociety.ca
SUMMARY:Spring Equinox Book Circle
DESCRIPTION:Please join us at our local book store “Gather\, Books & Lovely Things” (used to be named The Little Book Shop) \non Thursday\, March 21\, 7 – 8:30 PM for our Compassionate Communities Spring Equinox Book Circle. \nThe books we will be reviewing are: \n\nThe Five Invitations – Frank Ostaseski\nDeath Interrupted – Blair Bigham\, MD
URL:https://seatoskyhospicesociety.ca/event/spring-equinox-book-circle/
LOCATION:Gather\, Books & Lovely Things\, 38041 2nd Avenue\, Squamish\, BC\, V8B 0C3\, Canada
ATTACH;FMTTYPE=image/jpeg:https://seatoskyhospicesociety.ca/wp-content/uploads/2024/02/Web-Feature-Image-crop-bottom-off-2-e1707331458997.jpg
ORGANIZER;CN="Sea to Sky Hospice Society":MAILTO:info@seatoskyhospicesociety.ca
END:VEVENT
BEGIN:VEVENT
DTSTART;TZID=America/Los_Angeles:20240328T100000
DTEND;TZID=America/Los_Angeles:20240328T113000
DTSTAMP:20260424T193612
CREATED:20240314T005651Z
LAST-MODIFIED:20240509T222156Z
UID:10000789-1711620000-1711625400@seatoskyhospicesociety.ca
SUMMARY:Weekly Drop In Bereavement Walks
DESCRIPTION:Join us Thursday mornings at 10am at the stairs in front of the Squamish Adventure Centre for our weekly Bereavement Walk. \nNo preregistration is needed. \n 
URL:https://seatoskyhospicesociety.ca/event/weekly-drop-in-bereavement-walks/2024-03-28/
LOCATION:Squamish Adventure Centre\, 38551 Loggers Lane\, Squamish\, BC\, V8B 0H2\, Canada
ATTACH;FMTTYPE=image/png:https://seatoskyhospicesociety.ca/wp-content/uploads/2024/05/Bereavement-Walk-June-2.png
ORGANIZER;CN="Sea to Sky Hospice Society":MAILTO:info@seatoskyhospicesociety.ca
END:VEVENT
BEGIN:VEVENT
DTSTART;TZID=America/Los_Angeles:20240328T173000
DTEND;TZID=America/Los_Angeles:20240328T183000
DTSTAMP:20260424T193612
CREATED:20240123T184833Z
LAST-MODIFIED:20240123T184833Z
UID:10000741-1711647000-1711650600@seatoskyhospicesociety.ca
SUMMARY:Drop in Grief and Loss Conversations at the Whistler Public Library!
DESCRIPTION:This peer support group is a place for individuals to safely explore their own grief\, hear shared experiences of others on their loss journey\, and to find support within community. \nSnacks and refreshments provided and no registration required.
URL:https://seatoskyhospicesociety.ca/event/drop-in-grief-and-loss-conversations-at-the-whistler-public-library/2024-03-28/
LOCATION:Whistler Public Library\, 4329 Main St\,\, Whistler\, BC\, V8E 1B2\, Canada
CATEGORIES:Bereavement
ATTACH;FMTTYPE=image/jpeg:https://seatoskyhospicesociety.ca/wp-content/uploads/2024/01/2024-03-Grief-and-Loss-Support-Group-scaled.jpg
ORGANIZER;CN="Sea to Sky Hospice Society":MAILTO:info@seatoskyhospicesociety.ca
END:VEVENT
END:VCALENDAR