BEGIN:VCALENDAR
VERSION:2.0
PRODID:-//Sea to Sky Hospice Society - ECPv6.15.12.2//NONSGML v1.0//EN
CALSCALE:GREGORIAN
METHOD:PUBLISH
X-WR-CALNAME:Sea to Sky Hospice Society
X-ORIGINAL-URL:https://seatoskyhospicesociety.ca
X-WR-CALDESC:Events for Sea to Sky Hospice Society
REFRESH-INTERVAL;VALUE=DURATION:PT1H
X-Robots-Tag:noindex
X-PUBLISHED-TTL:PT1H
BEGIN:VTIMEZONE
TZID:America/Los_Angeles
BEGIN:DAYLIGHT
TZOFFSETFROM:-0800
TZOFFSETTO:-0700
TZNAME:PDT
DTSTART:20220313T100000
END:DAYLIGHT
BEGIN:STANDARD
TZOFFSETFROM:-0700
TZOFFSETTO:-0800
TZNAME:PST
DTSTART:20221106T090000
END:STANDARD
BEGIN:DAYLIGHT
TZOFFSETFROM:-0800
TZOFFSETTO:-0700
TZNAME:PDT
DTSTART:20230312T100000
END:DAYLIGHT
BEGIN:STANDARD
TZOFFSETFROM:-0700
TZOFFSETTO:-0800
TZNAME:PST
DTSTART:20231105T090000
END:STANDARD
BEGIN:DAYLIGHT
TZOFFSETFROM:-0800
TZOFFSETTO:-0700
TZNAME:PDT
DTSTART:20240310T100000
END:DAYLIGHT
BEGIN:STANDARD
TZOFFSETFROM:-0700
TZOFFSETTO:-0800
TZNAME:PST
DTSTART:20241103T090000
END:STANDARD
END:VTIMEZONE
BEGIN:VEVENT
DTSTART;TZID=America/Los_Angeles:20230201T103000
DTEND;TZID=America/Los_Angeles:20230201T113000
DTSTAMP:20260425T144610
CREATED:20230103T003124Z
LAST-MODIFIED:20230103T003124Z
UID:10000223-1675247400-1675251000@seatoskyhospicesociety.ca
SUMMARY:Online Grief & Loss Conversations:
DESCRIPTION:Join us on-line for a weekly Wednesday morning Grief & Loss Conversation “drop-in” group\, facilitated by trained Hospice Volunteers. \nWednesdays from 10:30 – 11:30AM \nStarting January 18th\, 2023 \nEnding Feb 22nd\, 2023 \nZoom Login: (will be provided once registration is completed) \nThis peer support group will have weekly themes for discussion\, and is a place for individuals to safely explore their grief and hear shared experiences of others travelling the journey of loss and grief. \nThese weekly one hour drop ins are free and open to residents of the Sea to Sky corridor grieving the loss of a loved one. \nPre-registration is required in order to receive the zoom link. \nFor more information or to preregister please contact Diana Gunstone at: diana.gunstone@seatoskyhospicesociety.ca
URL:https://seatoskyhospicesociety.ca/event/online-grief-loss-conversations/2023-02-01/
LOCATION:BC
ATTACH;FMTTYPE=image/jpeg:https://seatoskyhospicesociety.ca/wp-content/uploads/2023/01/Shutterstock_1714186504-3000-×-2200-scaled.jpg
ORGANIZER;CN="Sea to Sky Hospice Society":MAILTO:info@seatoskyhospicesociety.ca
END:VEVENT
BEGIN:VEVENT
DTSTART;TZID=America/Los_Angeles:20230202T100000
DTEND;TZID=America/Los_Angeles:20230202T110000
DTSTAMP:20260425T144610
CREATED:20230102T234400Z
LAST-MODIFIED:20230102T234400Z
UID:10000212-1675332000-1675335600@seatoskyhospicesociety.ca
SUMMARY:Squamish Drop in Bereavement Walk
DESCRIPTION:Weekly on Thursdays 10AM\, meeting at the stairs of the Squamish Adventure Centre \nStarting January 12th\, 2023 ending February 16th\, 2023 \nThis walks will happen rain or sun\, please come prepared. \nThese are drop in walks\, no preregistration is necessary and there is no cost to participate. \nFor more information please email Diana Gunstone at diana.gunstone@seatoskyhospicesociety.ca
URL:https://seatoskyhospicesociety.ca/event/squamish-drop-in-bereavement-walk/2023-02-02/
LOCATION:Squamish Adventure Centre\, 38551 Loggers Lane\, Squamish\, BC\, V8B 0H2\, Canada
ATTACH;FMTTYPE=image/jpeg:https://seatoskyhospicesociety.ca/wp-content/uploads/2023/01/shutterstock_45701632.jpg
ORGANIZER;CN="Sea to Sky Hospice Society":MAILTO:info@seatoskyhospicesociety.ca
END:VEVENT
BEGIN:VEVENT
DTSTART;TZID=America/Los_Angeles:20230207T173000
DTEND;TZID=America/Los_Angeles:20230207T183000
DTSTAMP:20260425T144610
CREATED:20230103T000904Z
LAST-MODIFIED:20230103T000904Z
UID:10000219-1675791000-1675794600@seatoskyhospicesociety.ca
SUMMARY:Grief and Loss Conversations
DESCRIPTION:Grief and Loss Conversations; A weekly Drop-In group facilitated by trained Hospice Volunteers \nThese weekly one hour drop ins are free and open to community members grieving the loss of a loved one. Come join us in the cozy Squamish Public Library meeting room for a cup of tea and supportive conversation \nWhen:                   Tuesdays\, 5:30-6:30PM Jan 10 – Feb 14 \nWhere:                  Squamish Public Library cozy meeting room
URL:https://seatoskyhospicesociety.ca/event/grief-and-loss-conversations/2023-02-07/
LOCATION:BC
ATTACH;FMTTYPE=image/jpeg:https://seatoskyhospicesociety.ca/wp-content/uploads/2023/01/shutterstock_1455441614.jpg
ORGANIZER;CN="Sea to Sky Hospice Society":MAILTO:info@seatoskyhospicesociety.ca
END:VEVENT
BEGIN:VEVENT
DTSTART;TZID=America/Los_Angeles:20230208T103000
DTEND;TZID=America/Los_Angeles:20230208T113000
DTSTAMP:20260425T144610
CREATED:20230103T003124Z
LAST-MODIFIED:20230103T003124Z
UID:10000224-1675852200-1675855800@seatoskyhospicesociety.ca
SUMMARY:Online Grief & Loss Conversations:
DESCRIPTION:Join us on-line for a weekly Wednesday morning Grief & Loss Conversation “drop-in” group\, facilitated by trained Hospice Volunteers. \nWednesdays from 10:30 – 11:30AM \nStarting January 18th\, 2023 \nEnding Feb 22nd\, 2023 \nZoom Login: (will be provided once registration is completed) \nThis peer support group will have weekly themes for discussion\, and is a place for individuals to safely explore their grief and hear shared experiences of others travelling the journey of loss and grief. \nThese weekly one hour drop ins are free and open to residents of the Sea to Sky corridor grieving the loss of a loved one. \nPre-registration is required in order to receive the zoom link. \nFor more information or to preregister please contact Diana Gunstone at: diana.gunstone@seatoskyhospicesociety.ca
URL:https://seatoskyhospicesociety.ca/event/online-grief-loss-conversations/2023-02-08/
LOCATION:BC
ATTACH;FMTTYPE=image/jpeg:https://seatoskyhospicesociety.ca/wp-content/uploads/2023/01/Shutterstock_1714186504-3000-×-2200-scaled.jpg
ORGANIZER;CN="Sea to Sky Hospice Society":MAILTO:info@seatoskyhospicesociety.ca
END:VEVENT
BEGIN:VEVENT
DTSTART;TZID=America/Los_Angeles:20230209T100000
DTEND;TZID=America/Los_Angeles:20230209T110000
DTSTAMP:20260425T144610
CREATED:20230102T234400Z
LAST-MODIFIED:20230102T234400Z
UID:10000213-1675936800-1675940400@seatoskyhospicesociety.ca
SUMMARY:Squamish Drop in Bereavement Walk
DESCRIPTION:Weekly on Thursdays 10AM\, meeting at the stairs of the Squamish Adventure Centre \nStarting January 12th\, 2023 ending February 16th\, 2023 \nThis walks will happen rain or sun\, please come prepared. \nThese are drop in walks\, no preregistration is necessary and there is no cost to participate. \nFor more information please email Diana Gunstone at diana.gunstone@seatoskyhospicesociety.ca
URL:https://seatoskyhospicesociety.ca/event/squamish-drop-in-bereavement-walk/2023-02-09/
LOCATION:Squamish Adventure Centre\, 38551 Loggers Lane\, Squamish\, BC\, V8B 0H2\, Canada
ATTACH;FMTTYPE=image/jpeg:https://seatoskyhospicesociety.ca/wp-content/uploads/2023/01/shutterstock_45701632.jpg
ORGANIZER;CN="Sea to Sky Hospice Society":MAILTO:info@seatoskyhospicesociety.ca
END:VEVENT
BEGIN:VEVENT
DTSTART;TZID=America/Los_Angeles:20230209T173000
DTEND;TZID=America/Los_Angeles:20230209T183000
DTSTAMP:20260425T144610
CREATED:20230123T180331Z
LAST-MODIFIED:20230222T205904Z
UID:10000227-1675963800-1675967400@seatoskyhospicesociety.ca
SUMMARY:Whistler Drop in Grief and Loss Conversations
DESCRIPTION:Join us for our Drop in Grief and Loss Conversations. Beginning Thursday\, Feb. 9th from 5:30 until 6:30pm at the Whistler Public Library and running for 6 weeks through Thursday\, March 16th. Snacks and refreshments will be provided. These sessions are free to the public and there is no preregistration required. \nThis peer support group is a place for individuals to safely explore their own grief \, hear shared experiences of others on their loss journey\, and to find support within community.
URL:https://seatoskyhospicesociety.ca/event/6804/2023-02-09/
LOCATION:BC
ATTACH;FMTTYPE=image/jpeg:https://seatoskyhospicesociety.ca/wp-content/uploads/2023/01/2023-02-Grief-and-Loss-Support-Group-Whistler-scaled.jpg
ORGANIZER;CN="Sea to Sky Hospice Society":MAILTO:info@seatoskyhospicesociety.ca
END:VEVENT
BEGIN:VEVENT
DTSTART;TZID=America/Los_Angeles:20230214T173000
DTEND;TZID=America/Los_Angeles:20230214T183000
DTSTAMP:20260425T144610
CREATED:20230103T000904Z
LAST-MODIFIED:20230103T000904Z
UID:10000220-1676395800-1676399400@seatoskyhospicesociety.ca
SUMMARY:Grief and Loss Conversations
DESCRIPTION:Grief and Loss Conversations; A weekly Drop-In group facilitated by trained Hospice Volunteers \nThese weekly one hour drop ins are free and open to community members grieving the loss of a loved one. Come join us in the cozy Squamish Public Library meeting room for a cup of tea and supportive conversation \nWhen:                   Tuesdays\, 5:30-6:30PM Jan 10 – Feb 14 \nWhere:                  Squamish Public Library cozy meeting room
URL:https://seatoskyhospicesociety.ca/event/grief-and-loss-conversations/2023-02-14/
LOCATION:BC
ATTACH;FMTTYPE=image/jpeg:https://seatoskyhospicesociety.ca/wp-content/uploads/2023/01/shutterstock_1455441614.jpg
ORGANIZER;CN="Sea to Sky Hospice Society":MAILTO:info@seatoskyhospicesociety.ca
END:VEVENT
BEGIN:VEVENT
DTSTART;TZID=America/Los_Angeles:20230215T103000
DTEND;TZID=America/Los_Angeles:20230215T113000
DTSTAMP:20260425T144610
CREATED:20230103T003124Z
LAST-MODIFIED:20230103T003124Z
UID:10000225-1676457000-1676460600@seatoskyhospicesociety.ca
SUMMARY:Online Grief & Loss Conversations:
DESCRIPTION:Join us on-line for a weekly Wednesday morning Grief & Loss Conversation “drop-in” group\, facilitated by trained Hospice Volunteers. \nWednesdays from 10:30 – 11:30AM \nStarting January 18th\, 2023 \nEnding Feb 22nd\, 2023 \nZoom Login: (will be provided once registration is completed) \nThis peer support group will have weekly themes for discussion\, and is a place for individuals to safely explore their grief and hear shared experiences of others travelling the journey of loss and grief. \nThese weekly one hour drop ins are free and open to residents of the Sea to Sky corridor grieving the loss of a loved one. \nPre-registration is required in order to receive the zoom link. \nFor more information or to preregister please contact Diana Gunstone at: diana.gunstone@seatoskyhospicesociety.ca
URL:https://seatoskyhospicesociety.ca/event/online-grief-loss-conversations/2023-02-15/
LOCATION:BC
ATTACH;FMTTYPE=image/jpeg:https://seatoskyhospicesociety.ca/wp-content/uploads/2023/01/Shutterstock_1714186504-3000-×-2200-scaled.jpg
ORGANIZER;CN="Sea to Sky Hospice Society":MAILTO:info@seatoskyhospicesociety.ca
END:VEVENT
BEGIN:VEVENT
DTSTART;TZID=America/Los_Angeles:20230216T100000
DTEND;TZID=America/Los_Angeles:20230216T110000
DTSTAMP:20260425T144610
CREATED:20230102T234400Z
LAST-MODIFIED:20230102T234400Z
UID:10000214-1676541600-1676545200@seatoskyhospicesociety.ca
SUMMARY:Squamish Drop in Bereavement Walk
DESCRIPTION:Weekly on Thursdays 10AM\, meeting at the stairs of the Squamish Adventure Centre \nStarting January 12th\, 2023 ending February 16th\, 2023 \nThis walks will happen rain or sun\, please come prepared. \nThese are drop in walks\, no preregistration is necessary and there is no cost to participate. \nFor more information please email Diana Gunstone at diana.gunstone@seatoskyhospicesociety.ca
URL:https://seatoskyhospicesociety.ca/event/squamish-drop-in-bereavement-walk/2023-02-16/
LOCATION:Squamish Adventure Centre\, 38551 Loggers Lane\, Squamish\, BC\, V8B 0H2\, Canada
ATTACH;FMTTYPE=image/jpeg:https://seatoskyhospicesociety.ca/wp-content/uploads/2023/01/shutterstock_45701632.jpg
ORGANIZER;CN="Sea to Sky Hospice Society":MAILTO:info@seatoskyhospicesociety.ca
END:VEVENT
BEGIN:VEVENT
DTSTART;TZID=America/Los_Angeles:20230216T173000
DTEND;TZID=America/Los_Angeles:20230216T183000
DTSTAMP:20260425T144610
CREATED:20230123T180331Z
LAST-MODIFIED:20230222T205904Z
UID:10000228-1676568600-1676572200@seatoskyhospicesociety.ca
SUMMARY:Whistler Drop in Grief and Loss Conversations
DESCRIPTION:Join us for our Drop in Grief and Loss Conversations. Beginning Thursday\, Feb. 9th from 5:30 until 6:30pm at the Whistler Public Library and running for 6 weeks through Thursday\, March 16th. Snacks and refreshments will be provided. These sessions are free to the public and there is no preregistration required. \nThis peer support group is a place for individuals to safely explore their own grief \, hear shared experiences of others on their loss journey\, and to find support within community.
URL:https://seatoskyhospicesociety.ca/event/6804/2023-02-16/
LOCATION:BC
ATTACH;FMTTYPE=image/jpeg:https://seatoskyhospicesociety.ca/wp-content/uploads/2023/01/2023-02-Grief-and-Loss-Support-Group-Whistler-scaled.jpg
ORGANIZER;CN="Sea to Sky Hospice Society":MAILTO:info@seatoskyhospicesociety.ca
END:VEVENT
BEGIN:VEVENT
DTSTART;TZID=America/Los_Angeles:20230222T103000
DTEND;TZID=America/Los_Angeles:20230222T113000
DTSTAMP:20260425T144610
CREATED:20230103T003124Z
LAST-MODIFIED:20230103T003124Z
UID:10000226-1677061800-1677065400@seatoskyhospicesociety.ca
SUMMARY:Online Grief & Loss Conversations:
DESCRIPTION:Join us on-line for a weekly Wednesday morning Grief & Loss Conversation “drop-in” group\, facilitated by trained Hospice Volunteers. \nWednesdays from 10:30 – 11:30AM \nStarting January 18th\, 2023 \nEnding Feb 22nd\, 2023 \nZoom Login: (will be provided once registration is completed) \nThis peer support group will have weekly themes for discussion\, and is a place for individuals to safely explore their grief and hear shared experiences of others travelling the journey of loss and grief. \nThese weekly one hour drop ins are free and open to residents of the Sea to Sky corridor grieving the loss of a loved one. \nPre-registration is required in order to receive the zoom link. \nFor more information or to preregister please contact Diana Gunstone at: diana.gunstone@seatoskyhospicesociety.ca
URL:https://seatoskyhospicesociety.ca/event/online-grief-loss-conversations/2023-02-22/
LOCATION:BC
ATTACH;FMTTYPE=image/jpeg:https://seatoskyhospicesociety.ca/wp-content/uploads/2023/01/Shutterstock_1714186504-3000-×-2200-scaled.jpg
ORGANIZER;CN="Sea to Sky Hospice Society":MAILTO:info@seatoskyhospicesociety.ca
END:VEVENT
BEGIN:VEVENT
DTSTART;TZID=America/Los_Angeles:20230223T173000
DTEND;TZID=America/Los_Angeles:20230223T183000
DTSTAMP:20260425T144610
CREATED:20230123T180331Z
LAST-MODIFIED:20230222T205904Z
UID:10000229-1677173400-1677177000@seatoskyhospicesociety.ca
SUMMARY:Whistler Drop in Grief and Loss Conversations
DESCRIPTION:Join us for our Drop in Grief and Loss Conversations. Beginning Thursday\, Feb. 9th from 5:30 until 6:30pm at the Whistler Public Library and running for 6 weeks through Thursday\, March 16th. Snacks and refreshments will be provided. These sessions are free to the public and there is no preregistration required. \nThis peer support group is a place for individuals to safely explore their own grief \, hear shared experiences of others on their loss journey\, and to find support within community.
URL:https://seatoskyhospicesociety.ca/event/6804/2023-02-23/
LOCATION:BC
ATTACH;FMTTYPE=image/jpeg:https://seatoskyhospicesociety.ca/wp-content/uploads/2023/01/2023-02-Grief-and-Loss-Support-Group-Whistler-scaled.jpg
ORGANIZER;CN="Sea to Sky Hospice Society":MAILTO:info@seatoskyhospicesociety.ca
END:VEVENT
END:VCALENDAR