BEGIN:VCALENDAR
VERSION:2.0
PRODID:-//Sea to Sky Hospice Society - ECPv6.15.12.2//NONSGML v1.0//EN
CALSCALE:GREGORIAN
METHOD:PUBLISH
X-ORIGINAL-URL:https://seatoskyhospicesociety.ca
X-WR-CALDESC:Events for Sea to Sky Hospice Society
REFRESH-INTERVAL;VALUE=DURATION:PT1H
X-Robots-Tag:noindex
X-PUBLISHED-TTL:PT1H
BEGIN:VTIMEZONE
TZID:America/Los_Angeles
BEGIN:DAYLIGHT
TZOFFSETFROM:-0800
TZOFFSETTO:-0700
TZNAME:PDT
DTSTART:20240310T100000
END:DAYLIGHT
BEGIN:STANDARD
TZOFFSETFROM:-0700
TZOFFSETTO:-0800
TZNAME:PST
DTSTART:20241103T090000
END:STANDARD
BEGIN:DAYLIGHT
TZOFFSETFROM:-0800
TZOFFSETTO:-0700
TZNAME:PDT
DTSTART:20250309T100000
END:DAYLIGHT
BEGIN:STANDARD
TZOFFSETFROM:-0700
TZOFFSETTO:-0800
TZNAME:PST
DTSTART:20251102T090000
END:STANDARD
BEGIN:DAYLIGHT
TZOFFSETFROM:-0800
TZOFFSETTO:-0700
TZNAME:PDT
DTSTART:20260308T100000
END:DAYLIGHT
BEGIN:STANDARD
TZOFFSETFROM:-0700
TZOFFSETTO:-0800
TZNAME:PST
DTSTART:20261101T090000
END:STANDARD
END:VTIMEZONE
BEGIN:VEVENT
DTSTART;TZID=America/Los_Angeles:20250618T190000
DTEND;TZID=America/Los_Angeles:20250618T203000
DTSTAMP:20260424T050725
CREATED:20250328T182643Z
LAST-MODIFIED:20250328T201510Z
UID:10001883-1750273200-1750278600@seatoskyhospicesociety.ca
SUMMARY:Whistler Library and Sea to Sky Hospice Summer Solstice Book Circle
DESCRIPTION:Join us for our Whistler Library and Sea to Sky Hospice Summer Solstice Book Circle \nFacilitated by Hospice Volunteers Karen Desmeules and Jennifer Leigh \nThere is such a wealth of writing around caregiving\, mortality\, grief and loss. In this casual discussion group\, we share our thoughts and experiences around these topics through the guidance of these books. For our Summer Solstice Book Circle\, we will discuss “When Breath Becomes Air\, by Paul Kalanathi”. Those experiencing grief or loss or facing serious illness themselves are encouraged to join us\, although everyone is welcome. Registration required. \nWednesday\, June 18th\, 7 – 8:30pm at the Whistler Public Library Fireside Lounge \nTo register or for questions\, please contact: publicservices@whistlerlibrary.ca.
URL:https://seatoskyhospicesociety.ca/event/whistler-library-and-sea-to-sky-hospice-summer-solstice-book-circle/
LOCATION:Whistler Public Library\, 4329 Main St\,\, Whistler\, BC\, V8E 1B2\, Canada
CATEGORIES:Educational
ATTACH;FMTTYPE=image/png:https://seatoskyhospicesociety.ca/wp-content/uploads/2025/03/feature-Whistler-Book-Circle.png
END:VEVENT
END:VCALENDAR