BEGIN:VCALENDAR
VERSION:2.0
PRODID:-//Sea to Sky Hospice Society - ECPv6.15.12.2//NONSGML v1.0//EN
CALSCALE:GREGORIAN
METHOD:PUBLISH
X-WR-CALNAME:Sea to Sky Hospice Society
X-ORIGINAL-URL:https://seatoskyhospicesociety.ca
X-WR-CALDESC:Events for Sea to Sky Hospice Society
REFRESH-INTERVAL;VALUE=DURATION:PT1H
X-Robots-Tag:noindex
X-PUBLISHED-TTL:PT1H
BEGIN:VTIMEZONE
TZID:America/Los_Angeles
BEGIN:DAYLIGHT
TZOFFSETFROM:-0800
TZOFFSETTO:-0700
TZNAME:PDT
DTSTART:20250309T100000
END:DAYLIGHT
BEGIN:STANDARD
TZOFFSETFROM:-0700
TZOFFSETTO:-0800
TZNAME:PST
DTSTART:20251102T090000
END:STANDARD
BEGIN:DAYLIGHT
TZOFFSETFROM:-0800
TZOFFSETTO:-0700
TZNAME:PDT
DTSTART:20260308T100000
END:DAYLIGHT
BEGIN:STANDARD
TZOFFSETFROM:-0700
TZOFFSETTO:-0800
TZNAME:PST
DTSTART:20261101T090000
END:STANDARD
BEGIN:DAYLIGHT
TZOFFSETFROM:-0800
TZOFFSETTO:-0700
TZNAME:PDT
DTSTART:20270314T100000
END:DAYLIGHT
BEGIN:STANDARD
TZOFFSETFROM:-0700
TZOFFSETTO:-0800
TZNAME:PST
DTSTART:20271107T090000
END:STANDARD
END:VTIMEZONE
BEGIN:VEVENT
DTSTART;TZID=America/Los_Angeles:20260319T183000
DTEND;TZID=America/Los_Angeles:20260319T200000
DTSTAMP:20260423T134530
CREATED:20260128T185254Z
LAST-MODIFIED:20260128T185254Z
UID:10002427-1773945000-1773950400@seatoskyhospicesociety.ca
SUMMARY:Spring Equinox Book Circle - Squamish
DESCRIPTION:This casual group gets together four times a year\, near each Solstice and Equinox\, to discuss books dealing with death\, dying\, grief and bereavement. Help destigmatize these topics by joining us\, and sharing your perspective in this welcoming space. \nBook Titles \n\nSome Bright Nowhere (Ann Packer). Some Bright Nowhere: Oprah’s Book Club: A Novel Called “Extraordinary” by Elin Hilderbrand: Packer\, Ann: 9780063421493: Amazon.com: Books\nThe Story of a Heart (Rachel Clarke). The Story of a Heart | Book by Rachel Clarke | Official Publisher Page | Simon & Schuste\n\nGather Bookshop is offering Book Circle participants 10% off for the books covered at each session.
URL:https://seatoskyhospicesociety.ca/event/spring-equinox-book-circle-squamish/
LOCATION:Gather\, Books & Lovely Things\, 38041 2nd Avenue\, Squamish\, BC\, V8B 0C3\, Canada
CATEGORIES:Compassionate Communities
ATTACH;FMTTYPE=image/png:https://seatoskyhospicesociety.ca/wp-content/uploads/2026/01/spring-book-circle-feature-image.png
ORGANIZER;CN="Sea to Sky Hospice Society":MAILTO:info@seatoskyhospicesociety.ca
END:VEVENT
END:VCALENDAR