BEGIN:VCALENDAR
VERSION:2.0
PRODID:-//Sea to Sky Hospice Society - ECPv6.15.12.2//NONSGML v1.0//EN
CALSCALE:GREGORIAN
METHOD:PUBLISH
X-WR-CALNAME:Sea to Sky Hospice Society
X-ORIGINAL-URL:https://seatoskyhospicesociety.ca
X-WR-CALDESC:Events for Sea to Sky Hospice Society
REFRESH-INTERVAL;VALUE=DURATION:PT1H
X-Robots-Tag:noindex
X-PUBLISHED-TTL:PT1H
BEGIN:VTIMEZONE
TZID:America/Los_Angeles
BEGIN:DAYLIGHT
TZOFFSETFROM:-0800
TZOFFSETTO:-0700
TZNAME:PDT
DTSTART:20230312T100000
END:DAYLIGHT
BEGIN:STANDARD
TZOFFSETFROM:-0700
TZOFFSETTO:-0800
TZNAME:PST
DTSTART:20231105T090000
END:STANDARD
BEGIN:DAYLIGHT
TZOFFSETFROM:-0800
TZOFFSETTO:-0700
TZNAME:PDT
DTSTART:20240310T100000
END:DAYLIGHT
BEGIN:STANDARD
TZOFFSETFROM:-0700
TZOFFSETTO:-0800
TZNAME:PST
DTSTART:20241103T090000
END:STANDARD
BEGIN:DAYLIGHT
TZOFFSETFROM:-0800
TZOFFSETTO:-0700
TZNAME:PDT
DTSTART:20250309T100000
END:DAYLIGHT
BEGIN:STANDARD
TZOFFSETFROM:-0700
TZOFFSETTO:-0800
TZNAME:PST
DTSTART:20251102T090000
END:STANDARD
END:VTIMEZONE
BEGIN:VEVENT
DTSTART;TZID=America/Los_Angeles:20240206T163000
DTEND;TZID=America/Los_Angeles:20240206T173000
DTSTAMP:20260425T034739
CREATED:20231219T202332Z
LAST-MODIFIED:20231230T033019Z
UID:10000730-1707237000-1707240600@seatoskyhospicesociety.ca
SUMMARY:Online Grief and Loss Support Group
DESCRIPTION:Whistler / Pemberton Sea to Sky Programs \nOnline Grief and Loss Support Group \nStarting Tuesday\, January 30th and running weekly through to Tuesday\, March 5th. \nJoin us from the comfort of your own space for an online grief and loss support group. \nThis volunteer facilitated\, peer support group is a place for individuals to safely explore their own grief\, share in the experiences of others\, and learn through their loss journey. Connect via Zoom and find support within a compassionate community. \nPreregister here: REGISTER HERE \n 
URL:https://seatoskyhospicesociety.ca/event/online-grief-and-loss-support-group/2024-02-06/
LOCATION:BC
CATEGORIES:Bereavement,Compassionate Communities
ATTACH;FMTTYPE=image/png:https://seatoskyhospicesociety.ca/wp-content/uploads/2023/12/online-grief-and-loss-group-1.png
ORGANIZER;CN="Sea to Sky Hospice Society":MAILTO:info@seatoskyhospicesociety.ca
END:VEVENT
BEGIN:VEVENT
DTSTART;TZID=America/Los_Angeles:20240213T163000
DTEND;TZID=America/Los_Angeles:20240213T173000
DTSTAMP:20260425T034739
CREATED:20231219T202332Z
LAST-MODIFIED:20231230T033019Z
UID:10000731-1707841800-1707845400@seatoskyhospicesociety.ca
SUMMARY:Online Grief and Loss Support Group
DESCRIPTION:Whistler / Pemberton Sea to Sky Programs \nOnline Grief and Loss Support Group \nStarting Tuesday\, January 30th and running weekly through to Tuesday\, March 5th. \nJoin us from the comfort of your own space for an online grief and loss support group. \nThis volunteer facilitated\, peer support group is a place for individuals to safely explore their own grief\, share in the experiences of others\, and learn through their loss journey. Connect via Zoom and find support within a compassionate community. \nPreregister here: REGISTER HERE \n 
URL:https://seatoskyhospicesociety.ca/event/online-grief-and-loss-support-group/2024-02-13/
LOCATION:BC
CATEGORIES:Bereavement,Compassionate Communities
ATTACH;FMTTYPE=image/png:https://seatoskyhospicesociety.ca/wp-content/uploads/2023/12/online-grief-and-loss-group-1.png
ORGANIZER;CN="Sea to Sky Hospice Society":MAILTO:info@seatoskyhospicesociety.ca
END:VEVENT
BEGIN:VEVENT
DTSTART;TZID=America/Los_Angeles:20240220T163000
DTEND;TZID=America/Los_Angeles:20240220T173000
DTSTAMP:20260425T034739
CREATED:20231219T202332Z
LAST-MODIFIED:20231230T033019Z
UID:10000732-1708446600-1708450200@seatoskyhospicesociety.ca
SUMMARY:Online Grief and Loss Support Group
DESCRIPTION:Whistler / Pemberton Sea to Sky Programs \nOnline Grief and Loss Support Group \nStarting Tuesday\, January 30th and running weekly through to Tuesday\, March 5th. \nJoin us from the comfort of your own space for an online grief and loss support group. \nThis volunteer facilitated\, peer support group is a place for individuals to safely explore their own grief\, share in the experiences of others\, and learn through their loss journey. Connect via Zoom and find support within a compassionate community. \nPreregister here: REGISTER HERE \n 
URL:https://seatoskyhospicesociety.ca/event/online-grief-and-loss-support-group/2024-02-20/
LOCATION:BC
CATEGORIES:Bereavement,Compassionate Communities
ATTACH;FMTTYPE=image/png:https://seatoskyhospicesociety.ca/wp-content/uploads/2023/12/online-grief-and-loss-group-1.png
ORGANIZER;CN="Sea to Sky Hospice Society":MAILTO:info@seatoskyhospicesociety.ca
END:VEVENT
BEGIN:VEVENT
DTSTART;TZID=America/Los_Angeles:20240227T163000
DTEND;TZID=America/Los_Angeles:20240227T173000
DTSTAMP:20260425T034739
CREATED:20231219T202332Z
LAST-MODIFIED:20231230T033019Z
UID:10000733-1709051400-1709055000@seatoskyhospicesociety.ca
SUMMARY:Online Grief and Loss Support Group
DESCRIPTION:Whistler / Pemberton Sea to Sky Programs \nOnline Grief and Loss Support Group \nStarting Tuesday\, January 30th and running weekly through to Tuesday\, March 5th. \nJoin us from the comfort of your own space for an online grief and loss support group. \nThis volunteer facilitated\, peer support group is a place for individuals to safely explore their own grief\, share in the experiences of others\, and learn through their loss journey. Connect via Zoom and find support within a compassionate community. \nPreregister here: REGISTER HERE \n 
URL:https://seatoskyhospicesociety.ca/event/online-grief-and-loss-support-group/2024-02-27/
LOCATION:BC
CATEGORIES:Bereavement,Compassionate Communities
ATTACH;FMTTYPE=image/png:https://seatoskyhospicesociety.ca/wp-content/uploads/2023/12/online-grief-and-loss-group-1.png
ORGANIZER;CN="Sea to Sky Hospice Society":MAILTO:info@seatoskyhospicesociety.ca
END:VEVENT
END:VCALENDAR