BEGIN:VCALENDAR
VERSION:2.0
PRODID:-//Sea to Sky Hospice Society - ECPv6.15.12.2//NONSGML v1.0//EN
CALSCALE:GREGORIAN
METHOD:PUBLISH
X-WR-CALNAME:Sea to Sky Hospice Society
X-ORIGINAL-URL:https://seatoskyhospicesociety.ca
X-WR-CALDESC:Events for Sea to Sky Hospice Society
REFRESH-INTERVAL;VALUE=DURATION:PT1H
X-Robots-Tag:noindex
X-PUBLISHED-TTL:PT1H
BEGIN:VTIMEZONE
TZID:America/Los_Angeles
BEGIN:DAYLIGHT
TZOFFSETFROM:-0800
TZOFFSETTO:-0700
TZNAME:PDT
DTSTART:20240310T100000
END:DAYLIGHT
BEGIN:STANDARD
TZOFFSETFROM:-0700
TZOFFSETTO:-0800
TZNAME:PST
DTSTART:20241103T090000
END:STANDARD
BEGIN:DAYLIGHT
TZOFFSETFROM:-0800
TZOFFSETTO:-0700
TZNAME:PDT
DTSTART:20250309T100000
END:DAYLIGHT
BEGIN:STANDARD
TZOFFSETFROM:-0700
TZOFFSETTO:-0800
TZNAME:PST
DTSTART:20251102T090000
END:STANDARD
BEGIN:DAYLIGHT
TZOFFSETFROM:-0800
TZOFFSETTO:-0700
TZNAME:PDT
DTSTART:20260308T100000
END:DAYLIGHT
BEGIN:STANDARD
TZOFFSETFROM:-0700
TZOFFSETTO:-0800
TZNAME:PST
DTSTART:20261101T090000
END:STANDARD
END:VTIMEZONE
BEGIN:VEVENT
DTSTART;TZID=America/Los_Angeles:20251002T130000
DTEND;TZID=America/Los_Angeles:20251002T143000
DTSTAMP:20260423T193039
CREATED:20250811T211858Z
LAST-MODIFIED:20250903T161858Z
UID:10002378-1759410000-1759415400@seatoskyhospicesociety.ca
SUMMARY:Whistler Walking Conversations for Grief and Loss
DESCRIPTION:Walking together on the beautiful trails that surround Whistler\, participants will experience a “Forest Bath” while sharing their grief journey in this peer support group\, co-facilitated by WCSS Outreach workers and Hospice Society Bereavement volunteers. Wherever you may be in your grief journey\, all are welcome and no registration is required.\n\nThursday afternoons from 1-2:30\, beginning September 18th\, until October 23rd. We will meet outside Alpine Cafe at 1pm. Coffee and chat to follow.
URL:https://seatoskyhospicesociety.ca/event/whistler-walking-conversations-for-grief-and-loss/2025-10-02/
CATEGORIES:Bereavement
ATTACH;FMTTYPE=image/png:https://seatoskyhospicesociety.ca/wp-content/uploads/2025/08/Screenshot-2025-09-03-at-9.17.31-AM.png
ORGANIZER;CN="Sea to Sky Hospice Society":MAILTO:info@seatoskyhospicesociety.ca
END:VEVENT
BEGIN:VEVENT
DTSTART;TZID=America/Los_Angeles:20251009T130000
DTEND;TZID=America/Los_Angeles:20251009T143000
DTSTAMP:20260423T193039
CREATED:20250811T211858Z
LAST-MODIFIED:20250903T161858Z
UID:10002379-1760014800-1760020200@seatoskyhospicesociety.ca
SUMMARY:Whistler Walking Conversations for Grief and Loss
DESCRIPTION:Walking together on the beautiful trails that surround Whistler\, participants will experience a “Forest Bath” while sharing their grief journey in this peer support group\, co-facilitated by WCSS Outreach workers and Hospice Society Bereavement volunteers. Wherever you may be in your grief journey\, all are welcome and no registration is required.\n\nThursday afternoons from 1-2:30\, beginning September 18th\, until October 23rd. We will meet outside Alpine Cafe at 1pm. Coffee and chat to follow.
URL:https://seatoskyhospicesociety.ca/event/whistler-walking-conversations-for-grief-and-loss/2025-10-09/
CATEGORIES:Bereavement
ATTACH;FMTTYPE=image/png:https://seatoskyhospicesociety.ca/wp-content/uploads/2025/08/Screenshot-2025-09-03-at-9.17.31-AM.png
ORGANIZER;CN="Sea to Sky Hospice Society":MAILTO:info@seatoskyhospicesociety.ca
END:VEVENT
BEGIN:VEVENT
DTSTART;TZID=America/Los_Angeles:20251016T130000
DTEND;TZID=America/Los_Angeles:20251016T143000
DTSTAMP:20260423T193039
CREATED:20250811T211858Z
LAST-MODIFIED:20250903T161858Z
UID:10002380-1760619600-1760625000@seatoskyhospicesociety.ca
SUMMARY:Whistler Walking Conversations for Grief and Loss
DESCRIPTION:Walking together on the beautiful trails that surround Whistler\, participants will experience a “Forest Bath” while sharing their grief journey in this peer support group\, co-facilitated by WCSS Outreach workers and Hospice Society Bereavement volunteers. Wherever you may be in your grief journey\, all are welcome and no registration is required.\n\nThursday afternoons from 1-2:30\, beginning September 18th\, until October 23rd. We will meet outside Alpine Cafe at 1pm. Coffee and chat to follow.
URL:https://seatoskyhospicesociety.ca/event/whistler-walking-conversations-for-grief-and-loss/2025-10-16/
CATEGORIES:Bereavement
ATTACH;FMTTYPE=image/png:https://seatoskyhospicesociety.ca/wp-content/uploads/2025/08/Screenshot-2025-09-03-at-9.17.31-AM.png
ORGANIZER;CN="Sea to Sky Hospice Society":MAILTO:info@seatoskyhospicesociety.ca
END:VEVENT
BEGIN:VEVENT
DTSTART;TZID=America/Los_Angeles:20251023T130000
DTEND;TZID=America/Los_Angeles:20251023T143000
DTSTAMP:20260423T193039
CREATED:20250811T211858Z
LAST-MODIFIED:20250903T161858Z
UID:10002381-1761224400-1761229800@seatoskyhospicesociety.ca
SUMMARY:Whistler Walking Conversations for Grief and Loss
DESCRIPTION:Walking together on the beautiful trails that surround Whistler\, participants will experience a “Forest Bath” while sharing their grief journey in this peer support group\, co-facilitated by WCSS Outreach workers and Hospice Society Bereavement volunteers. Wherever you may be in your grief journey\, all are welcome and no registration is required.\n\nThursday afternoons from 1-2:30\, beginning September 18th\, until October 23rd. We will meet outside Alpine Cafe at 1pm. Coffee and chat to follow.
URL:https://seatoskyhospicesociety.ca/event/whistler-walking-conversations-for-grief-and-loss/2025-10-23/
CATEGORIES:Bereavement
ATTACH;FMTTYPE=image/png:https://seatoskyhospicesociety.ca/wp-content/uploads/2025/08/Screenshot-2025-09-03-at-9.17.31-AM.png
ORGANIZER;CN="Sea to Sky Hospice Society":MAILTO:info@seatoskyhospicesociety.ca
END:VEVENT
END:VCALENDAR