BEGIN:VCALENDAR
VERSION:2.0
PRODID:-//Sea to Sky Hospice Society - ECPv6.15.12.2//NONSGML v1.0//EN
CALSCALE:GREGORIAN
METHOD:PUBLISH
X-ORIGINAL-URL:https://seatoskyhospicesociety.ca
X-WR-CALDESC:Events for Sea to Sky Hospice Society
REFRESH-INTERVAL;VALUE=DURATION:PT1H
X-Robots-Tag:noindex
X-PUBLISHED-TTL:PT1H
BEGIN:VTIMEZONE
TZID:America/Los_Angeles
BEGIN:DAYLIGHT
TZOFFSETFROM:-0800
TZOFFSETTO:-0700
TZNAME:PDT
DTSTART:20230312T100000
END:DAYLIGHT
BEGIN:STANDARD
TZOFFSETFROM:-0700
TZOFFSETTO:-0800
TZNAME:PST
DTSTART:20231105T090000
END:STANDARD
BEGIN:DAYLIGHT
TZOFFSETFROM:-0800
TZOFFSETTO:-0700
TZNAME:PDT
DTSTART:20240310T100000
END:DAYLIGHT
BEGIN:STANDARD
TZOFFSETFROM:-0700
TZOFFSETTO:-0800
TZNAME:PST
DTSTART:20241103T090000
END:STANDARD
BEGIN:DAYLIGHT
TZOFFSETFROM:-0800
TZOFFSETTO:-0700
TZNAME:PDT
DTSTART:20250309T100000
END:DAYLIGHT
BEGIN:STANDARD
TZOFFSETFROM:-0700
TZOFFSETTO:-0800
TZNAME:PST
DTSTART:20251102T090000
END:STANDARD
END:VTIMEZONE
BEGIN:VEVENT
DTSTART;TZID=America/Los_Angeles:20240501T183000
DTEND;TZID=America/Los_Angeles:20240501T203000
DTSTAMP:20260424T210021
CREATED:20240214T195152Z
LAST-MODIFIED:20240223T001149Z
UID:10000747-1714588200-1714595400@seatoskyhospicesociety.ca
SUMMARY:Grief and Loss Art Therapy
DESCRIPTION:Join us for our Grief and Loss Art Therapy workshop series. \nThis 4 week program is for adults anticipating or grieving the loss of a loved one. When there are no words\, art and creative expression may be supportive. \nNo previous art experience necessary! \nRegistration is required\, (no drop-ins) \n6:30 – 8:30 pm\, April 17th – May 8th. \n55 Activity Centre \nFacilitated by volunteers – (Art Therapist Student and Sea to Sky Hospice Society Volunteer) \nTo register please click here: REGISTER HERE \nFor more information\, please email Bereavement@seatoskyhospicesociety.ca
URL:https://seatoskyhospicesociety.ca/event/grief-and-loss-art-therapy/2024-05-01/
LOCATION:55 Activity Centre\, 1201 Village Way\, Squamish\, BC\, V8B 0R7\, Canada
CATEGORIES:Bereavement
ATTACH;FMTTYPE=image/jpeg:https://seatoskyhospicesociety.ca/wp-content/uploads/2024/02/Web-Feature-Image-crop-bottom-off-3-e1708021251639.jpg
ORGANIZER;CN="Sea to Sky Hospice Society":MAILTO:info@seatoskyhospicesociety.ca
END:VEVENT
BEGIN:VEVENT
DTSTART;TZID=America/Los_Angeles:20240508T183000
DTEND;TZID=America/Los_Angeles:20240508T203000
DTSTAMP:20260424T210021
CREATED:20240214T195152Z
LAST-MODIFIED:20240223T001149Z
UID:10000748-1715193000-1715200200@seatoskyhospicesociety.ca
SUMMARY:Grief and Loss Art Therapy
DESCRIPTION:Join us for our Grief and Loss Art Therapy workshop series. \nThis 4 week program is for adults anticipating or grieving the loss of a loved one. When there are no words\, art and creative expression may be supportive. \nNo previous art experience necessary! \nRegistration is required\, (no drop-ins) \n6:30 – 8:30 pm\, April 17th – May 8th. \n55 Activity Centre \nFacilitated by volunteers – (Art Therapist Student and Sea to Sky Hospice Society Volunteer) \nTo register please click here: REGISTER HERE \nFor more information\, please email Bereavement@seatoskyhospicesociety.ca
URL:https://seatoskyhospicesociety.ca/event/grief-and-loss-art-therapy/2024-05-08/
LOCATION:55 Activity Centre\, 1201 Village Way\, Squamish\, BC\, V8B 0R7\, Canada
CATEGORIES:Bereavement
ATTACH;FMTTYPE=image/jpeg:https://seatoskyhospicesociety.ca/wp-content/uploads/2024/02/Web-Feature-Image-crop-bottom-off-3-e1708021251639.jpg
ORGANIZER;CN="Sea to Sky Hospice Society":MAILTO:info@seatoskyhospicesociety.ca
END:VEVENT
END:VCALENDAR